BEGIN:VCALENDAR
VERSION:2.0
PRODID:-//FADLA - ECPv6.15.20//NONSGML v1.0//EN
CALSCALE:GREGORIAN
METHOD:PUBLISH
X-ORIGINAL-URL:https://fadla.org
X-WR-CALDESC:Eventos para FADLA
REFRESH-INTERVAL;VALUE=DURATION:PT1H
X-Robots-Tag:noindex
X-PUBLISHED-TTL:PT1H
BEGIN:VTIMEZONE
TZID:America/Sao_Paulo
BEGIN:STANDARD
TZOFFSETFROM:-0200
TZOFFSETTO:-0300
TZNAME:-03
DTSTART:20140216T020000
END:STANDARD
BEGIN:DAYLIGHT
TZOFFSETFROM:-0300
TZOFFSETTO:-0200
TZNAME:-02
DTSTART:20141019T030000
END:DAYLIGHT
BEGIN:STANDARD
TZOFFSETFROM:-0200
TZOFFSETTO:-0300
TZNAME:-03
DTSTART:20150222T020000
END:STANDARD
BEGIN:DAYLIGHT
TZOFFSETFROM:-0300
TZOFFSETTO:-0200
TZNAME:-02
DTSTART:20151018T030000
END:DAYLIGHT
BEGIN:STANDARD
TZOFFSETFROM:-0200
TZOFFSETTO:-0300
TZNAME:-03
DTSTART:20160221T020000
END:STANDARD
BEGIN:DAYLIGHT
TZOFFSETFROM:-0300
TZOFFSETTO:-0200
TZNAME:-02
DTSTART:20161016T030000
END:DAYLIGHT
BEGIN:STANDARD
TZOFFSETFROM:-0200
TZOFFSETTO:-0300
TZNAME:-03
DTSTART:20170219T020000
END:STANDARD
BEGIN:DAYLIGHT
TZOFFSETFROM:-0300
TZOFFSETTO:-0200
TZNAME:-02
DTSTART:20171015T030000
END:DAYLIGHT
BEGIN:STANDARD
TZOFFSETFROM:-0200
TZOFFSETTO:-0300
TZNAME:-03
DTSTART:20180218T020000
END:STANDARD
BEGIN:DAYLIGHT
TZOFFSETFROM:-0300
TZOFFSETTO:-0200
TZNAME:-02
DTSTART:20181104T030000
END:DAYLIGHT
BEGIN:STANDARD
TZOFFSETFROM:-0200
TZOFFSETTO:-0300
TZNAME:-03
DTSTART:20190217T020000
END:STANDARD
END:VTIMEZONE
BEGIN:VEVENT
DTSTART;VALUE=DATE:20150124
DTEND;VALUE=DATE:20180801
DTSTAMP:20260425T010013
CREATED:20230120T221332Z
LAST-MODIFIED:20230120T221934Z
UID:34280-1422057600-1533081599@fadla.org
SUMMARY:Samson Flexor: Traçados e Abstrações
DESCRIPTION:La exposición Samson Flexor: Traçados e Abstrações es una presentación de la producción del artista\, con énfasis en la abstracción geométrica\, con obras de 1948 a 1960. \nLos dibujos indican relaciones evidentes en el propio camino de Flexor y\, por ello\, el título de la exposición nació de la observación de este segmento que\, a través de muchas apariciones de su pensamiento\, multiplicó formas\, planos y espacios en diagramas que se proyectaron en muchos otros.\n \nLas líneas y las abstracciones resultantes constituyen la esencia misma de la estética abstracto-constructiva-expresiva del artista\, especialmente cuando dirigió el “Abstraction Ateliê” a partir de 1951. \nLos dibujos a lápiz grafito y tinta china nos muestran un recorte de la obra en el estudio\, permitiendo el contacto con lo que\, normalmente\, está a la sombra del público. \nSu observación nos lleva a darnos cuenta de que el arte es el resultado de un trabajo minucioso\, de la dedicación al ejercicio de hacer y\, sobre todo\, de una búsqueda constante de un lenguaje que se desarrolla en el tiempo.\n \nFinalmente\, cabe señalar que Samson Flexor: Traçados e Abstractações puede componer\, para los visitantes de la exposición\, un panorama de la obra del artista.  \nWalter Zanini lo definió como “una búsqueda del ordenamiento calculado de formas y colores\, con una atención incesante al movimiento que llega a su clímax en lienzos con múltiples polos de fuga\, con espacios que emergen y retroceden y que\, luego\, abordan de forma gestual pintura para desarrollar una figuración rigurosa y sistemática de su plástica”.                                                                                                                    Carmen S. G. Aranha – Curadora
URL:https://fadla.org/calendario/samson-flexor-tracados-e-abstracoes/
LOCATION:Museu de Arte Contemporânea da Universidade de São Paulo (MAC USP) – MAC Ibirapuera\, Pavilhão Ciccillo Matarazzo\, 3° piso Parque Ibirapuera\, São Paulo\, Brasil
ATTACH;FMTTYPE=image/jpeg:https://fadla.org/wp-content/uploads/2023/01/Samson.jpg
END:VEVENT
BEGIN:VEVENT
DTSTART;VALUE=DATE:20150902
DTEND;VALUE=DATE:20171201
DTSTAMP:20260425T010013
CREATED:20230727T192258Z
LAST-MODIFIED:20230727T192258Z
UID:35247-1441152000-1512086399@fadla.org
SUMMARY:Débora Arango. La vida con toda su fuerza admirable.
DESCRIPTION:En esta exposición\, que retrata la vida con toda su fuerza admirable\, como Arango la describiría\, las obras se agrupan en temas que atraviesan su trayectoria de manera transversal y que dan cuenta de las preocupaciones fundamentales en su vida y obra. Desnudos\, el placer\, la religión\, la mujer y la sociedad\, contexto político\, y el retrato fueron algunos de los temas que informaron su producción artística y su visión de la vida y el entorno. \nDébora Arango nació en Medellín a comienzos del siglo pasado. La pintora antioqueña trabajó y experimentó durante su polémica carrera con la acuarela\, el óleo y la cerámica. Fue alumna del maestro Eladio Vélez\, reconocido acuarelista de la ciudad\, y del muralista antioqueño Pedro Nel Gómez\, de quien heredó su pasión final por la pintura en gran formato y por la pintura al fresco\, técnicas que sin embargo nunca aplicó debido a las limitaciones a las que estaban sujetas las mujeres de su época. Es a Gómez a quien la pintora reconocerá como su gran maestro. \n\n\nCuraduría: Emiliano Valdés \nDel 02 de septiembre 2015 al 30 de septiembre del 2017
URL:https://fadla.org/calendario/debora-arango-la-vida-con-toda-su-fuerza-admirable/
LOCATION:Museo de Arte Moderno de Medellin\, Ciudad Del Río · Carrera 44 N° 19A-100\, Medellín\, Colombia
ATTACH;FMTTYPE=image/jpeg:https://fadla.org/wp-content/uploads/2023/07/debora-Esquizofrenia-en-el-manicomio.jpeg
END:VEVENT
BEGIN:VEVENT
DTSTART;VALUE=DATE:20150916
DTEND;VALUE=DATE:20151015
DTSTAMP:20260425T010013
CREATED:20190126T114312Z
LAST-MODIFIED:20190126T114312Z
UID:25202-1442361600-1444867199@fadla.org
SUMMARY:ANTOLOGIA
DESCRIPTION:Silvina Baz \nPertenece a la categoría de artistas que nunca dejan de indagar. En vez de acomodarse en lo que conoce\, busca incesantemente renovarse\, investigar\, explorar en la imagen\, en las formas\, en las técnicas. Eso hace que pasee con la misma tranquilidad por la pintura\, la fotografía o el grabado\, porque las diferentes técnicas se transforman en maneras distintas de expresar aquello que le interesa. \nTrabaja por series\, porque al igual que en las técnicas\, en las temáticas también investiga hasta el agotamiento de cada contenido\, hasta haber exprimido y sacado todo lo que tenía para decir. El arte para Silvina Baz es una manera de presentar sus obsesiones\, sus convicciones\, su manera de ver. \nEn esta muestra en particular\, muestra su sólida faceta de grabadora. Y no es una elección menor: Lucien Freud decía grabar es como dibujar\, pero con un misterio y peligro añadidos que estimulan. \nSilvina se enfrenta al estímulo de este desafío con la misma energía con que emprende todo en su vida. Desde el corazòn\, desde la autenticidad. \nFlorencia Salas. \n+ INFO
URL:https://fadla.org/calendario/antologia/
LOCATION:UNlaM\, Florencio Varela 1903\, San Justo\, Buenos Aires\, Argentina
CATEGORIES:Calendario
ATTACH;FMTTYPE=image/jpeg:https://fadla.org/wp-content/uploads/2019/01/ev_126_afiche-en-baja.jpg
END:VEVENT
BEGIN:VEVENT
DTSTART;VALUE=DATE:20150919
DTEND;VALUE=DATE:20151102
DTSTAMP:20260425T010013
CREATED:20200406T134154Z
LAST-MODIFIED:20200406T134528Z
UID:27556-1442620800-1446422399@fadla.org
SUMMARY:“Grupo de París”
DESCRIPTION:Esta muestra apunta a dar a conocer de modo integral la obra de aquellos importantes referentes del arte argentino y su actividad en París durante los años ´20. No solo atiende a la trayectoria artística\, sino también\, de manera particular\, a los modos en que esos artistas se vincularon entre ellos y con el ambiente cultural europeo para poner en relieve los aportes que sumaron en su retorno a Buenos Aires. En ese sentido\, se pretende abordar el fenómeno del “viaje estético” como uno de los aspectos más observados en las nuevas perspectivas de los actuales estudios culturales\, ofreciendo un conocimiento actualizado del Grupo de París. Se parte de una investigación llevada a cabo hace unos años para el Centro Virtual de Arte Argentino\, conjugada ahora con avances más recientes derivados del acceso a fondos documentales y obras existentes en la localidad de Worpswede\, Alemania. \n“Horacio Butler\, Héctor Basaldúa\, Aquiles Badi\, Raquel Forner\, Alfredo Bigatti\, Pedro Domínguez Neira\, Antonio Berni\, Lino E. Spilimbergo\, Víctor Pissarro\, Juan Del Prete y Alberto Morera fueron los jóvenes protagonistas de una aventura donde el espíritu de lo nuevo convivió con la tradición para articular la conciliación entre el pasado y el presente” \nCabe destacar que para la concreción de esta exposición\, declarada “De Interés Cultural” por el Consejo de Promoción Cultural\, resultó fundamental la acción del Programa de Mecenazgo Cultural de Buenos Aires Ciudad y la gestión de la Asociación Amigos del Museo Sívori\, así como el apoyo y la invaluable colaboración de la Dirección General de Museos y del Ministerio de Cultura de la Ciudad. \nPrimera exposición sobre los artistas que integraron el colectivo conocido como “Grupo de París”. Con curaduría de María Elena Babino y producción general de Graciela Limardo.\nDel 19 de septiembre al 1º de noviembre de 2015. \n+ INFO
URL:https://fadla.org/calendario/grupo-de-paris/
LOCATION:Museo Sívori\, Paseo de la Infanta Isabel – Palermo\, CABA\, CABA\, Argentina
CATEGORIES:Calendario
ATTACH;FMTTYPE=image/jpeg:https://fadla.org/wp-content/uploads/2020/04/Rescostado-Marechal-sentado-a-la-izq.-Morera-de-pie-frente-a-caballetes-Badi-Forner-y-Butler-Sanary-1930.-ANBA.jpg
END:VEVENT
BEGIN:VEVENT
DTSTART;VALUE=DATE:20150924
DTEND;VALUE=DATE:20151017
DTSTAMP:20260425T010013
CREATED:20231031T191439Z
LAST-MODIFIED:20231031T191952Z
UID:36141-1443052800-1445039999@fadla.org
SUMMARY:Carlos Gómez Centurión - El oro de América
DESCRIPTION:Daniel Rueda Galería de Arte presenta una muestra individual de Carlos Gómez Centurión \nEl reconocido arquitecto y artista Carlos Gómez Centurión\, integrante del staff de Galería Rubbers Internacional  compartirá -con presencia del autor- obras de sus series “El oro de América” y “del Silencio”.\nEs el mismo Gómez Centurión quien expresa que considera a la pintura como un modo de pensar el mundo\, un modo de pensarse a uno mismo.  Que si en la ejecución de la obra de arte\, puedes concentrarte en tu hacer\, seguramente digas algo del orden de lo universal. En este caso\, es concretamente donde interpreta estar perdido en la inmensidad\, en el sentido de finitud y el sentido de tu escala mínima en el universo.\n\nCon técnicas mixtas sobre tela en la serie “El oro de América” y con un uso exquisito en acrílico y tinta sobre telas y cartulinas en la serie “del Silencio”\, ratifican al artista en su compromiso con la región cuyana a través en su obra pictórica.\nNacido en San Juan\, Argentina\, Gómez Centurión residió en Buenos Aires entre 1970 y 1982. En 1988 residió en la Citè  Internationale des Arts en París donde realizó su primer exposición individual. Actualmente vive y trabaja en San Juan\, Argentina.\nDurante la década del 90 y hasta inicios de la actual\, su trabajo se concentró fuertemente en el universo de la mitología americana. Fue miembro fundador del grupo El Mito Real.\n\n\nActualmente trabaja en el proyecto llamado “Digo la Cordillera”. Es un registro   multidisciplinario sobre los Andes desde Jujuy hasta Santa Cruz y cuenta  con la participación de un cineasta\, un sonidista\, un semiólogo\, un poeta\, un ingeniero en minas y un crítico de arte\,  además del pintor.\nLa primera etapa fue presentada en el Centro Cultural Recoleta de Buenos Aires en 2004. La segunda y tercera etapa -«Digo la Cordillera\, el viaje como obra»- fue presentada en el Palais de Glace de Buenos Aires en el año 2012 con curaduría de Fernando Farina\, quien participó en los últimos viajes a la alta cordillera.\nLuego fue expuesta en el Museo de Arte Moderno de Mendoza\, en el Museo de Bellas Artes de Salta\, en el Museo Castagnino de Rosario\, en el Museo Caraffa de Córdoba\, en el Palacio Duhau de Buenos Aires y en el Museo de Bellas Artes Franklin Rawson de San Juan.\n\nCarlos Gómez Centurión tiene una significativa trayectoria: Ha realizado  diversas exposiciones en Argentina y en el exterior: Buenos Aires\, Rosario\, Córdoba\, Tandil\, Tucumán\, Salta\, Ushuaia\, Mendoza\, San Juan\,  San Luis y\,  en París\, Santiago de Chile\, Guayaquil y Quito\, entre otras.\nHa sido jurado de premios de pintura en varias ocasiones en Argentina\, Chile y Ecuador. Recientemente fue designado jurado del Festival Internacional de Cine Unasur.\n\nLa exposición se puede visitar desde el 24 de setiembre al 16 de octubre en Daniel Rueda Galería de Arte ubicada en The Plaza Business\, Montevideo 230\, piso 8\, oficina 4\, Ciudad de Mendoza. Visitas con cita previa a: info@danielrueda.com.ar | Celular +54 (9) 261 (15) 4 166590.
URL:https://fadla.org/calendario/el-oro-de-america/
LOCATION:Salta.
ATTACH;FMTTYPE=image/jpeg:https://fadla.org/wp-content/uploads/2023/10/Carlos-Gomez-Centurion-en-Daniel-Rueda-El-oro-de-America-Cerro-Matoso.jpg
END:VEVENT
BEGIN:VEVENT
DTSTART;VALUE=DATE:20150924
DTEND;VALUE=DATE:20151026
DTSTAMP:20260425T010013
CREATED:20231031T194018Z
LAST-MODIFIED:20231031T194018Z
UID:36147-1443052800-1445817599@fadla.org
SUMMARY:Julio Le Parc “Esfera Azul”
DESCRIPTION:El Centro Cultural Kirchner celebra la trayectoria del artista mendocino Julio Le Parc con un homenaje que tendrá lugar mañana a las 17\, en el Hall Central del antiguo correo central\, donde se emplazará la obra «Esfera azul”\, emblemática y representativa de su trayectoria artística. \nPionero del arte cinético\, su trabajo posee un magnetismo que provoca que uno no pueda quitar la vista de encima: la esfera se forma con cientos de pequeños cuadrados de acrílico de color azul\, que penden de un hilo\, que giran en el lugar y crean efectos ópticos\, el gran motor que alentó sus búsquedas estéticas. \nSegún la descripción del propio artista\, «los cuadrados se suspenden en el aire mediante un finísimo hilo de nylon\, de manera que pueden tomar cualquier posición\, dando vueltas cada uno independientemente. Sus posiciones posibles son indeterminables\, volviéndose su movimiento más cauto o más rápido según la fuerza del aire\, y la iluminación asimismo se modifica según el ángulo de incidencia de la luz\, variable con dicho movimiento». \nLa presentación al público de esta emblemática esfera se enmarca en el ciclo «Homenajes» del CCK a artistas argentinos consagrados y en paralelo en el Auditorio 513 del edificio de Sarmiento 151 se realizará una proyección de cortos sobre exposiciones sobresalientes de Le Parc: “Le Parc Lumière”\, “Biennale de París” y “Di Tella”. \n“Las primeras experiencias que hice con elementos móviles partían de las cajas luminosas\, y se realizaron a comienzos del año 1960. Estaban destinadas a servir como una suerte de diafragmas que modificaban sus formas según su posición\, dejando pasar más o menos cantidad de luz. Me di cuenta\, casi de inmediato\, que con ellas podía experimentar\, de forma independiente\, los mismos problemas que me preocupaban en aquel momento. Es decir\, la múltiple variedad de situaciones en una misma experiencia»\, cuenta el artista. \nLa producción exhibida en el CCK prolonga y reformula las búsquedas de entonces\, con sus continuels-mobils trabajos cuya propuesta estaba centrada en “combatir la pasividad\, la dependencia\, el condicionamiento ideológico\, desarrollando en la medida de lo posible la capacidad latente de reflexión\, de comparación\, de análisis\, de creación\, de acción” en los espectadores. \nRadicado desde 1958 en la ciudad francesa de París\, Le Parc mantiene una activa participación en el circuito artístico argentino y latinoamericano y llegó a la Argentina para participar del homenaje en el antiguo palacio de Correos\, para asistir luego\, en calidad de invitado de honor\, a la Bienal Internacional de Curitiba 2015\, cuya edición actual\, del 3 al 6 de octubre\, estará dedicada a la relación entre la luz y el arte. \nDesde fines de la década del 50 Julio Le Parc (Mendoza\, 1928) ha llevado adelante obras basadas en las relaciones entre espacio\, materia\, luz y movimiento. Su trabajo apunta a provocar los modos convencionales de la percepción\, formulando un planteo dinámico de las formas en su relación con el entorno y la mirada. \nLe Parc fue co-fundador en 1960 del GRAV – Grupo de investigación de Arte Visual; y ha ensayado desde entonces distintas exploraciones geométricas y cinéticas operando con la luz\, los nuevos materiales y la inclusión de nuevas tecnologías para la producción visual\, buscando generar experiencias que modifiquen el sitio del espectador. \nComo representante de nuestro país\, fue ganador del premio mayor otorgado en la XXXIIIº Bienal de Venecia. \nTambién ha sido protagonista de algunas de las más impactantes y exitosas exposiciones en Buenos Aires: por ejemplo\, su muestra individual en el Centro de Artes Visuales del Instituto Torcuato Di Tella en 1966 fue la que más público convocó en toda la historia de esa renombrada institución.
URL:https://fadla.org/calendario/julio-le-parc-esfera-azul/
LOCATION:CCK\, Sarmiento 151\, CABA\, Argentina
ATTACH;FMTTYPE=image/jpeg:https://fadla.org/wp-content/uploads/2023/10/Julio-Le-Parc-Esfera-Azul-CCK.jpeg
END:VEVENT
BEGIN:VEVENT
DTSTART;VALUE=DATE:20151006
DTEND;VALUE=DATE:20151123
DTSTAMP:20260425T010013
CREATED:20220408T103123Z
LAST-MODIFIED:20220408T103123Z
UID:33703-1444089600-1448236799@fadla.org
SUMMARY:"Pérez Celis\, Testimonio Americano"
DESCRIPTION:Declarada de interés de la Honorable Cámara la muestra «Pérez Celis\, Testimonio Americano» del reconocido artista plástico Pérez Celis.\n​​ \nEl Museo Nacional de Bellas Artes presenta «Pérez Celis\, testimonio americano»\, una exposición que rastrea la impronta americana que este artista imprimió en su poética; por esta razón\, aunque presenta más de setenta obras de diferentes períodos\, no se trata de una exhibición retrospectiva. Puede visitarse del 7 de octubre al 22 de noviembre. \nPérez Celis fue un viajero incansable y se estableció en diferentes países: en 1959 vivió en Montevideo\, en 1963 se instaló casi dos años en Lima –desde allí llegó al Cuzco y Machu Picchu– y después fue un asiduo visitante de los campos de Quemú Quemú\, en la provincia argentina de La Pampa. Sin perder su asiento en Buenos Aires\, más tarde\, vivió en Caracas\, París\, Nueva York y\, finalmente\, en Miami. Con un particular acento americano\, su sensibilidad interpretó cada uno de estos escenarios\, y de todos supo llevarse algún signo emblemático. \nEl guión curatorial está organizado en seis núcleos que muestran las transformaciones desde su temprano período vasarelyano al acercamiento a las raíces americanas\, sea a través de su simbología\, la particular expresión del horizonte pampeano y las tradiciones que lo habitaron\, el contacto con la luz caribeña y su mestizaje cultural\, la recuperación de la función expresiva del oro y la plata entre los incas\, mayas y aztecas o el gesto libre\, con el que interpretó su tiempo y puso en obra la espiritualidad de los pueblos americanos. \nEn consecuencia\, «Pérez Celis\, testimonio americano» es una muestra que pone en foco la fuerza que adquirió ese particular vínculo identitario expresado a través del gesto\, la materia y el color. El guión curatorial prioriza su trabajo sobre el vocabulario plástico\, así como sobre su vocación por instalar la producción artística en la vida cotidiana mediante la importancia que le otorgó al arte público y a la obra múltiple (tapices\, grabados\, ilustraciones de libros\, diseños\, etc.). \nEsta exposición\, que cuenta con el apoyo de la Asociación Amigos del MNBA\, será acompañada con la edición de un catálogo que incluye ensayos de Cristina Rossi (tambièn curadora de la muestra)\, José Emilio Burucúa y Sandra Szir\, una cronología documentada e ilustrada por Milena Yolis y la reproducción de toda la obra exhibida. El MNBA ofrecerá visitas guiadas especialmente diseñadas para adultos y para niños. \n«Pérez Celis\, testimonio americano» fue declarada de interés por la Honorable Cámara de Diputados de la Nación. \nHorarios:\nDe martes a viernes de 12.30 a 20.30\, y los sábados y domingos de 9.30 a 20.30.
URL:https://fadla.org/calendario/perez-celis-testimonio-americano-2/
LOCATION:Museo Nacional de Bellas Artes – Pabellón de exhibiciones temporarias\, Av. del Libertador 1473\, CABA\, Argentina
ATTACH;FMTTYPE=image/jpeg:https://fadla.org/wp-content/uploads/2022/04/Perez-Celis-Vuelo-al-Sol-1980.jpg
END:VEVENT
BEGIN:VEVENT
DTSTART;VALUE=DATE:20151008
DTEND;VALUE=DATE:20151101
DTSTAMP:20260425T010013
CREATED:20240320T095835Z
LAST-MODIFIED:20240320T095835Z
UID:37014-1444262400-1446335999@fadla.org
SUMMARY:Víctor Chab Obras 2011-2015
DESCRIPTION:La galería Hoy en el Arte está presentando “Victor Chab. Obras 2011-2015” hasta el 31 de Octubre de 2015.\nLa muestra se puede visitar de lunes a viernes de 12 a 20 hs. y los sábados de 11 a 14 hs. \nInauguración: Jueves 8 de Octubre de 2015\, 19hs  \nClausura: 31 de Octubre \nHoy en el Arte\, Juncal 848. CABA
URL:https://fadla.org/calendario/victor-chab-obras-2011-2015/
LOCATION:Galeria Hoy en el Arte\, Juncal 848\, CABA\, Argentina
ATTACH;FMTTYPE=image/jpeg:https://fadla.org/wp-content/uploads/2024/03/1201-7460_785609398234367_7654858648957062412_o.jpeg
END:VEVENT
BEGIN:VEVENT
DTSTART;VALUE=DATE:20151011
DTEND;VALUE=DATE:20151208
DTSTAMP:20260425T010013
CREATED:20201126T212312Z
LAST-MODIFIED:20201126T212312Z
UID:31658-1444521600-1449532799@fadla.org
SUMMARY:Miguel Carlos Victorica: Un príncipe en la República de La Boca.
DESCRIPTION:El Museo de Bellas Artes Benito Quinquela Martín en acción conjunta con la Fundación OSDE\, realiza una exposición antológica de Miguel Carlos Victorica: Un príncipe en la República de la Boca\, con la curaduría de Sabrina Díaz y Víctor Fernández. La muestra se inaugura el viernes 11 de octubre a las 13 hs. en la Sala Lázzari\, Av. Don Pedro de Mendoza 1835 y podrá ser visitada hasta el 7 de diciembre. \nAtractiva propuesta\, que invita a visitar un recorrido por las obras del reconocido artista como también dibujos\, documentos y objetos personales que se presentan por primera vez al público. \nHuellas muy significativas de su mundo íntimo\, objetos y documentación\, generosamente donados al Museo por el Dr. Oscar Cavarra\, que nos aproximan tanto a datos de alto valor documental\, como a pintorescas anotaciones domésticas. Objetos que formaron parte de sus naturalezas muertas\, libros de cabecera e imágenes de santos que reflejan el fervor religioso de Miguel Carlos Victorica. \nAsí como los sumarios apuntes realizados a lápiz o carbón\, configuran un conjunto de “instantáneas” capaces de graficar la biografía del artista\, y las íntimas pulsiones a partir de las cuales construía su tan particular modo de ver el mundo\, es decir\, su obra. \nVictorica fue un artista de gran oficio\, que comenzó a recibir lecciones de pintura a edad muy temprana. Más adelante estudió en la Academia de la Asociación Estímulo de Bellas Artes\, donde tuvo como mentores a De la Cárcova\, Sívori\, Della Valle\, Giudice\, entre otros. Gracias a una beca\, continuó sus estudios en Europa y allí completó su formación\, alternando las lecciones en el taller de Desiré Lucas con visitas a los grandes museos. \nComo explica Victor G. Fernández\, Director del Museo\, “Una vez de regreso a la Argentina iba a seguir sus propios caminos. Ya no habría huellas para continuar sino horizontes por explorar”. Su producción\, siempre figurativa\, se ajustará a los géneros tradicionales: retratos\, paisajes\, naturalezas muertas\, desnudos y temas religiosos. Su originalidad radicará menos en el “qué” pinta\, que en el “cómo” lo pinta. No habrá soluciones o recetas uniformes; era su inspiración\, pero siempre acompañada por su oficio\, que le permitía abordar con igual eficacia los rumbos que sus búsquedas le dictaban.
URL:https://fadla.org/calendario/miguel-carlos-victorica-un-principe-en-la-republica-de-la-boca/
LOCATION:Museo de Bellas Artes Benito Quinquela Martín – Sala: Sala Alfredo Lázzari\, 2°piso\, Av. Don Pedro de Mendoza 1835 - La Boca\, CABA\, Argentina
ATTACH;FMTTYPE=image/jpeg:https://fadla.org/wp-content/uploads/2020/11/Miguel-Carlos-Victorica-La-barrerita-sobre-la-calle-Parker.jpg
END:VEVENT
BEGIN:VEVENT
DTSTART;VALUE=DATE:20151031
DTEND;VALUE=DATE:20151113
DTSTAMP:20260425T010013
CREATED:20190214T130415Z
LAST-MODIFIED:20190214T130415Z
UID:25706-1446249600-1447372799@fadla.org
SUMMARY:“Submundos”
DESCRIPTION:El sábado 31 de octubre a las 20:00 hs. en el Hall de la Facultad de Arte se inauguró la muestra plástica y de fotografía “Submundos”. \nAnte una nutrida concurrencia se abrió la misma dando la bienvenida el Secretario de Extensión de la Facultad de Arte\, Rubén Maidana\, palabras de las artistas y como cierre del acto la participación de la murga “A contra pelo casi murga”. \n“Submundos” es una muestra/instalación donde se le propone al espectador asumir un rol más activo frente a la obra de arte y donde su participación va transformando lo que se exhibe. Es una posibilidad de mirar la vida desde una óptica distinta. Una mirada a través de ventanas\, que nos conectan con mundos de formas\, colores\, sonidos\, aromas. Nos enfrentan a submundos donde en nuestro vuelo\, vemos más que si observamos a través de sus cristales. \nLa muestra de Ani Fernández\, Carolina Shedden y Marta Maune permanecerá abierta al público de 9 a 22 hs. en el Hall de la Facultad de Arte hasta el 12 de noviembre del corriente. \n+ INFO
URL:https://fadla.org/calendario/submundos/
LOCATION:Facultad de Arte\, 9 de Julio 430\, Tandil\, Buenos Aires\, Argentina
CATEGORIES:Calendario
ATTACH;FMTTYPE=image/jpeg:https://fadla.org/wp-content/uploads/2019/02/Flayer-Submundos-2015-Vista-de-la-exposicion-Facultad-de-Arte.jpg
END:VEVENT
END:VCALENDAR