BEGIN:VCALENDAR
VERSION:2.0
PRODID:-//FADLA - ECPv6.15.20//NONSGML v1.0//EN
CALSCALE:GREGORIAN
METHOD:PUBLISH
X-WR-CALNAME:FADLA
X-ORIGINAL-URL:https://fadla.org
X-WR-CALDESC:Eventos para FADLA
REFRESH-INTERVAL;VALUE=DURATION:PT1H
X-Robots-Tag:noindex
X-PUBLISHED-TTL:PT1H
BEGIN:VTIMEZONE
TZID:America/Sao_Paulo
BEGIN:STANDARD
TZOFFSETFROM:-0200
TZOFFSETTO:-0300
TZNAME:-03
DTSTART:20120226T020000
END:STANDARD
BEGIN:DAYLIGHT
TZOFFSETFROM:-0300
TZOFFSETTO:-0200
TZNAME:-02
DTSTART:20121021T030000
END:DAYLIGHT
BEGIN:STANDARD
TZOFFSETFROM:-0200
TZOFFSETTO:-0300
TZNAME:-03
DTSTART:20130217T020000
END:STANDARD
BEGIN:DAYLIGHT
TZOFFSETFROM:-0300
TZOFFSETTO:-0200
TZNAME:-02
DTSTART:20131020T030000
END:DAYLIGHT
BEGIN:STANDARD
TZOFFSETFROM:-0200
TZOFFSETTO:-0300
TZNAME:-03
DTSTART:20140216T020000
END:STANDARD
BEGIN:DAYLIGHT
TZOFFSETFROM:-0300
TZOFFSETTO:-0200
TZNAME:-02
DTSTART:20141019T030000
END:DAYLIGHT
BEGIN:STANDARD
TZOFFSETFROM:-0200
TZOFFSETTO:-0300
TZNAME:-03
DTSTART:20150222T020000
END:STANDARD
BEGIN:DAYLIGHT
TZOFFSETFROM:-0300
TZOFFSETTO:-0200
TZNAME:-02
DTSTART:20151018T030000
END:DAYLIGHT
END:VTIMEZONE
BEGIN:VEVENT
DTSTART;VALUE=DATE:20130607
DTEND;VALUE=DATE:20130902
DTSTAMP:20260423T145944
CREATED:20190124T151404Z
LAST-MODIFIED:20190124T151810Z
UID:25092-1370563200-1378079999@fadla.org
SUMMARY:RELATOS LATINOAMERICANOS en el MAC
DESCRIPTION:Desde el 7 de junio a las 20\, llega la muestra itinerante de Malba «Relatos Latinoamericanos» al Museo de Arte Contemporáneo de Salta. \nA partir de una selección de Marcelo E. Pacheco\, curador en jefe de Malba\, la muestra reúne 53 obras representativas del período que va desde las primeras vanguardias del siglo XX hasta los años 2000. Se incluyen piezas claves para la historia del arte latinoamericano de artistas como Pedro Figari\, Antonio Berni\, Joaquín Torres-García\, Xul Solar\, Emilio Pettoruti\, Hélio Oiticica\, Alfredo Guttero\, Miguel Covarrubias\, Juan Batlle Planas\, Emiliano Di Calvacanti\, León Ferrari\, Oscar Bony y Guillermo Kuitca\, entre otros grandes nombres. Esta exposición se da en el marco del programa Malba federal\, cuyo objetivo es estrechar lazos entre lo público y lo privado y potenciar las relaciones institucionales. \nLa arquitecta Claudia Lamas\, directora del MAC\, afirma: “ Para la actual dirección del MAC es de vital importancia el contexto en el cual el museo acciona\, y esto significa pensar especialmente en los ciudadanos de Salta. Nos sentimos orgullosos de poder acercarles producciones artísticas de trascendencia nacional e internacional como es la Colección de Malba. Agradecemos especialmente la confianza en nuestra institución al Gobierno de la Provincia de Salta\, que por intermedio del Ministerio de Cultura y Turismo y el Ministerio de Educación\, con su apoyo posibilita ser el museo que aloje esta exposición\, permitiéndonos ser parte de un hecho histórico para las artes y la cultura de la provincia.” \nRelatos latinoamericanos se presentó de enero a marzo en el Museo Nacional de Bellas Artes de Neuquén y de marzo a mayo en el Museo Provincial de Bellas Artes Franklin Rawson de San Juan. El MAC de Salta es la tercera sede de la itinerancia. \nLa exposición está organizada de manera cronológica. El recorrido se inicia a fines del siglo XIX y llega hasta el arte contemporáneo anclando en diversos momentos de corrimiento dentro del siglo XX en América latina. El primer sector se centra específicamente en la noción de vanguardia y en las diferentes modernidades que se construyeron en Argentina\, Brasil y México. El segundo abarca obras de los años 30 y 40\, con la aparición del eje Arte y política y los surrealismos en sus diferentes variantes. El tercer núcleo incluye piezas de los años 40-50\, especialmente relacionadas con las propuestas del arte no figurativo\, los artistas concretos y neo-concretos y el informalismo. El último período corresponde al arte contemporáneo\, a partir de una lectura y una redefinición de esta noción: ya no se trata solamente de la aparición de nuevos ismos\, nuevos movimientos\, nuevas tendencias\, sino de un cambio en el funcionamiento de la naturaleza de la producción artística desde los años 60 en adelante.\n… \nMuseo de Arte Contemporáneo -Facundo de Zuviría 90\, Salta \nTel. (+54 0387) 4370498 | info@macsaltamuseo.org | www.macsaltamuseo.org \nHorarios: lunes cerrado. Martes a sábado de 9:00 a 20:00 \nDomingo: de 16:00 a 20:00 \nBono contribución $ 2 \n+ sobre el Museo de Arte Contemporáneo de Salta: El Museo de Arte Contemporáneo de Salta (MAC) fue inaugurado el 26 de junio de 2004\, con el objeto de difundir\, educar\, investigar y exhibir la producción artística contemporánea. Es centro de las acciones relativas a las artes visuales contemporáneas y un núcleo para atender las alternativas de exposición\, difusión y docencia. El mac trabaja activamente en la formación de una colección de arte contemporáneo y en la construcción de un cronograma anual de exhibiciones que acerquen al público las últimas producciones de la escena actual de nuestro país.\nPropone talleres teóricos y prácticos dirigidos a niños\, adolescentes y adultos en el área de la fotografía\, la pintura\, el diseño\, la historia del arte\, video\, observación y comprensión de la obra de arte. En el 2007 fue galardonado como Museo del Año\, premio otorgado por la Asociación Argentina de Críticos de Arte (AACA).  Actualmente cuenta con un servicio de biblioteca especializada y tiene en formación un archivo audiovisual de productores y gestores de arte contemporáneo. El MAC cuenta con una colección de más de 400 obras de importantes artistas a nivel local y nacional. La misma está compuesta por pinturas\, dibujos\, fotografías\, esculturas\, grabados e instalaciones\, que se han incorporado a través de diferentes modos de adquisición.
URL:https://fadla.org/calendario/relatos-latinoamericanos-en-el-mac/
LOCATION:Museo de Arte Contemporáneo\, Av. Grau 1511 - Barranco\, Lima\, Peru
CATEGORIES:Calendario
ATTACH;FMTTYPE=image/jpeg:https://fadla.org/wp-content/uploads/2019/01/Xul-Solar-Mundo.jpg
END:VEVENT
BEGIN:VEVENT
DTSTART;VALUE=DATE:20130613
DTEND;VALUE=DATE:20140317
DTSTAMP:20260423T145944
CREATED:20240317T110234Z
LAST-MODIFIED:20240317T110234Z
UID:37001-1371081600-1395014399@fadla.org
SUMMARY:Liliana Porter El hombre con el hacha y otras situaciones breves
DESCRIPTION:El hombre con el hacha y otras situaciones breves es la primera exposición individual de Liliana Porter (Buenos Aires\, 1941) en el museo. Se trata de una instalación site-specific creada especialmente por la artista para la sala 3 de Malba. \nLa obra de Liliana Porter incluye grabados\, dibujos\, instalaciones\, objetos\, proyectos de arte público\, fotografía\, film y video. “Los temas recurrentes parten de reflexiones acerca de la representación\, del concepto del tiempo y de ese espacio ambiguo entre lo que llamamos real y las imágenes. En los últimos años\, casi sin darme cuenta\, ha ingresado a mis obras un variado elenco de protagonistas que son objetos ‘inanimados’: pequeñas figuras\, adornos\, cosas encontradas en mercados de pulgas. Ellos actúan dentro un espacio monocromo y vacío\, en un tiempo no lineal\, más abarcador”\, explica la artista. \nLa instalación en Malba se desarrolla sobre un conjunto de tarimas planas\, de diversos tamaños\, en las que algunos personajes de su familiar elenco están abocados a tareas específicas: construir y destrozar\, esparcir y recoger\, ir y regresar\, limpiar\, barrer\, levantarse\, caerse\, derramar y tejer\, entre otras actividades. En un extremo se encuentra el hombre diminuto con el hacha; un posible comienzo si se atiende al título\, que le da al personaje un protagonismo paradójico considerando sus escasos cinco centímetros. \n“Para que el hombre del hacha destruya\, Porter\, en la dirección inversa del tiempo\, compone pieza a pieza los pedazos\, reconstruye. El suyo es un tiempo más flexible y más incierto\, en el que es posible destruir y a la vez componer\, optar por una alternativa sin perder las otras\, alumbrar a un hombre con un hacha y también a un jardinero que riega sus plantas en medio del desastre”\, reflexiona Graciela Speranza en el ensayo del catálogo que acompaña la exposición. \nCon sus diálogos insólitos\, sus reconstrucciones y sus trabajos forzados\, Liliana Porter altera la cronología de la historia. “Su historia del tiempo se ha vuelto todavía más sinuosa en El hombre con el hacha y otras situaciones breves\, su instalación más ambiciosa hasta la fecha\, retrospectiva sui generis de la obra anterior\, suma poética\, que convoca y a la vez destruye su micromundo\, en el aquí y ahora de un tiempo y un espacio esta vez a gran escala”\, analiza Speranza. \nEn ocasión de la exposición\, Malba editó un nuevo catálogo de Liliana Porter\, con el ensayo A contratiempo de la escritora y crítica Graciela Speranza y un registro fotográfico exhaustivo de la instalación. En 2003\, el museo co-editó junto al Centro Cultural Recoleta el catálogo de su retrospectiva Liliana Porter. Fotografía y Ficción (noviembre 2003 – febrero 2004)\, como parte de su programa de coedición de publicaciones con otras instituciones.
URL:https://fadla.org/calendario/liliana-porter-el-hombre-con-el-hacha-y-otras-situaciones-breves/
LOCATION:MALBA\, Av. Figueroa Alcorta 3415\, CABA\, Argentina
ATTACH;FMTTYPE=image/jpeg:https://fadla.org/wp-content/uploads/2024/03/porter-02.jpeg
END:VEVENT
BEGIN:VEVENT
DTSTART;VALUE=DATE:20130829
DTEND;VALUE=DATE:20131005
DTSTAMP:20260423T145944
CREATED:20201006T024709Z
LAST-MODIFIED:20201006T024709Z
UID:30501-1377734400-1380931199@fadla.org
SUMMARY:“Visiones del Entorno” de Antonio Bonilla.
DESCRIPTION:Desde hoy y hasta el 4 de octubre podrá visitarse en el lugar conocido como “La Senda de las Artes”\, del Palacio Legislativo\, la exposición “Visiones del Entorno”\, del Pintor salvadoreño\, Antonio Bonilla. \nLa exposición fue inaugurada esta mañana por el diputado Sigfrido Reyes\, presidente de la Asamblea Legislativa. La muestra incluye obras propias del expresionismo\, surrealismo\, realismo mágico y feísmo. \nEl artista Mario Castrillo\, crítico de arte\, fue el encargado de trazar la semblanza de Bonilla\, de quien afirmó que “su fantasía burlesca seduce sin excepción\, su temática aborda lo sensual y sexual a la vez se expresa y dice lo que siente\, lo que piensa\, sin ambages\, aborda temas de situaciones extremas en nuestro país\, aborda también la violencia social\, problemas generados por el consumismo\, le interesa mucho las pasiones humanas\, sus personajes principales los toma de la realidad nacional\, y se incorpora a sí mismo en sus obras. En fin\, Antonio Bonilla está situado en un pedestal de honor entre los más grandes artistas nacionales”. \nEn tanto que el diputado presidente\, destacó el carácter autodidacta de Bonilla\, “que tiene más de 60 exposiciones en su carrera\, en diversos países del mundo\, tiene la característica de ser un hombre muy comprometido con las causas sociales y con las causas políticas de nuestro país\, en el mejor sentido de la palabra”. \nAntonio Bonilla es un pintor y muralista salvadoreño que ha participado en 45 exposiciones colectivas desde 1972 hasta el 2008\, tanto en territorio salvadoreño como internacionalmente; su obra aparece publicada en libros\, revistas\, periódicos\, especializados en el arte y ha participado en cortometrajes\, largometrajes y documentales.
URL:https://fadla.org/calendario/visiones-del-entorno-de-antonio-bonilla/
LOCATION:“La Senda de las Artes”\, del Palacio Legislativo\, Centro de Gobierno "José Simeón Cañas"\, San Salvador\, San Salvador\, CP 1101\, El Salvador
CATEGORIES:Calendario
ATTACH;FMTTYPE=image/jpeg:https://fadla.org/wp-content/uploads/2020/10/Exposicion__Visiones_del_Entorno__del_Artista_Antonio_Bonilla_en_la_Senda_de_las_Artes_del_Palacio.jpg
END:VEVENT
BEGIN:VEVENT
DTSTART;VALUE=DATE:20130908
DTEND;VALUE=DATE:20131111
DTSTAMP:20260423T145944
CREATED:20190123T025212Z
LAST-MODIFIED:20190123T025348Z
UID:25030-1378598400-1384127999@fadla.org
SUMMARY:Alfonso Mena\, Seducción
DESCRIPTION:La exposición se fundamenta en las exploraciones del tema del lenguaje\, su descomposición y reorientación a partir de la pintura abstracta \nEl Museo de Arte Moderno exhibe Alfonso Mena. Seducción\, una muestra que tiene como fundamento la exploración del lenguaje\, su descomposición y reorientación. Las palabras\, lejos de permanecer estáticas\, están en continua transformación. En la obra de Mena la seducción entraña el dominio simbólico de las formas y el extravío de la verdad: una seducción cargada de éxtasis y pasión. \nMena busca persuadir y conmover al espectador mediante el uso de herramientas lingüísticas y técnicas que\, en plena era digital\, podrían aparecer anacrónicas: la encáustica\, el plomo\, la resina o el grafito. Su pintura está tapiada de velos que permiten entrever la materia oculta y una multiplicidad de planos que se entrelazan a partir de sus reflejos. Al igual que Paul Klee\, Mena hace visibles las fuerzas invisibles. \nSu trabajo es la manifestación de un principio autónomo e irreductible\, la realidad interior; de ahí la fuerza centrífuga de sus imágenes. La abstracción de Mena admite la inclusión de figuras y palabras; la realidad se convierte en una imagen mental cargada de intención. \nSeducción busca la construcción de los lugares y los imaginarios en la obra del artista\, mediante el dominio extenso entre imagen\, lenguaje y memoria: imagen\, como proyección mental y material; lenguaje\, como el carácter gestual del objeto\, y memoria\, como construcción a partir del reflejo del mundo sensible. \nEl artista enlaza la imagen y la palabra para construir un artificio de la memoria\, en que la imagen no es pasiva\, sino activa. \nLa exposición busca reflejarla y perimetrarla mediante la evocación de un zoótropo\, aquel ingenioso tambor con ranuras que producía la ilusión de movimiento al hacer girar unos dibujos estampados en su cara interior. El lenguaje es parte integral de este trabajo\, con el que el autor configura un alfabeto propio para configurar un universo subjetivo. La memoria es un laberinto de pensamientos y vocablos que buscan hacer eco con la circularidad del recinto que la alberga. \n“Decía Plinio El Viejo en su Historia natural que la primera imagen es la proyección de una sombra. Una muchacha enamorada de un joven que dejaría la ciudad trazó con unas líneas el contorno de su amante sobre la pared a la luz de una vela. La muchacha\, al dibujar la sombra de su amado con un carbón\, consiguió cercar y retener la imagen del amante que se va. La separación\, el alejamiento y la ausencia fueron los orígenes de la pintura. La sombra real se marcha con el viajero en tanto que su contorno\, fijado en la pared\, eterniza su presencia en los límites de una imagen\, explica Miguel Ángel Rosas\, curador del Museo de Arte Moderno. \n“El mito del origen de la representación artística se centra\, así\, en el motivo de la proyección. Cuando una imagen se proyecta sobre la pared cambia su soporte y cambia su materialidad. La sombra y la luz\, prototipos de ella\, no son más que prototipos de la semejanza. El arte abstracto de Alfonso Mena tiene movimiento y tiende al desplazamiento de los cuerpos en el espacio. La imagen como proyección primigenia produce un impulso interior\, y es en esa apertura donde reside la dimensión misma del objeto. El primer núcleo de la exposición pretende pasar de un medio a otro\, de un soporte fijo a otro en movimiento. Según la tradición aristotélica de la representación que busca mover\, conmover\, tocar\, afectar\, seducir. \n“El lenguaje de Alfonso Mena es táctil pues la materia crea esa posibilidad. Texturas\, veladuras y atmósferas que evocan un tipo de mirada: un plano desde el cual Mena nos aproxima a su universo plástico\, al orden mental exclusivo del artista. Se resiste a la objetividad del lenguaje\, a sus secretos develados\, con la creación de un alfabeto propio y dinámico cargado\, sobre todo\, de intimidad y distancia. \n“Mena pone en evidencia la imposibilidad misma del archivo mediante un proceso de visibilidad e invisibilidad de las prácticas del arte. Los dibujos fuera de los gabinetes muestran lo que se escapa a esos procesos de clasificación; es la ruptura con el pasado y su ansia clasificatoria por la atemporalidad de la obra de arte. En estos tres gabinetes Mena intenta seducir a través de su propia definición de los significados de las palabras y el arte en un afán por capturar el tiempo”\, remató Miguel Ángel Rosas.
URL:https://fadla.org/calendario/alfonso-mena-seduccion/
LOCATION:Museo Arte Moderno\, Paseo de la Reforma y Gandhi S/N\, Bosque de Chapultepec\, Ciudad de México\, Mexico
CATEGORIES:Calendario
ATTACH;FMTTYPE=image/jpeg:https://fadla.org/wp-content/uploads/2019/01/alfonso-mena-seduccion_123218_30468.jpg
END:VEVENT
BEGIN:VEVENT
DTSTART;VALUE=DATE:20130912
DTEND;VALUE=DATE:20130913
DTSTAMP:20260423T145944
CREATED:20190124T230015Z
LAST-MODIFIED:20190124T230015Z
UID:25133-1378944000-1379030399@fadla.org
SUMMARY:FADLA Solidaria "Punto de encuentro con el Arte"
DESCRIPTION:Evento Cultural FADLA Solidaria \nEl día jueves 12 de Setiembre del presente año\, a las 19:30 horas\, se realizó el Evento FADLA Solidaria en el Salón Imperial del Club Español. \nEl objetivo principal de esta actividad fue promover el intercambio cultural y el mutuo entendimiento entre las comunidades que nos acompañaron. \nHaciendo uso de la palabra\, durante la ceremonia de inauguración del evento cultural\, el Director Artístico\, Néstor Sarmiento\, comentó sobre la necesidad de reforzar nuestras culturas a través de la difusión del arte en sus diferentes expresiones. \nPor su parte\, el Presidente de la Fundación Arte de las Américas\, Roberto Lagar\, expresó su profundo agradecimiento a las delegaciones que asistieron\, a los artistas que participaron y al público en general. \nSe presentaron diversos números artísticos\, incluyendo una interesante exposición de pinturas a cargo de los artistas\, miembros de nuestra Institución. \nEntre los grupos que participaron podemos mencionar a La Colectividad Helénica de Sócrates dirigida por el Profesor Mario Koutsovitis\, el grupo Matices del Perú y la Asociación Cultural Fina Estampa bajo la dirección del Profesor Marco Chafio Prada. \nAdemás\, se incluyó\, en el programa\, la presentación de la violinista hondureña Karina Guevara\, un show musical de tango de los bailarines profesionales Flor Pittaluga y Manu Nantes\, la interpretación vocal de la artista peruana Rosa Barcellos y el grupo peruano Los negros de Miércoles. \nHungría\, Eslovenia\, Perú\, Armenia\, Dinamarca\, Tailandia\, entre otras delegaciones\, desfilaron con sus trajes típicos. \nEl Dúo de tenores M&M nos ofreció\, como parte de su repertorio\, una selección de sus mejores temas. \nFue un honor\, para la Fundación\, haber contado con la participación de grandes talentos provenientes de diferentes nacionalidades y la colaboración de la Presidenta de la ADEA\, la Sra. Darja Zorko Mencin\, la prestigiosa empresa Quiñonez Travel Group\, Santos BMW\, Callmedsa\, la Asociación de Magistrados y Funcionarios de la Justicia\, la Asociación de Estímulos de Bellas Artes\, la Asociación Civil de amigos Diplomáticos\, la Asociación de Damas Bolivianas\, la Señora Lucy Mattos y a la Señora Orfa Pérez\, Coordinadora de las Damas peruanas en Buenos Aires. \nAsimismo\, la Fundación\, agradece la presencia del Sr. Embajador de la ONU en Argentina Arq. Nicolás Incollá Garay\, al Sr. Embajador de la República de Polonia Sr. Jacek Barnzaki y las representaciones diplomáticas de E.U.\, México\, Bolivia\, Eslovenia\, Perú\, Armenia\, Dinamarca\, Tailandia\, Polonia\, Honduras\, Chile\, Paraguay\, Brasil\, Eslovenia\, Hungría\, entre otras. \nLa Fundación Arte de las Américas agradece y felicita\, muy especialmente\, por su destacada labor en el campo de las artes visuales a los siguientes artistas: \nJosefina Di Candia\nNicolás Menza\nNéstor Sarmiento\nJulio Medeiros\nAndrés Bestard\nOsvaldo Pellegrini \n+ INFO
URL:https://fadla.org/calendario/fadla-solidaria-punto-de-encuentro-con-el-arte/
LOCATION:Salón Imperial del Club Español.\, Bernardo de Irigoyen 172/78\, CABA\, CABA\, Argentina
CATEGORIES:Calendario
ATTACH;FMTTYPE=image/jpeg:https://fadla.org/wp-content/uploads/2019/01/12-29962_391013947692369_1598740523_n.jpg
END:VEVENT
BEGIN:VEVENT
DTSTART;VALUE=DATE:20130917
DTEND;VALUE=DATE:20131017
DTSTAMP:20260423T145944
CREATED:20231116T185411Z
LAST-MODIFIED:20231116T185411Z
UID:36249-1379376000-1381967999@fadla.org
SUMMARY:La Gran Kermesse.
DESCRIPTION:Ayer se inauguró la muestra Individual del artista argentino Sergio Camporeale en Enlace Arte Contemporáneo \nEnlace Arte Contemporáneo anuncia la inauguración de la exposición La Gran Kermesse\, individual del Maestro argentino Sergio Camporeale\, a realizarse el martes 17 de setiembre a las 7:30 pm en Avenida Pardo y Aliaga 676\, San Isidro. Durante el evento se contará con la presencia del artista. \nSergio Camporeale (Buenos Aires\, Argentina – 1937). Egresa de la Escuela de Bellas Artes de su ciudad en 1961. Ha expuesto en importantes galerías y centros culturales de Latinoamérica y Europa. Radicó en París por alrededor de dieciocho años y cuenta con importantes premios internacionales. Su obra se encuentra representada en importantes colecciones\, entre ellas: Museo Nacional de Bellas Artes de Buenos Aires\, Argentina; Museo de Arte Contemporáneo de Buenos Aires\, Argentina; Museo de Arte Contemporáneo Latinoamericano\, Fundación Ralli\, Punta del Este\, Uruguay; Museo de Arte Contemporáneo\, Caracas\, Venezuela; Museo de Arte Moderno\, Bogotá\, Colombia; Museum of Modern Art of Latin America\, Washington\, Estados Unidos; Museo José Luis Cuevas\, México D.F.\, México; Centre National d’Art Georges Pompidou\, Paris\, Francia; Museo de Arte Moderno de Trujillo\, La Libertad\, Perú. \nEn palabras de Roberto Ascóniga\, Curador de la muestra: “Sergio Camporeale ha sabido crear paulatinamente un mundo\, un gran teatro en donde transitan una numerosa variedad de actores y personajes que\, referenciados en una diversidad de escenarios muestran o aluden a sus condiciones\, propósitos y voluntades (las del hombre)\, articulados del asombro a la impasividad\, de lo curioso a lo grotesco y hasta deforme y monstruoso; máscaras que ocultan\, pero que permiten aflorar la profundas pulsiones y pasiones\, seguramente las reales motivaciones\, en ese sentido nietszcheano en donde apariencia es igual a realidad La de Camporeale no es una obra definitivamente resuelta sino abierta a la experiencia y expectativas del observador de manera tal que la comprensión surja de esta misma contemplación más que de pensar sobre ella\, y puesto que hay un momento en que las cosas no responden a la lógica\, surge y subyace algo más vasto que escapa a la explicación de las palabras”. \nCamporeale es un inquieto observador de la realidad\, extrae personajes\, posturas\, gestos\, escenarios\, recreando secuencias fantásticas que representan múltiples lecturas. Para él su obra se define como “abierta”\, ya que es cada espectador quien se introduce en ella\, recompone lo que se cuenta y finalmente crea su propia historia. Si bien su obra anterior se centra en el gran teatro de la vida\, lleno de personajes enmascarados y situaciones trilladas; ahora “La gran kermesse”\, selección de 22 lienzos de mediano y gran formato\, alude a una suerte de festival cargado de juego y entretenimiento\, casi siempre organizado para recaudar fondos\, a favor de qué\, eso es lo que el visitante deberá descubrir al recorrer la muestra. \nEsta exposición podrá ser visitada en galería Enlace Arte Contemporáneo hasta el día 16 de octubre de 2013\, de lunes a sábado de 11:00 am. a 8:00 pm. El ingreso es libre. \nEnlace Arte Contemporáneo\nAv. Pardo y Aliaga 676 – San Isidro\, Lima – Perú\nTelfs: (51 1) 222 5714 – Nextel: 142*8661\nWeb: www.enlaceart.com \nPrensa Silvana Vargas-Machuca. Enlace Arte Contemporáneo
URL:https://fadla.org/calendario/la-gran-kermesse/
LOCATION:Enlace Arte Contemporáneo\, Av. Camino Real\, 1123 - San Isidro\, Lima\, Perú
ATTACH;FMTTYPE=image/jpeg:https://fadla.org/wp-content/uploads/2023/11/12.jpeg
END:VEVENT
BEGIN:VEVENT
DTSTART;VALUE=DATE:20130925
DTEND;VALUE=DATE:20131028
DTSTAMP:20260423T145944
CREATED:20190201T151704Z
LAST-MODIFIED:20190201T151704Z
UID:25362-1380067200-1382918399@fadla.org
SUMMARY:SUEÑOS Y GENIOS
DESCRIPTION:El Museo de Arte Español Enrique Larreta\, dependiente de la Dirección General de Museos\, anuncia la inauguración de la muestra «Cristina Santander. Sueños y Genios»\, que se realizará el miércoles 25 de septiembre a las 19 hs. en la sede del museo\, Juramento 2291.\nJunto a la exposición se presentará el espectáculo teatral homónimo\, en cuya propuesta confluyen la plástica\, la danza\, el teatro\, la música y la poesía para formar una sensación única de disfrute para el espectador. \nEl vestuario\, escenografía\, maquillaje\, iluminación e imágenes están inspirados en las obras de Velázquez\, Dalí\, Picasso y Goya y la recreación personal que la artista plástica Cristina Santander hace de tales obras.\nEl público es convocado a experimentar la esencia del arte español en todas sus manifestaciones en una visión contemporánea. \n+ INFO
URL:https://fadla.org/calendario/suenos-y-genios/
LOCATION:Museo de Arte Español Enrique Larreta\, Av. Juramento 2291\, CABA\, Argentina
CATEGORIES:Calendario
ATTACH;FMTTYPE=image/jpeg:https://fadla.org/wp-content/uploads/2019/02/00-0092966.jpg
END:VEVENT
END:VCALENDAR