BEGIN:VCALENDAR
VERSION:2.0
PRODID:-//FADLA - ECPv6.15.20//NONSGML v1.0//EN
CALSCALE:GREGORIAN
METHOD:PUBLISH
X-ORIGINAL-URL:https://fadla.org
X-WR-CALDESC:Eventos para FADLA
REFRESH-INTERVAL;VALUE=DURATION:PT1H
X-Robots-Tag:noindex
X-PUBLISHED-TTL:PT1H
BEGIN:VTIMEZONE
TZID:America/Sao_Paulo
BEGIN:STANDARD
TZOFFSETFROM:-0200
TZOFFSETTO:-0300
TZNAME:-03
DTSTART:20100221T020000
END:STANDARD
BEGIN:DAYLIGHT
TZOFFSETFROM:-0300
TZOFFSETTO:-0200
TZNAME:-02
DTSTART:20101017T030000
END:DAYLIGHT
BEGIN:STANDARD
TZOFFSETFROM:-0200
TZOFFSETTO:-0300
TZNAME:-03
DTSTART:20110220T020000
END:STANDARD
BEGIN:DAYLIGHT
TZOFFSETFROM:-0300
TZOFFSETTO:-0200
TZNAME:-02
DTSTART:20111016T030000
END:DAYLIGHT
BEGIN:STANDARD
TZOFFSETFROM:-0200
TZOFFSETTO:-0300
TZNAME:-03
DTSTART:20120226T020000
END:STANDARD
BEGIN:DAYLIGHT
TZOFFSETFROM:-0300
TZOFFSETTO:-0200
TZNAME:-02
DTSTART:20121021T030000
END:DAYLIGHT
BEGIN:STANDARD
TZOFFSETFROM:-0200
TZOFFSETTO:-0300
TZNAME:-03
DTSTART:20130217T020000
END:STANDARD
BEGIN:DAYLIGHT
TZOFFSETFROM:-0300
TZOFFSETTO:-0200
TZNAME:-02
DTSTART:20131020T030000
END:DAYLIGHT
END:VTIMEZONE
BEGIN:VEVENT
DTSTART;VALUE=DATE:20110604
DTEND;VALUE=DATE:20111128
DTSTAMP:20260425T000109
CREATED:20190201T170611Z
LAST-MODIFIED:20200719T040318Z
UID:25371-1307145600-1322438399@fadla.org
SUMMARY:Bienal de Venecia 2011 - Pabellón Argentino
DESCRIPTION:La obra que Adrián Villar Rojas presenta en la Bienal de Venecia pertenece a una serie de esculturas monumentales realizadas en arcilla que surgen de historias de ficción y posibilidades científicas. Puede ser considerada como la manifestación material de unos universos alternativos (multiversos)\, una aparición que cuestiona nuestras nociones cotidianas de la realidad y el mundo. Las figuras poseen una escala sobrecogedora y superficies añosas. Parecen los restos de un  Imperio devastado o las ruinas de una cultura antigua que desapareció hace tiempo atrás. Pero su apariencia es engañosa. Estos volúmenes erigidos como monumentos podrían ser  también una posible transfiguración de nuestro presente\, o incluso una mirada hacia un  porvenir potencial. Pasado\, presente y futuro se funden en ellas\, desarticulando todo sentido de la temporalidad. Villar Rojas toma su inspiración de la teoría de los multiversos. Ésta establece que es posible que existan diversos universos como consecuencia de pequeñas variaciones en los  procesos evolutivos del cosmos. En estos mundos paralelos\, los humanos y otras criaturas tienen formas\, apariencias y propiedades diferentes. Así\, las esculturas pueden ser vistas como la materialización de estos seres o como una variación de nosotros mismos. Simultáneamente\, se cuenta una historia. Los miembros de una civilización final se juntan en un viejo anfiteatro para representar sus orígenes hasta que mueren. Sus restos son ahora la última obra de arte de su historia\, un último acto estético. “Construyo monumentos porque no estoy listo para perder nada”\, asegura Adrián Villar Rojas. Pero igualmente hay una sensación de pérdida aquí. Las esculturas remiten a algo extraordinario y bello que somos incapaces de comprender. Son monumentos a una memoria ignota y metáforas de una resistencia silenciosa. \nUna última obra de arte de la humanidad.\n+ INFO
URL:https://fadla.org/calendario/bienal-de-venecia-2011-pabellon-argentino/
LOCATION:Venecia\, Italia.\, Predio del Arsenal de Venecia\, Venecia
CATEGORIES:Calendario
ATTACH;FMTTYPE=image/jpeg:https://fadla.org/wp-content/uploads/2019/02/Venecia.jpg
END:VEVENT
BEGIN:VEVENT
DTSTART;VALUE=DATE:20110902
DTEND;VALUE=DATE:20111128
DTSTAMP:20260425T000109
CREATED:20240128T182831Z
LAST-MODIFIED:20240128T182831Z
UID:36839-1314921600-1322438399@fadla.org
SUMMARY:Alda María Armagni
DESCRIPTION:DESCRIPCIÓN DE LA EXPOSICIÓN\nEn los trabajos de Armagni el signo parece recobrar su fuerza primaria\, ancestral. La sobriedad en el color\, hace prevalecer las figuras\, que escapan de los límites para mostrarse como resabios de culturas pasadas. \n‘Cuerpo\, alma y espíritu; tres mensajes de vida en un solo ser’; escribió López Osornio para el catálogo de la muestra ‘Voluntad\, técnica e imagen; tres hechos en un solo diagrama que contiene a los primeros. Su obra es una hacer que abarca todos los tiempos; ayer\, hoy y mañana’. \nAlda María Armagni nació en Lanús\, egresó de la Escuela Nacional de Bellas Artes ‘Prilidiano Pueyrredón’ como profesora de dibujo y grabado\, donde ejerció como docente. \nFue becada por la embajada de Brasil en 1971\, por la Universidad de Santa María de Valparaíso\, Chile\, en 1972 y por el Fondo Nacional de las Artes el mismo  año. \nDesde 1962 expone individualmente en importantes galerías argentinas y en Italia\, Holanda\, España\, Estados Unidos\, Chile\, Bolivia\, Perú\, México\, Uruguay\, Cuba\, Costa Rica y Brasil. \nParticipó en numerosas bienales como la de Barcelona\, La Paz\, La Habana\, San Pablo\, París\, Nueva York; Milán\, Zurich y Ginebra\, entre muchos otros. \nObtuvo numerosos\, premios\, entre ellos el 1º del Salón de Acuarelistas y Grabadores\, 1948; 3º en el II Salón Nacional de Grabado y Dibujo\, 1952\, y 2º en el IV Salón mencionado; 1er. Premio del mismo Salón\, 1955; Gran Premio de Honor Ministerio de Educación XLVI Salón Nacional de Artes Plásticas\, 1957; Gran Premio Salón Municipal Manuel Belgrano\, 1958; Gran Premio Adquisición Arte Nuevo\, Museo de Arte Moderno\, Nueva York\, 1961; otros premios nacionales y provinciales en los años anteriores y siguientes; Gran Premio Consagración Provincia de Buenos Aires (seleccionada por la Academia Nacional de Bellas Artes)\, 1977; Gran Premio de Honor XIV Salón Nacional de Grabado y Dibujo\, 1978. \nFue invitada a participar por dicha Academia en la Bienal de Grabado ‘G. Facio Hebecquer’ en 1975\,1979 y 1981. En 1980-81 fue becada por el Instituto de Cultura Hispánica y viajó a Europa y Japón. \nArmagni es miembro de número de la Academia Nacional de Bellas Artes. Sus obras figuran en varios museos del país y del exterior. \n\nDónde:\nMuseo de Arte Contemporáneo Latinoamericano (MACLA) / Calle 50 entre 6 y 7 / La Plata\, Buenos Aires\, Argentina\n\n\n\nCuándo:\nDesde 02 sep de 2011\n\n\n\nInauguración:\n02 sep de 2011\n\n\n\nOrganizada por:\nMuseo de Arte Contemporáneo Latinoamericano (MACLA) \n\n\n\nArtistas participantes:\nAida María Armagni
URL:https://fadla.org/calendario/alda-maria-armagni/
LOCATION:Museo de Arte Contemporáneo Latinoamericano\, Calle 50 entre 6 y 7 / La Plata\, Buenos Aires\, Argentina
ATTACH;FMTTYPE=image/jpeg:https://fadla.org/wp-content/uploads/2024/01/Alda_Maria_Armagni-Flayer.jpeg
END:VEVENT
BEGIN:VEVENT
DTSTART;VALUE=DATE:20111022
DTEND;VALUE=DATE:20111121
DTSTAMP:20260425T000109
CREATED:20190216T221622Z
LAST-MODIFIED:20190216T222735Z
UID:25741-1319241600-1321833599@fadla.org
SUMMARY:JORGE ORTIGUEIRA  Retroceder… para tomar impulso
DESCRIPTION:Una retrospectiva de Jorge Ortigueira que abarca producciones de su primera muestra (1975) y obras presentadas en salones nacionales y municipales\, exposiciones colectivas e individuales e instituciones locales y del exterior. \nOrtigueira ha creado una galería de personajes que resultan en un inquietante diagnóstico de la naturaleza humana. Grotescos y transgresores\, desenmascaran la realidad con humor y punzante ironía. Con un dibujo preciso y fuertes acentos cromáticos\, el artista exhibe un realismo desencantado que perturba y desconcierta. \nMerecedor de varios premios\, entre ellos el 1º Premio Municipal Manuel Belgrano 2004\, la obra de Ortigueira integra el patrimonio de los museos Sívori; Rosa Galisteo de Rodríguez de Santa Fe; Municipal de Junín\, De Tandil\, así como colecciones privadas de Argentina\, Brasil\, Uruguay\, Chile\, Estados Unidos\, Noruega\, España\, Israel y Cuba. \nHorario: de martes a viernes de 12 a 20 hs.\, y sábados\, domingos y feriados de 10 a 20 hs. \nEntrada: $1 (miércoles y sábados: gratis)
URL:https://fadla.org/calendario/jorge-ortigueira-retroceder-para-tomar-impulso/
LOCATION:Museo de Artes Plásticas Eduardo Sívori\, Av. Infanta Isabel\, 555\, CABA\, Buenos Aires\, Argentina
CATEGORIES:Calendario
ATTACH;FMTTYPE=image/jpeg:https://fadla.org/wp-content/uploads/2019/02/Jorge-Ortigueira-s.jpg
END:VEVENT
BEGIN:VEVENT
DTSTART;VALUE=DATE:20111123
DTEND;VALUE=DATE:20111206
DTSTAMP:20260425T000109
CREATED:20190209T152017Z
LAST-MODIFIED:20190209T152443Z
UID:25598-1322006400-1323129599@fadla.org
SUMMARY:Memorias del presente
DESCRIPTION:MEMORIAS DEL PRESENTE \n“Para ver hay que mirar\, luego de ver\, intuir lo sugerido e imaginar.“\nRoberto Tabbush
URL:https://fadla.org/calendario/memorias-del-presente/
LOCATION:Galería El Socorro\, Suipacha 1331\, CABA\, CABA\, Argentina
CATEGORIES:Calendario
ATTACH;FMTTYPE=image/jpeg:https://fadla.org/wp-content/uploads/2019/02/Roberto-Tabbush-Rio_de_Selva_obra.jpg
END:VEVENT
BEGIN:VEVENT
DTSTART;VALUE=DATE:20111124
DTEND;VALUE=DATE:20111130
DTSTAMP:20260425T000109
CREATED:20190218T165407Z
LAST-MODIFIED:20190218T165407Z
UID:25767-1322092800-1322611199@fadla.org
SUMMARY:EXPO ARTISTAS 2011 en el Centro Cultural Borges
DESCRIPTION:Buenos Aires\, Noviembre de 2011: del 24 al 29 de Noviembre\, los amantes del arte acontemporáneo podrán disfrutar de la 7ma edición de Expo-artistas 2011 en el Centro Cultural Borges de la Ciudad de Buenos Aires. La misma se emplazará utilizando la totalidad de dicho espacio\, el cual cuenta con una superficie aproximada de 3.000 m2\, lo que le permitirá al visitante disfrutar de una amplia variedad de estilos en diferentes disciplinas\, tanto pictóricas como escultóricas\, sin dejar de lado la excelente calidad de dibujos\, grabados y fotografías que se exhiben cada año. \nExpo-artistas es la feria de arte con mayor crecimiento en los últimos tiempos\, tanto en su dimensión física como en la cantidad y el prestigio de sus expositores. \nEn esta edición se presentan más de 150 artistas\, entre ellos cabe nombrar a Salvador Costanzo\, Victor Dabove\, Mario Restaino en pintura\, Julia Farjat en escultura\, Eduardo Gualdoni en dibujo y Daniel Santise en fotografia\, entre otros. \nTras seis ediciones consecutivas\, Expo-artistas continua cosechando éxito entre el público. Creada bajo un nuevo concepto en ferias de arte\, su diferencia principal radica en considerar al artista plástico como el protagonista del evento\, brindándole todos los recursos necesarios para satisfacer sus necesidades como expositor. Además tiene la particularidad de ser la primera y única feria de arte donde el artista comercializa su obra en forma directa\, sin intermediarios y sin abonar comisiones sobre las ventas realizadas. Es justamente esta relación directa con el público la que le permite generar nuevos vínculos comerciales y profesionales que no se logran en otro entorno. \nBajo esta nueva visión\, Expo-artistas cuenta desde sus comienzos con la participación de destacados artistas argentinos como Julián Agosta\, Carlos Cañás\, Carlos Carmona\, Salvador Costanzo\, Bastón Díaz\, Alberto Delmonte\, Julia Farjat\, Roberto Firpo\, Helios Gagliardi\, Juan Carlos Lasser\, Marcelo Mayorga\, Jorge Meijide\, Milo Lockett\, Fernando Martínez\, Víctor Montoya\, Rodolfo Nardi\, Raúl Ponce\, Zulema Petruschansky\, Mario Restaino y Leo Vinci\, entre otros. La participación de artistas de Chile\, España\, Francia\, Israel\, Panamá\, México y Uruguay\, le dieron a la feria el carácter y prestigio internacional que tiene en la actualidad.\n* La curaduría de la feria está a cargo del prestigioso crítico de arte Julio Sapollnik.\n* Los datos de los artistas se suministran en un catálogo al que se puede acceder a un muy bajo costo. \nCuradoría: Julio Sapollnik\nAsesor Plástico: Mario Restaino\nDirector: Edgardo Marchesi \nDEL 24 AL 29 DE NOVIEMBRE\, CENTRO CULTURAL BORGES.\nDE 13 A 21.00 HS. ENTRADA LIBRE Y GRATUITA. \nINAUGURACION: 24 DE NOVIEMBRE\, 19 HS. \n+ INFO
URL:https://fadla.org/calendario/expo-artistas-2011-en-el-centro-cultural-borges/
LOCATION:CCB | Centro Cultural Borges\, Viamonte esquina San Martin\, CABA\, Argentina
CATEGORIES:Calendario
ATTACH;FMTTYPE=image/jpeg:https://fadla.org/wp-content/uploads/2019/02/Julia-Farjat.-AVANCE.-Chapa-y-madera.jpg
END:VEVENT
BEGIN:VEVENT
DTSTART;VALUE=DATE:20111126
DTEND;VALUE=DATE:20120221
DTSTAMP:20260425T000109
CREATED:20210730T112414Z
LAST-MODIFIED:20210730T113406Z
UID:33135-1322265600-1329782399@fadla.org
SUMMARY:LEO VINCI "Pensamiento e imagen"
DESCRIPTION:“En todo acto creador hay un pensamiento que lo sostiene”. \n“La escultura es un lenguaje y como en la poesía\, la metáfora permite hablar de una realidad profunda y esencial más allá de la descripción de lo aparente”. \n“La libertad en la creación ha sido conquistada por quienes nos precedieron\, es hora  de construir”. \n“Somos el pasado cultural de las futuras generaciones”. \nLeo Vinci \nPrologo\nPublicado el 21 octubre\, 2011 por leodante\n\n\nLEO VINCI  \nEl rescate del espacio \nEl espacio contiene a la forma. La carga energéticamente. Le da un vitalismo que trasciende. No hay escultura sin espacio\, aunque los lenguajes difieran y aún se enfrenten. Porque la escultura es materia que vive  del espacio y se proyecta en el mismo para generar acuerdos / asociaciones / rupturas / deslizamientos morfológicos /apropiaciones y distancias. \nEn el espacio reside la definición de un bloque. Su acuerdo o su desliz gigantomáquico. En el espacio se inserta el movimiento; sin espacio no existiría la simultaneidad que éste genera. No hay escultura encerrada\, ya que ello equivaldría a cierta mudez expresiva. No hay volumen sin diálogo con lo que  lo circunda. De ahí que la escultórica de todo tiempo haya planteado -más allá de exaltaciones matéricas\, ejemplaridades de síntesis\, proyección de contenidos- el gran interrogante que genera ese espacio\, ese lugar que exalta y que contiene. \nEl espacio interno de las formas\, confluye y se abre al otro. En ese encuentro\, en ese rescate que es a la vez coralidad de fuerzas\, el artista concreta su obra\, le descubre identidades. Esto lo sabe muy bien Leo Vinci: artista que trabaja la masa desde adentro\, buscando siempre insertarla en el continente mayor\, en lo aéreo\, en una espacialidad que no intercepte sino ubique en un trascentalismo físico bocciniano a esa masa. Al vitalismo de esa masa. \nLa obra de Vinci es una ejemplar lección de crecimientos. Crecimientos sustentados por una línea figurativo-abstraccionista que\, por sobre eslabones de clara evolución\, expanden siempre la noción de temporalidad. El mismo lo reconoce\, con hondo conceptualismo: Sin la dimensión temporal ninguna forma podría actuar en el mundo físico que nos rodea\, como tampoco podría hacerlo toda materia que se desplazara en él\, ya que necesitará un lapso de tiempo determinado para lograrlo. El maestro reconoce que el espacio físico condiciona y limita en tal orden; que todo juego de fuerzas  deberá cumplir con ciertas leyes surgidas por ese condicionamiento. La temporalidad\, así\, está inscripta en la forma\, como una huella digital\, como un sello de origen. Y esa temporalidad es en definitiva la que despliega goces de lenguaje\, articulaciones de planos\, traspolaciones de luces y sombras\, dinámicas matéricas. \nPercepción y desarrollo \nSin movimiento no hay espacio y sin espacio no hay forma. Implícitamente\, un precepto que se impone por  propia elocuencia de lo visual.  La forma matérica\,  recorrible o no\, abarcable real o virtualmente\, es esa dimensionalidad que se toca\, que esterognósica o táctilmente significa. La forma que es en sí un estado de crecimiento\, de desarrollo\, de iconicidad al fin. \nVinci es artista de pensamiento visual. Todo en su obra está fuertemente basamentado tanto en experiencias cuanto en afirmaciones de investigación. Sin embargo\, siempre aplica sabiamente los conceptos que académicamente rigen el campo de lo escultórico\, tendiendo a una expresión que afirme. Ese presupuesto de acción es\, indubitablemente\, el que ha ubicado su obra en un plano jerárquico. El que\, asimismo\, le ha permitido ahondar no sólo la mirada tras los universos formales\, sino a más trasponer semiológicamente los estadios de la materia. Por ello\, seguramente\, sus formas palpitan. No son cuerpos inertes. Vínculos que trascienden la mediatez. \nMás de medio siglo de creación\, de búsquedas inconformistas\, de planteos y renovadas investigaciones\, han dado a su trabajo ese decantamiento de fuerzas que sólo transmiten las obras salidas del  rigor autocrítico. Fuera de leyes que no sean las propias convicciones\, Vinci articula su lenguaje. Y genera ese espacio\, el aludido espacio que rescata para sí\, para su testimonio. El mismo lo reconoce así: Ningún escultor es esclavo de  las leyes\, pero sólo conociéndolas puede usarlas\, transgredirlas\, contradecirlas u oponerlas. \nFormas cargadas de energía. Cuerpos que se exaltan\, que gritan\, que se encogen sobre sí mismos. Materias desplegadas. Materias concentradas. Todo un universo morfológico que Vinci articula en un lenguaje que no retacea lo simbólico\, pero que fundamentalmente lo trasciende. Esa formulación de la realidad\, del tiempo que exige\, de los estadios de lo sensorial / sensitivo\, fluye en su obra. En una continuidad que convoca. En un trasfondo que -desde el rodiniano corazón de la piedra- palpita perceptualmente. \nEslabones / deslizamientos / vitalismos \nPiedra\, bronce\, chapa batida\, mármol\, cemento directo\, madera\, acrílico\, para concentrar el espíritu del bloque cerrado o para proyectar la forma abierta. En cada materia\, la temperatura de la expresión. Y ese filamento preciso\, incontenible\, que queda abierto para que el ojo lo complete / integre / defina\, en los buceos de la mirada. \nVinci poderoso en las figuras que se deshacen sobre sí mismas. Vital en las manos que se crispan. Vinci  protagonista de los seres consumidos en sus propias fuerzas. Buscando lo interno en las figuras fragmentadas. Vinci tras esas cabezas de fin de siglo: dramáticas en su solemnidad\, marcadas de identidad\, entre la placidez y el horror. \nTodas y cada una de las propuestas responden a un tiempo de urgencias y de reclamos. Eslabones de una cadena en que el hombre protagoniza historias que lo exceden. Los rostros segmentados hablan de esa ruptura y\, a la vez\, del posible reencuentro consigo mismo. De ahí que -por sobre series- la obra del artista reconozca siempre\, tras la denuncia\, cierto sesgo de celebración. Y ello es lo que convoca\, en su escultórica vibrante.  Lo que\, tras la forma consolidada en materia abarcable y recorrible\, deja un testimonio.  El claro lenguaje de un testimonio directo\, potente\, sin eufemismos. \nPoeta de la materia \nSi hubiera que marcar una constante en el trabajo de este artista que mereció en su país los mayores lauros\, desde el Gran Premio de Honor del Salón Nacional\, cabría aceptar que ha sido siempre la de un transcriptor de la realidad. Un transcriptor de la realidad de un hombre guerrero\, en su tiempo.  De la pasión de ese hombre.  De los vínculos  creados para saltar\, frente a los otros que limitan sus fuerzas.  En tal aspecto  -del canto al grito- Leo Vinci es un poeta de la materia. Como tal\, genera su galería de rostros y cuerpos\, los anima y los larga al mundo. Con dureza no exenta de ternura. Pero con esa gestualidad severa que no acepta  transiciones. \nTestigo de su tiempo\, da significados de ese tiempo. Y su creación revela precisamente eso: el hombre de hoy. No el planteo historicista/ universal del hombre-símbolo. . Le importa replantear la construcción de ciertos sintagmas que caracterizan epocalmente el drama de la existencia / el dolor de resistir / la resurrección de la vida / la celebración del amor. \nEn tal presupuesto aparecen los cuerpos alados\, los rostros heridos\, la fragmentación\, las ataduras que limitan y coartan\, los brazos alzados de la resistencia. Himnológicamente\, Vinci canta a la vida. Y su escultórica\, cada una de sus piezas de potente carnatura\, cada uno de sus planteos\, constituyen en sí parte de esa identificación con estados y pasiones\, por sobre la temporalidad que los marca. \nEsta muestra que presenta en salas y jardines del Museo Municipal Eduardo Sívori\, contabiliza parte del haber de toda una vida. Sin ser una antológica\, exhibe algunas de las piezas que jalonan sus periodos más significativos. Junto a ellas\, obras de reciente elaboración no expuestas con anterioridad\, revitalizan el concepto -concepto que Vinci conoce y aplica- de rescatar el espacio. \nJ. M. Taverna Irigoyen \n       
URL:https://fadla.org/calendario/leo-vinci-pensamiento-e-imagen/
LOCATION:Museo Eduardo Sívori\, Av. Infanta Isabel 555 - Frente al Rosedal\, CABA\, Buenos Aires\, Argentina
ATTACH;FMTTYPE=image/jpeg:https://fadla.org/wp-content/uploads/2021/07/afiche-scaled.jpeg
END:VEVENT
END:VCALENDAR