BEGIN:VCALENDAR
VERSION:2.0
PRODID:-//FADLA - ECPv6.15.20//NONSGML v1.0//EN
CALSCALE:GREGORIAN
METHOD:PUBLISH
X-ORIGINAL-URL:https://fadla.org
X-WR-CALDESC:Eventos para FADLA
REFRESH-INTERVAL;VALUE=DURATION:PT1H
X-Robots-Tag:noindex
X-PUBLISHED-TTL:PT1H
BEGIN:VTIMEZONE
TZID:America/Sao_Paulo
BEGIN:STANDARD
TZOFFSETFROM:-0300
TZOFFSETTO:-0300
TZNAME:-03
DTSTART:20240101T000000
END:STANDARD
END:VTIMEZONE
BEGIN:VEVENT
DTSTART;VALUE=DATE:20250417
DTEND;VALUE=DATE:20250805
DTSTAMP:20260422T045013
CREATED:20250416T172611Z
LAST-MODIFIED:20250417T122112Z
UID:37462-1744848000-1754351999@fadla.org
SUMMARY:Relieves de José Luis Maccari
DESCRIPTION:Agenda cultural \nInaugura   «Relieves de José Luis Maccari» \nDel 17 de abril al 3 de agostoLa muestra se compone de una serie de estructuras geométricas de rigurosa ejecución\, que el artista creó desde finales de los años 60 hasta la década del 80.Un proceso a la vez arduo y poético de superposición y ensamble de fragmentos blancos sobre blanco\, que componen estructuras precisas\, estrictas\, concretas.Maccari se enfoca en la búsqueda de la armonía\, en la esencia de las formas\, en la sutileza de los reflejos y de las sombras.MUSEO MUNICIPAL DE BELLAS ARTES JUAN B. CASTAGNINODirección: Av. Carlos Pellegrini 2202. RosarioMiércoles a viernes de 16 a 20 horas \nEntrada gratuita \n 
URL:https://fadla.org/calendario/relieves-de-jose-luis-maccari/
LOCATION:Museo Juan B Castagnino\, Av. Carlos Pellegrini 2202\, Rosario\, Argentina
ATTACH;FMTTYPE=image/jpeg:https://fadla.org/wp-content/uploads/2023/12/Maccari-.jpg
END:VEVENT
BEGIN:VEVENT
DTSTART;VALUE=DATE:20250514
DTEND;VALUE=DATE:20250615
DTSTAMP:20260422T045013
CREATED:20250512T151241Z
LAST-MODIFIED:20250512T151241Z
UID:37551-1747180800-1749945599@fadla.org
SUMMARY:La mudanza
DESCRIPTION:Para reservar la fecha!!\n\n\n\n El próximo miércoles 14 a las 18hs inauguramos «La mudanza»\n\n\n Junto a grandes artistas amigos!\nCarlos Kravetz – Flor Salas – Lucia Torres – Ruben Sassano – Silvina Baz.\n\n\n\n En el Colegio Inmobiliario\nAdolfo Alsina 1382 CABA\n\n\n\nTe esperamos.\n\n 
URL:https://fadla.org/calendario/la-mudanza/
LOCATION:Colegio Inmobiliario\, Adolfo Alsina 1382\, CABA\, Argentina
ATTACH;FMTTYPE=image/jpeg:https://fadla.org/wp-content/uploads/2025/05/495289395_1235142791950401_6410615361949455255_n.jpeg
END:VEVENT
BEGIN:VEVENT
DTSTART;VALUE=DATE:20250612
DTEND;VALUE=DATE:20250613
DTSTAMP:20260422T045013
CREATED:20250607T234958Z
LAST-MODIFIED:20250607T235052Z
UID:37581-1749686400-1749772799@fadla.org
SUMMARY:KUITCA 86
DESCRIPTION:Malba PM\nKuitca 86\nJueves 12 de junio de 19:00 a 21:00. Sala 5\, Nivel 2\nCelebramos el cierre de la muestra de Guillermo Kuitca con un evento abierto a todo el público y entrada gratuita. Durante dos horas se podrá recorrer la exposición\, que reúne de manera inédita un conjunto de pinturas y series icónicas\, junto a una selección de dibujos y documentos. La actividad incluye una visita guiada a cargo del equipo de Educación del museo. \nEn un contexto cada vez más afincado en la concepción performativa de las prácticas culturales\, esta exposición también pone en foco la condición escénica que caracterizó tempranamente al lenguaje de Guillermo Kuitca. En este sentido\, explora los diálogos del artista con el teatro expandido como una instancia generadora de experiencias pictóricas y teatrales liminares. Además\, aborda la producción del artista como una referencia ineludible del arte del sur global\, e indaga en el impacto de su figura en el entramado discontinuo que constituyen el arte moderno y contemporáneo latinoamericanos. \nLuego del Malba PM quedarán solo cuatro días más para recorrer la exposición\, que cierra de forma definitiva el lunes 16 de junio. \nActividad gratuita. No requiere inscripción previa. 
URL:https://fadla.org/calendario/kuitca-86/
LOCATION:MALBA\, Av. Figueroa Alcorta 3415\, CABA\, Argentina
ATTACH;FMTTYPE=image/jpeg:https://fadla.org/wp-content/uploads/2025/06/IMAGE0022.jpeg
END:VEVENT
BEGIN:VEVENT
DTSTART;VALUE=DATE:20250627
DTEND;VALUE=DATE:20250728
DTSTAMP:20260422T045013
CREATED:20250709T174503Z
LAST-MODIFIED:20250709T175221Z
UID:37603-1750982400-1753660799@fadla.org
SUMMARY:“Pedro Roth: como en casa”
DESCRIPTION:Con la presencia del secretario de Cultura\, Leonardo Cifelli\, inauguró el miércoles 25 una instalación inmersiva que replica el universo íntimo del artista en Casa Victoria Ocampo. \nCon una inauguración que fusionó emoción\, memoria y celebración\, el miércoles 25 abrió al público Pedro Roth: como en casa\, una instalación inmersiva presentada por el Fondo Nacional de las Artes en la Casa Victoria Ocampo (Rufino de Elizalde 2831\, CABA). La muestra propone un recorrido singular por la intimidad creativa de uno de los referentes indiscutidos del arte contemporáneo argentino. \nDurante un mes\, las salas de la emblemática casona de Barrio Parque que perteneciera a Victoria Ocampo se transforman así en una réplica del hogar del artista. Un living colmado de pinturas\, una mesa lista para agasajar y el propio Roth habitando ese espacio todas las tardes hacen de la muestra un ecosistema creativo\, donde las fronteras entre arte y cotidianidad se desdibujan. \nEn las paredes\, además de su producción\, cuelga su colección personal: obras de figuras centrales del arte argentino como Luis Fernando Benedit\, Yuyo Noé\, Marta Minujín\, Federico Manuel Peralta Ramos\, Pier Cantamessa y Juliano Borobio\, entre muchos otros. Una constelación de amistades y afinidades que refuerza la idea de que Roth vive el arte como una práctica colectiva y hospitalaria. \n“Es un honor para el Fondo Nacional de las Artes abrir las puertas de la Casa Victoria Ocampo para presentar una muestra que trasciende los límites de una exhibición tradicional. Para los visitantes\, la experiencia combina la posibilidad de disfrutar de un conjunto de magníficas obras\, y también sumergirse en el universo íntimo y creativo de un artista como Roth. Entre los numerosos premios que él recibió a lo largo de su prolífica carrera\, se incluye el Premio Trayectoria del FNA en 2020\, uno de los reconocimientos con los que este organismo celebra a las figuras fundamentales de nuestra cultura y sin duda Pedro es una de ellas”\, expresó por su parte Tulio Andreussi Guzmán\, presidente del organismo. \nLa exposición fue ideada por dos referentes de la gestión cultural: el arquitecto y curador Andrés Duprat —actual Director del Museo Nacional de Bellas Artes— y la curadora Adriana Rosenberg\, directora de Fundación PROA. Ambos proponen una mirada que excede la exhibición tradicional para homenajear a este pintor\, fotógrafo\, coleccionista\, exiliado húngaro y porteño bohemio\, cuya vida y obra forman una unidad. \n«La muestra intenta representar el mundo Roth. Por eso se llama ‘Como en casa’\, para también visibilizar sus intercambios con los artistas argentinos más importantes de la mitad del siglo XX en adelante. De alguna manera permite reconstruir ese universo de relaciones»\, explicó Duprat. \nPara Rosenberg\, Roth siempre fue «un faro» en el mundo del arte. «Lo conozco hace 20 años. No había exposición argentina que Pedro no documentara. La Fundación PROA\, en un año\, ya digitalizó 8.000 fotografías de su archivo personal\, y eso es solo el 10 % o 20 % del acervo. En un gesto extraordinario\, Pedro donó al Archivo General de la Nación toda la documentación que tiene sobre el movimiento artístico que representó el Centro de Arte y Comunicación». \nSobre la mesa exhibida en el centro de la sala\, Pedro Roth sacó su cuaderno y comenzó a dibujar ante el público para obsequiarle uno al secretario Cifelli. «¡Si me habré empachado comiendo sobre esta mesa\, que perteneció a la galerista Ruth Benzacar!»\, relató. Detrás suyo\, un enorme y bello óleo con dos figuras humanas e intensos azules y naranjas. «Somos mi papá y yo\, cuando íbamos de vacaciones al lago Balatón\, en Hungría\, antes de que los nazis lo mataran en Auschwitz. Vivo rodeado de estos cuadros. Es la primera vez que expongo en la Casa de Victoria Ocampo\, pero muchos de mis amigos lo han hecho. Me siento como en casa»\, finalizó. \nLa apertura contó con un concierto en vivo de SwinGardel\, grupo que fusiona jazz con tangos y milongas. La banda\, integrada por Enzo Buono (voz y guitarra)\, Esteban Faroldi (voz y bajo)\, Patan Vidal (piano) y Pedro Colpachi (batería)\, llenó de música los salones de la casona. \nPedro Roth: como en casa se puede visitar con entrada libre de lunes a viernes\, de 11 a 19 h\, en Casa Victoria Ocampo (Rufino de Elizalde 2831\, CABA). Además\, habrá visitas guiadas los lunes\, miércoles\, jueves y viernes\, a las 11 y 15 h. \nSobre el artista\nPedro Roth nació en Budapest\, Hungría\, el 8 de julio de 1938. Es licenciado en Realización Cinematográfica por la Universidad Nacional de La Plata. Inició su carrera como fotógrafo en 1960 y su carrera plástica en 1973\, realizando numerosas muestras en Argentina y en el exterior. \nComo gestor cultural\, ha promovido el arte argentino a nivel internacional a través de diversos proyectos. Su labor ha permitido registrar los movimientos artísticos más relevantes desde la década de 1960\, creando un archivo histórico único en Argentina\, el Archivo Roth\, que incluye la digitalización del archivo fotográfico del CAYC en conjunto con la Fundación PROA. Además\, es realizador de numerosas piezas audiovisuales. \nHa sido reconocido con importantes galardones como el Premio a la Trayectoria en Pintura del Fondo Nacional de las Artes (2020) y el Premio a la Trayectoria Artística del Salón Nacional de Artes Visuales en dos ocasiones (2023). Fue nombrado Ciudadano Ilustre de la Cultura por la Legislatura de la Ciudad de Buenos Aires (2010). \nSus obras forman parte de destacadas colecciones como las del Museo Nacional de Bellas Artes (Argentina)\, la Galería Point of Contact (Siracusa\, USA)\, el Museo Történeti (Budapest\, Hungría)\, el Museo de Arte Moderno de Buenos Aires (MAMBA)\, el Museo de Artes Plásticas Eduardo Sívori\, el Museo de Arte Contemporáneo Latinoamericano (MACLA) de La Plata\, el Museo Judío de Praga\, y el Museo Judío de Buenos Aires\, entre otras. \n 
URL:https://fadla.org/calendario/pedro-roth-como-en-casa/
LOCATION:Casa Victoria Ocampo\, Rufino de Elizalde 2831\, CABA\, Argentina
ATTACH;FMTTYPE=image/jpeg:https://fadla.org/wp-content/uploads/2025/07/pedro_roth.jpeg
END:VEVENT
BEGIN:VEVENT
DTSTART;VALUE=DATE:20250716
DTEND;VALUE=DATE:20251222
DTSTAMP:20260422T045013
CREATED:20251124T153005Z
LAST-MODIFIED:20251124T153201Z
UID:37849-1752624000-1766361599@fadla.org
SUMMARY:“Más aquí. Polesello 1970–2000”
DESCRIPTION:Se inauguró “Más aquí. Polesello 1970-2000” en el Centro Cultural Borges\nMás aquí. Polesello 1970-2000 propone una experiencia visual inmersiva\, donde el juego óptico\, la precisión técnica y el espíritu lúdico invitan al espectador a mirar de otro modo. Es también una celebración del carácter experimental y sensorial que definió su obra y su pensamiento artístico. La muestra incluye una amplia selección de obras pertenecientes a la colección de Naná Gallardo\, material de archivo del propio Polesello\, así como piezas de colecciones privadas de todo el país. \nSobre Rogelio Polesello (1939–2014)\nFigura central del arte óptico y cinético en América Latina. Su obra atraviesa el diseño\, la pintura\, la escultura y la gráfica. Integrante del grupo Arte Nuevo y exponente del Op Art en la escena internacional\, desarrolló una estética singular que jugó con la distorsión visual\, la geometría y el movimiento. Participó de numerosas bienales y su obra forma parte de colecciones nacionales e internacionales. \n“POLE”\, como se lo llamaba dentro de la comunidad artística\, se transformó desde muy temprano en una figura central de la escena cultural latinoamericana. Su obra forma parte de la colecciones del MOMA\, el Guggenheim en New York\, del Museo Nacional Bellas Artes\, Moderno y Macba. Trabajador incansable\, se ha destacado por su búsqueda de movimiento en lo estático y por articular de manera innovadora las relaciones arte-diseño-industria y arquitectura. En ese marco\, la experimentación con nuevos materiales –especialmente el acrílico– le aportó una impronta distintiva a su producción. Las combinaciones de orden y aleatoriedad\, y la audacia en la utilización del color\, una marca de originalidad constante a lo largo de toda su producción\, han impactado con un sello indiscutible en la producción artística argentina. \nHa expuesto su trabajo en la 3a Bienal de París en 1963\, la 8a Bienal de San Pablo en 1965; la exposición Plástica con Plásticos la mostró en el Museo Nacional de Bellas Artes en el 1966\, el Instituto Torcuato Di Tella en 1967 y 1968; en el Center for Inter-American Relations de Nueva York 4 en 1968; en el Museo Nacional de Bellas Artes en 2000; en la galería Ruth Benzacar en 2003; en el Centro Cultural Recoleta en 2005 y en el Museo Nacional de Bellas Artes en 2012. En 2003 recibió el Gran Premio de Honor del Fondo Nacional de las Artes. \nMás aquí. Polesello 1970-2000 se podrá visitar hasta el 21 de diciembre\, de miércoles a domingos\, de 14 a 21 h\, en el Espacio Berni del Centro Cultural Borges (Viamonte 525\, CABA).
URL:https://fadla.org/calendario/mas-aqui-polesello-1970-2000/
LOCATION:Centro Cultural Borges\, Viamonte 525\, esquina San Martin\, CABA\, Argentina
ATTACH;FMTTYPE=image/jpeg:https://fadla.org/wp-content/uploads/2025/11/polesello_0461.jpeg
END:VEVENT
BEGIN:VEVENT
DTSTART;VALUE=DATE:20250808
DTEND;VALUE=DATE:20250809
DTSTAMP:20260422T045013
CREATED:20250731T132430Z
LAST-MODIFIED:20250731T133349Z
UID:37696-1754611200-1754697599@fadla.org
SUMMARY:TEX-COLLAGE - Josefina Di Candia
DESCRIPTION:TEX-COLLAGE\n\n\n\nInauguración viernes 8 de agosto\, 19:00hs\n\n\n\nEn esta serie nueva que se desarrolla entre el año 2022 y 2023\, encontré en estos materiales una renovada forma representativa de mi búsqueda o de mi obsesión al encuentro de combinaciones de signos.\nHe comenzado con signos trazados a pincel y tinta china\, sobre un papel envejecido por el tiempo; dándome cuenta que forman un abecedario críptico. Que dice\, en el silencio y en el espacio. Lo que aporta la áspera arpillera conviviendo con la suavidad y calidez de pañolenci\, es justamente esa contradicción de sensaciones y un aporte nuevo en mis creaciones: el impacto de color saturado que hace que sea un creación feliz\, a modo de Matisse en sus collages de papeles. Sin buscar una afiliación a Matisse\, encontré que el collage se mostraba y se siente dócil y amable al hacerlo\, lo cual absorbió mi atención. Muchas veces pienso que si uno se pierde en lo que hace y no es consciente de su hacer\, es que\, uno está creando algo nuevo.\n-Josefina Di Candia\n\n\n\nMUSEO DE ARTE CONTEMPORÁNEO BEATO ANGÉLICO\nDiagonal 73 esq. 47. La Plata\nCapital de la Provincia de Buenos Aires
URL:https://fadla.org/calendario/tex-collage-josefina-di-candia/
LOCATION:MUSEO DE ARTE CONTEMPORÁNEO BEATO ANGÉLICO\, Diagonal 73 esq. 47\, La Plata - Buenos Aires\, Argentina
ATTACH;FMTTYPE=image/jpeg:https://fadla.org/wp-content/uploads/2025/07/30852-scaled.jpg
END:VEVENT
BEGIN:VEVENT
DTSTART;VALUE=DATE:20250908
DTEND;VALUE=DATE:20251017
DTSTAMP:20260422T045013
CREATED:20251008T222744Z
LAST-MODIFIED:20251008T222951Z
UID:37820-1757289600-1760659199@fadla.org
SUMMARY:XIX Binacional de Artes Plásticas y Visuales de Loja – Ecuador-Perú 2025
DESCRIPTION:¡El Municipio de Loja invita a la inauguración de la XIX Binacional de Artes Plásticas y Visuales de Loja – Ecuador-Perú 2025! Museo Puerta de la Ciudad Viernes\, 19 de septiembre |  11h00#LojaEsArteYCultura  #FIAVL2025 #JuntosSomosElFestival \n\n\n— en Puerta De La Ciudad Loja.
URL:https://fadla.org/calendario/xix-binacional-de-artes-plasticas-y-visuales-de-loja-ecuador-peru-2025/
LOCATION:Sala Eduardo Kingman de la Casa de la Cultura Ecuatoriana\, Núcleo de Loja.\, 6 de Diciembre y Patria\, Loja\, Ecuador
ATTACH;FMTTYPE=image/jpeg:https://fadla.org/wp-content/uploads/2025/10/548505814_1096715499303839_9216566043357807135_n.jpeg
END:VEVENT
BEGIN:VEVENT
DTSTART;VALUE=DATE:20251211
DTEND;VALUE=DATE:20260216
DTSTAMP:20260422T045013
CREATED:20260216T215902Z
LAST-MODIFIED:20260216T222839Z
UID:37883-1765411200-1771199999@fadla.org
SUMMARY:MARGARITA PAKSA. Ideas correspondientes\, 1964-1984
DESCRIPTION:MARGARITA PAKSA. Ideas correspondientes\, 1964-1984\, exposición que rinde homenaje a esta figura fundamental del arte de Argentina y América Latina.Curada por Nancy Rojas\, la exposición reúne más de sesenta piezas gráficas y objetuales\, instalaciones y documentación de proyectos que dan cuenta del devenir de esta artista prolífica\, pionera en el desarrollo de narrativas artísticas contemporáneas vinculadas al arte multimedial.La exhibición reescribe el mapa de una artista que no solo fue clave para la vanguardia argentina de los 60\, sino también para la construcción de un pensamiento estético que dialogó con los debates globales de la época: revolución sexual\, luchas feministas\, avances tecnológicos y movimientos políticos radicalizados.Margarita Paksa (Buenos Aires\, 1932 – 2020). Son numerosas sus muestras individuales y colectivas en Argentina\, Brasil\, Paraguay\, Canadá\, Inglaterra\, Francia y Egipto. Entre ellas destacan: La Memoria. Escalas y Variaciones\, Centro Cultural San Martín\, Buenos Aires\, 1986; Margarita Paksa. Drawings-dessins\, National Library of Canada (Ottawa\, 1986); Margarita Paksa. Instalaciones\, Museo Municipal de Bellas Artes de General Roca (Río Negro\, 1989) Paksa 1963-1989\, Museo de Artes Plásticas Eduardo Sívori\, Buenos Aires (1990)\, Las flores de mi país\, mural cerámico emplazado en la Estación Ángel Gallardo de la línea B de Subterráneos de Buenos Aires (1992)\, Instalaciones Multimedia\, Centro de Artes Visuales\, Museo del Barro\, Asunción (1994)\, Paksa. El partido de tenis y otros proyectos\, Museo de Arte Moderno\, Buenos Aires (1997). En 2012 el Museo de Arte Moderno de Buenos Aires realizó una gran muestra retrospectiva que abarcó obras desde los años 50 hasta los 2000.Sus obras forman parte de importantes colecciones: Museum of Modern Art (Nueva York)\, The Bronx Museum of the Arts (Nueva York)\, The Drawing Center (Nueva York)\, Centro Georges Pompidou (París)\, Embajada Argentina en Ottawa\, (Canadá)\, Museo del Barro (Asunción)\, Museo Nacional de Bellas Artes (Montevideo)\, Malba – Fundación Costantini (Buenos Aires)\, Museo de Arte Moderno de Buenos Aires\, Museo Nacional de Bellas Artes (Buenos Aires)\, Museo Municipal de Artes Plásticas Eduardo Sívori (Buenos Aires)\, Colección Citibank (Buenos Aires)\, Colección Cancillería Argentina (Buenos Aires)\, Museo de Arte Contemporáneo de Bahía Blanca\, Museo de Arte Contemporáneo de Rosario\, Museo de Arte Eduardo Minnicelli (Río Gallegos)\, Museo Nacional de Bellas Artes (Neuquén)\, Museo Municipal de General Roca (Río Negro)\, y diversas colecciones privadas de Argentina y del extranjero.Datos útilesDónde: Malba – Museo de Arte Latinoamericano de Buenos AiresMuestra: Ideas correspondientes\, 1964-1984. Curaduría: Nancy RojasClausura: Lunes 16 de febrero
URL:https://fadla.org/calendario/margarita-paksa-ideas-correspondientes-1964-1984/
LOCATION:Fundación Malba – Museo de Arte Latinoamericano de Buenos Aires\, Av. Figueroa Alcorta 3415\, CABA\, Argentina
ATTACH;FMTTYPE=image/webp:https://fadla.org/wp-content/uploads/2026/02/636976273_1483640260433985_1036529866719318493_n.webp
END:VEVENT
BEGIN:VEVENT
DTSTART;VALUE=DATE:20260318
DTEND;VALUE=DATE:20260319
DTSTAMP:20260422T045013
CREATED:20260320T015459Z
LAST-MODIFIED:20260320T015459Z
UID:37888-1773792000-1773878399@fadla.org
SUMMARY:Charly García visitó el Malba y se detuvo ante una obra clave de Antonio Berni
DESCRIPTION:Charly García visitó el Museo de Arte Latinoamericano de Buenos Aires (Malba) en una recorrida que no pasó desapercibida. El músico se desplazó por las salas del museo\, siguió con atención las explicaciones de las guías y se permitió una pausa especial frente a “Manifestación”\, de Antonio Berni\, una de las piezas más emblemáticas del arte argentino.
URL:https://fadla.org/calendario/charly-garcia-visito-el-malba-y-se-detuvo-ante-una-obra-clave-de-antonio-berni/
LOCATION:Fundación Malba – Museo de Arte Latinoamericano de Buenos Aires\, Av. Figueroa Alcorta 3415\, CABA\, Argentina
ATTACH;FMTTYPE=image/jpeg:https://fadla.org/wp-content/uploads/2026/03/Charly-Garcia-en-el-Malba-2.jpg
END:VEVENT
BEGIN:VEVENT
DTSTART;VALUE=DATE:20260607
DTEND;VALUE=DATE:20260608
DTSTAMP:20260422T045013
CREATED:20260412T095642Z
LAST-MODIFIED:20260412T095642Z
UID:37910-1780790400-1780876799@fadla.org
SUMMARY:"Emboscadas" Nueva exposición temporaria.
DESCRIPTION:¿Qué es? \nLa muestra parte de una pintura de la colección del museo para recrear la escena que representa y transformarla en una experiencia más dinámica. A través de esta reinterpretación\, busca ayudar al visitante a comprender mejor el contexto histórico de la Guerra de la Independencia en el norte argentino\, destacando la estrategia de la emboscada y ofreciendo una forma más interactiva de vincularse con el patrimonio. \n¿Cuándo? \nInaugura el  5 de abril. Disponible hasta el 7 de junio 2026. \nMartes a viernes de 9 a 17 h\, sábado de 14 a 18 h y domingo 10 a 14 h. \n¿Dónde? \nMuseo Histórico del Norte\, Caseros 549\, Salta\, Salta.
URL:https://fadla.org/calendario/emboscadas-nueva-exposicion-temporaria/
LOCATION:Museo Histórico del Norte\, Caseros 549\, Salta\, Salta.\, Argentina
ATTACH;FMTTYPE=image/jpeg:https://fadla.org/wp-content/uploads/2026/04/emboscadasdgfdd-scaled.jpeg
END:VEVENT
END:VCALENDAR