BEGIN:VCALENDAR
VERSION:2.0
PRODID:-//FADLA - ECPv6.15.20//NONSGML v1.0//EN
CALSCALE:GREGORIAN
METHOD:PUBLISH
X-WR-CALNAME:FADLA
X-ORIGINAL-URL:https://fadla.org
X-WR-CALDESC:Eventos para FADLA
REFRESH-INTERVAL;VALUE=DURATION:PT1H
X-Robots-Tag:noindex
X-PUBLISHED-TTL:PT1H
BEGIN:VTIMEZONE
TZID:America/Sao_Paulo
BEGIN:STANDARD
TZOFFSETFROM:-0300
TZOFFSETTO:-0300
TZNAME:-03
DTSTART:20250101T000000
END:STANDARD
END:VTIMEZONE
BEGIN:VEVENT
DTSTART;VALUE=DATE:20260318
DTEND;VALUE=DATE:20260319
DTSTAMP:20260421T174426
CREATED:20260320T015459Z
LAST-MODIFIED:20260320T015459Z
UID:37888-1773792000-1773878399@fadla.org
SUMMARY:Charly García visitó el Malba y se detuvo ante una obra clave de Antonio Berni
DESCRIPTION:Charly García visitó el Museo de Arte Latinoamericano de Buenos Aires (Malba) en una recorrida que no pasó desapercibida. El músico se desplazó por las salas del museo\, siguió con atención las explicaciones de las guías y se permitió una pausa especial frente a “Manifestación”\, de Antonio Berni\, una de las piezas más emblemáticas del arte argentino.
URL:https://fadla.org/calendario/charly-garcia-visito-el-malba-y-se-detuvo-ante-una-obra-clave-de-antonio-berni/
LOCATION:Fundación Malba – Museo de Arte Latinoamericano de Buenos Aires\, Av. Figueroa Alcorta 3415\, CABA\, Argentina
ATTACH;FMTTYPE=image/jpeg:https://fadla.org/wp-content/uploads/2026/03/Charly-Garcia-en-el-Malba-2.jpg
END:VEVENT
BEGIN:VEVENT
DTSTART;VALUE=DATE:20260607
DTEND;VALUE=DATE:20260608
DTSTAMP:20260421T174426
CREATED:20260412T095642Z
LAST-MODIFIED:20260412T095642Z
UID:37910-1780790400-1780876799@fadla.org
SUMMARY:"Emboscadas" Nueva exposición temporaria.
DESCRIPTION:¿Qué es? \nLa muestra parte de una pintura de la colección del museo para recrear la escena que representa y transformarla en una experiencia más dinámica. A través de esta reinterpretación\, busca ayudar al visitante a comprender mejor el contexto histórico de la Guerra de la Independencia en el norte argentino\, destacando la estrategia de la emboscada y ofreciendo una forma más interactiva de vincularse con el patrimonio. \n¿Cuándo? \nInaugura el  5 de abril. Disponible hasta el 7 de junio 2026. \nMartes a viernes de 9 a 17 h\, sábado de 14 a 18 h y domingo 10 a 14 h. \n¿Dónde? \nMuseo Histórico del Norte\, Caseros 549\, Salta\, Salta.
URL:https://fadla.org/calendario/emboscadas-nueva-exposicion-temporaria/
LOCATION:Museo Histórico del Norte\, Caseros 549\, Salta\, Salta.\, Argentina
ATTACH;FMTTYPE=image/jpeg:https://fadla.org/wp-content/uploads/2026/04/emboscadasdgfdd-scaled.jpeg
END:VEVENT
END:VCALENDAR