BEGIN:VCALENDAR
VERSION:2.0
PRODID:-//FADLA - ECPv6.15.20//NONSGML v1.0//EN
CALSCALE:GREGORIAN
METHOD:PUBLISH
X-WR-CALNAME:FADLA
X-ORIGINAL-URL:https://fadla.org
X-WR-CALDESC:Eventos para FADLA
REFRESH-INTERVAL;VALUE=DURATION:PT1H
X-Robots-Tag:noindex
X-PUBLISHED-TTL:PT1H
BEGIN:VTIMEZONE
TZID:America/Sao_Paulo
BEGIN:STANDARD
TZOFFSETFROM:-0300
TZOFFSETTO:-0300
TZNAME:-03
DTSTART:20230101T000000
END:STANDARD
END:VTIMEZONE
BEGIN:VEVENT
DTSTART;VALUE=DATE:20240516
DTEND;VALUE=DATE:20240812
DTSTAMP:20260421T233230
CREATED:20240527T121545Z
LAST-MODIFIED:20240527T121545Z
UID:37128-1715817600-1723420799@fadla.org
SUMMARY:Giacoya. Pintor del Pueblo
DESCRIPTION:Exposición temporaria en la Casa Nacional del Bicentenario. \n¿Qué es? \nGiacoya. Pintor del Pueblo presenta treinta y dos pinturas de mediano y gran formato (paisajes rurales\, bodegones\, naturalezas muertas\, marinas y pinturas constructivas) que Mario Giacoya realizó entre 2007 y el presente año\, con énfasis en su última producción. \nCurador: Enrique Aguerre\, director del Museo Nacional de Artes Visuales de Montevideo\, Uruguay. \n¿Cuándo? \nDel jueves 16 de mayo hasta el 11 de agosto; miércoles a domingos\, de 15 a 20 h. \n¿Dónde? \nCasa Nacional del Bicentenario; Riobamba 985\, CABA. Edificio accesible.
URL:https://fadla.org/calendario/giacoya-pintor-del-pueblo/
LOCATION:Casa Nacional del Bicentenario\, Riobamba 985\, CABA\, Argentina
ATTACH;FMTTYPE=image/jpeg:https://fadla.org/wp-content/uploads/2024/05/28.jpeg
END:VEVENT
BEGIN:VEVENT
DTSTART;VALUE=DATE:20240619
DTEND;VALUE=DATE:20240930
DTSTAMP:20260421T233230
CREATED:20251123T104311Z
LAST-MODIFIED:20251123T104756Z
UID:37840-1718755200-1727654399@fadla.org
SUMMARY:El buen lugar. Pinturas y dibujos 2017 – 2024
DESCRIPTION:El buen lugar\n\n\nLa exposición El buen lugar consta de 16 pinturas de gran formato y 24 dibujos en técnica mixta de mediano formato realizados por el reconocido pintor Ramiro Llona\, entre los años 2017 y 2024. Llona ha declarado\, en más de una oportunidad\, que para él creer en la pintura es un acto de fe. «Yo creo que el gran reto para mí radica en cómo plasmar una sensibilidad contemporánea sobre un soporte [la pintura] que con los años parece\, en un sentido casi peyorativo\, cada vez más tradicional»\, nos dice\, en una entrevista de hace más de veinte años. De manera que no resulta difícil\, me aventuro a decirlo\, plantear que ese «buen lugar»\, al que hace alusión el título de la exposición\, es la pintura misma. \nCon más de cincuenta años en su experiencia de artista\, Llona ha accedido a un lenguaje y a una factura\, hoy por hoy reconocible por la fascinación que suscita el complejo equilibrio que logra entre gestualidad y geometría en cada uno de sus lienzos. Heredero y crítico de la pintura abstracta\, de mediados del siglo XXI\, tanto local como internacional\, su aprendizaje personal señala hacia procesos personales de ruptura e identificación progresiva con automatismos que detonan situaciones en la superficie de la tela. Por un lado\, los «personajes» de sus pinturas que atienden al acontecimiento y al gesto crecen literalmente junto con la mancha. Mientras que\, por otro\, la geometría que la voz lúdica y autorreflexiva de sus títulos propone como ideal\, pero también como sueño\, invita a imaginar recintos. Ámbitos en donde el juego entre el «interior» y el «exterior» se resuelve en flujo y perspectivas ilusorias\, líneas de fuga especulares y\, en el caso de las pinturas\, colores saturados que son capaces de atrapar al ojo más desprevenido. En este caso\, el aspecto narrativo de sus imágenes surge a través de una exploración en dos o\, incluso\, tres zonas\, cuyas secuencias de izquierda a derecha invitan a buscar relaciones. Flujos no lineales que hay que aprender a intuir e imaginar. Son composiciones que\, en tanto unidades visuales\, eventualmente\, nos remiten a alguna cita visual tomada de la historia del arte occidental o\, incluso\, de sorprendentes esquemas pre-renacentistas. \nEn algún sentido estas obras de Llona\, realizadas en los últimos ocho años\, son evidencia de un proceso de trabajo que\, al absorber el actual tiempo distópico\, traslada\, a su manera\, el frágil equilibrio existencial de la época que nos ha tocado vivir a ciertas claves visuales mucho más estables y que obedecen a experiencias previas del artista. Llona que incluso fotografía\, en algunos casos\, los distintos momentos de una imagen\, desde su primera aparición sobre el lienzo en blanco como mancha inicial hasta su acabado como escena terminada. Con ello\, señala hacia la necesidad de ver este conjunto de obras como una exploración inconsciente\, entre aquello que\, finalmente estructura visualmente y una serie de imaginarios posibles. Entre la evidencia de lo real y la fuga de una ficción. \nAugusto Del Valle Cárdenas\nCurador del MAC — Lima. \n\n\nExposición / Museo de Arte Contemporáneo – Lima (MAC)\nCUÁNDO:\n19 jun de 2024 – 29 sep de 2024INAUGURACIÓN:\n19 jun de 2024 \nORGANIZADA POR:\nMuseo de Arte Contemporáneo – Lima (MAC) – Av. Grau 1511 – Barranco / Lima\, Perú \n\nARTISTAS PARTICIPANTES:\nRamiro Llona \n\n\nENLACES OFICIALES\nWeb
URL:https://fadla.org/calendario/el-buen-lugar-pinturas-y-dibujos-2017-2024/
LOCATION:Museo de Arte Contemporáneo\, Av. Grau 1511 - Barranco\, Lima\, Peru
ATTACH;FMTTYPE=image/jpeg:https://fadla.org/wp-content/uploads/2025/11/0018.jpeg
END:VEVENT
END:VCALENDAR