BEGIN:VCALENDAR
VERSION:2.0
PRODID:-//FADLA - ECPv6.15.20//NONSGML v1.0//EN
CALSCALE:GREGORIAN
METHOD:PUBLISH
X-ORIGINAL-URL:https://fadla.org
X-WR-CALDESC:Eventos para FADLA
REFRESH-INTERVAL;VALUE=DURATION:PT1H
X-Robots-Tag:noindex
X-PUBLISHED-TTL:PT1H
BEGIN:VTIMEZONE
TZID:America/Sao_Paulo
BEGIN:STANDARD
TZOFFSETFROM:-0200
TZOFFSETTO:-0300
TZNAME:-03
DTSTART:20140216T020000
END:STANDARD
BEGIN:DAYLIGHT
TZOFFSETFROM:-0300
TZOFFSETTO:-0200
TZNAME:-02
DTSTART:20141019T030000
END:DAYLIGHT
BEGIN:STANDARD
TZOFFSETFROM:-0200
TZOFFSETTO:-0300
TZNAME:-03
DTSTART:20150222T020000
END:STANDARD
BEGIN:DAYLIGHT
TZOFFSETFROM:-0300
TZOFFSETTO:-0200
TZNAME:-02
DTSTART:20151018T030000
END:DAYLIGHT
BEGIN:STANDARD
TZOFFSETFROM:-0200
TZOFFSETTO:-0300
TZNAME:-03
DTSTART:20160221T020000
END:STANDARD
BEGIN:DAYLIGHT
TZOFFSETFROM:-0300
TZOFFSETTO:-0200
TZNAME:-02
DTSTART:20161016T030000
END:DAYLIGHT
BEGIN:STANDARD
TZOFFSETFROM:-0200
TZOFFSETTO:-0300
TZNAME:-03
DTSTART:20170219T020000
END:STANDARD
BEGIN:DAYLIGHT
TZOFFSETFROM:-0300
TZOFFSETTO:-0200
TZNAME:-02
DTSTART:20171015T030000
END:DAYLIGHT
BEGIN:STANDARD
TZOFFSETFROM:-0200
TZOFFSETTO:-0300
TZNAME:-03
DTSTART:20180218T020000
END:STANDARD
BEGIN:DAYLIGHT
TZOFFSETFROM:-0300
TZOFFSETTO:-0200
TZNAME:-02
DTSTART:20181104T030000
END:DAYLIGHT
BEGIN:STANDARD
TZOFFSETFROM:-0200
TZOFFSETTO:-0300
TZNAME:-03
DTSTART:20190217T020000
END:STANDARD
END:VTIMEZONE
BEGIN:VEVENT
DTSTART;VALUE=DATE:20150124
DTEND;VALUE=DATE:20180801
DTSTAMP:20260424T233652
CREATED:20230120T221332Z
LAST-MODIFIED:20230120T221934Z
UID:34280-1422057600-1533081599@fadla.org
SUMMARY:Samson Flexor: Traçados e Abstrações
DESCRIPTION:La exposición Samson Flexor: Traçados e Abstrações es una presentación de la producción del artista\, con énfasis en la abstracción geométrica\, con obras de 1948 a 1960. \nLos dibujos indican relaciones evidentes en el propio camino de Flexor y\, por ello\, el título de la exposición nació de la observación de este segmento que\, a través de muchas apariciones de su pensamiento\, multiplicó formas\, planos y espacios en diagramas que se proyectaron en muchos otros.\n \nLas líneas y las abstracciones resultantes constituyen la esencia misma de la estética abstracto-constructiva-expresiva del artista\, especialmente cuando dirigió el “Abstraction Ateliê” a partir de 1951. \nLos dibujos a lápiz grafito y tinta china nos muestran un recorte de la obra en el estudio\, permitiendo el contacto con lo que\, normalmente\, está a la sombra del público. \nSu observación nos lleva a darnos cuenta de que el arte es el resultado de un trabajo minucioso\, de la dedicación al ejercicio de hacer y\, sobre todo\, de una búsqueda constante de un lenguaje que se desarrolla en el tiempo.\n \nFinalmente\, cabe señalar que Samson Flexor: Traçados e Abstractações puede componer\, para los visitantes de la exposición\, un panorama de la obra del artista.  \nWalter Zanini lo definió como “una búsqueda del ordenamiento calculado de formas y colores\, con una atención incesante al movimiento que llega a su clímax en lienzos con múltiples polos de fuga\, con espacios que emergen y retroceden y que\, luego\, abordan de forma gestual pintura para desarrollar una figuración rigurosa y sistemática de su plástica”.                                                                                                                    Carmen S. G. Aranha – Curadora
URL:https://fadla.org/calendario/samson-flexor-tracados-e-abstracoes/
LOCATION:Museu de Arte Contemporânea da Universidade de São Paulo (MAC USP) – MAC Ibirapuera\, Pavilhão Ciccillo Matarazzo\, 3° piso Parque Ibirapuera\, São Paulo\, Brasil
ATTACH;FMTTYPE=image/jpeg:https://fadla.org/wp-content/uploads/2023/01/Samson.jpg
END:VEVENT
BEGIN:VEVENT
DTSTART;VALUE=DATE:20150521
DTEND;VALUE=DATE:20150915
DTSTAMP:20260424T233652
CREATED:20200326T132524Z
LAST-MODIFIED:20200326T132524Z
UID:27262-1432166400-1442275199@fadla.org
SUMMARY:VIK MUNIZ BUENOS AIRES
DESCRIPTION:La Universidad Nacional de Tres de Febrero presenta la muestra VIK MUNIZ EN BUENOS AIRES\, la primera gran exposición retrospectiva del reconocido artista brasilero en Argentina; en la cual también se podrá apreciar la obra Buenos Aires\, de su serie Postales de ningún lugar. \n“Vik Muniz es un gran creador que a través de la fotografía cuestiona la realidad al tiempo que admiramos la belleza de las imágenes que produce\,” expresó Aníbal Jozami\, rector de la Universidad y director del MUNTREF. Esta postal de Buenos Aires “es una imagen que tiene un profundo significado y que nos llena de satisfacción ya que refleja un paisaje típico de nuestra ciudad; sin embargo\, está construida con infinidad de fragmentos fotográficos de otros lugares. Por eso Vik la identifica como una postal de ningún lugar”. \nA su vez\, Diana B. Wechsler\, directora del Departamento de Arte y Cultura de la UNTREF\, señala: “Vik es un fotógrafo que se pregunta por la fotografía\, sus condiciones de producción y de lectura. Su propuesta estética trabaja en la tensión entre proceso y obra. Expone ante el espectador fotografías que sean el punto de partida de una narrativa que le permita recuperar diferentes dimensiones presentes en esa imagen. En este sentido\, la imagen de Buenos Aires condensa tantas experiencias de lectura como el observador sea capaz de desarrollar según su capital cultural\, pensando en términos de cultura visual\, él como artista se ofrece como intermediario”. \nLa muestra se complementa con visitas guiadas\, talleres y la exhibición de una película. Los sábados y domingos a las 17 habrá visitas guiadas. Además se ofrecerán una serie de talleres: collage y fotografía para chicos\, los sábados y domingos a las 15.00 horas; collage con artistas con la participación de Eduardo Stupía\, Rosanna Schoijett y Gabriel Di Giuseppe. También se exhibirá la película Waste Land\, enfocada en el trabajo de Vik Muniz en Jardim Gramacho\, sábados a las 15.00 horas. \nLa inauguración está prevista para el jueves 21 de mayo a las 13 horas\, en el MUNTREF\, Centro de Arte Contemporáneo sede Hotel de Inmigrantes. Avenida Antártida Argentina 1355. (entre Dirección Nacional de Migraciones y Buquebús)\, Retiro. Entrada por Apostadero Naval\, Dársena Norte. \nCon entrada gratuita\, la muestra podrá visitarse de martes a domingos de 11 a 19\, y los fines de semana contará con visitas guiadas previstas para las 17\, tras lo talleres de fotografí­a y collage para niños que desde las 15 ofrecerán artistas como Eduardo Stupí­a\, Rosanna Schoijett y Gabriel Di Giuseppe; en paralelo\, los sábados\, a la proyección del filme «Waste Land»\, enfocada en el trabajo de Muniz en la favela de Jardim Gramacho. \n+ INFO
URL:https://fadla.org/calendario/vik-muniz-buenos-aires/
LOCATION:MUNTREF Centro de Arte Contemporáneo\, Av. Antártida Argentina 1355\, CABA\, Buenos Aires\, Argentina
CATEGORIES:Calendario
ATTACH;FMTTYPE=image/jpeg:https://fadla.org/wp-content/uploads/2020/03/vik_1256x620.jpg
END:VEVENT
BEGIN:VEVENT
DTSTART;VALUE=DATE:20150709
DTEND;VALUE=DATE:20150907
DTSTAMP:20260424T233652
CREATED:20210829T103042Z
LAST-MODIFIED:20210829T103042Z
UID:33269-1436400000-1441583999@fadla.org
SUMMARY:Ignacio Iturria: Pintar es soñar
DESCRIPTION:El título de la muestra: Pintar es soñar\, actúa como un concepto-metáfora para indicar que el núcleo de la pintura de Iturria se sitúa en ese plano del soñar despierto\, del ensueño\, que conlleva una ampliación de los límites de la vida humana en los planos del deseo y la imaginación. \nJosé Jiménez\, curador \nDesde el jueves 9 de julio al domingo 6 de setiembre de 2015\nSalas 2\, 4 y 5 \nMuseo Nacional de Artes Visuales\nTomás Giribaldi 2283 esq. Julio Herrera y Reissig\nParque Rodó – Montevideo – Uruguay\nTel.: +598 27116054 – 27116124 – 27116127 \nHorarios al público: martes a domingos de 13:00 a 20:00 horas.
URL:https://fadla.org/calendario/ignacio-iturria-pintar-es-sonar/
LOCATION:Museo Nacional de Artes Visuales\, Tomás Giribaldi 2283 esq. Julio Herrera y Reissig Encontrar en el mapa Parque Rodó -\, Montevideo\, Uruguay
ATTACH;FMTTYPE=image/jpeg:https://fadla.org/wp-content/uploads/2021/08/Detrás-de-todo-2013.jpeg
END:VEVENT
END:VCALENDAR