BEGIN:VCALENDAR
VERSION:2.0
PRODID:-//FADLA - ECPv6.15.20//NONSGML v1.0//EN
CALSCALE:GREGORIAN
METHOD:PUBLISH
X-WR-CALNAME:FADLA
X-ORIGINAL-URL:https://fadla.org
X-WR-CALDESC:Eventos para FADLA
REFRESH-INTERVAL;VALUE=DURATION:PT1H
X-Robots-Tag:noindex
X-PUBLISHED-TTL:PT1H
BEGIN:VTIMEZONE
TZID:America/Sao_Paulo
BEGIN:STANDARD
TZOFFSETFROM:-0200
TZOFFSETTO:-0300
TZNAME:-03
DTSTART:20140216T020000
END:STANDARD
BEGIN:DAYLIGHT
TZOFFSETFROM:-0300
TZOFFSETTO:-0200
TZNAME:-02
DTSTART:20141019T030000
END:DAYLIGHT
BEGIN:STANDARD
TZOFFSETFROM:-0200
TZOFFSETTO:-0300
TZNAME:-03
DTSTART:20150222T020000
END:STANDARD
BEGIN:DAYLIGHT
TZOFFSETFROM:-0300
TZOFFSETTO:-0200
TZNAME:-02
DTSTART:20151018T030000
END:DAYLIGHT
BEGIN:STANDARD
TZOFFSETFROM:-0200
TZOFFSETTO:-0300
TZNAME:-03
DTSTART:20160221T020000
END:STANDARD
BEGIN:DAYLIGHT
TZOFFSETFROM:-0300
TZOFFSETTO:-0200
TZNAME:-02
DTSTART:20161016T030000
END:DAYLIGHT
BEGIN:STANDARD
TZOFFSETFROM:-0200
TZOFFSETTO:-0300
TZNAME:-03
DTSTART:20170219T020000
END:STANDARD
BEGIN:DAYLIGHT
TZOFFSETFROM:-0300
TZOFFSETTO:-0200
TZNAME:-02
DTSTART:20171015T030000
END:DAYLIGHT
BEGIN:STANDARD
TZOFFSETFROM:-0200
TZOFFSETTO:-0300
TZNAME:-03
DTSTART:20180218T020000
END:STANDARD
BEGIN:DAYLIGHT
TZOFFSETFROM:-0300
TZOFFSETTO:-0200
TZNAME:-02
DTSTART:20181104T030000
END:DAYLIGHT
BEGIN:STANDARD
TZOFFSETFROM:-0200
TZOFFSETTO:-0300
TZNAME:-03
DTSTART:20190217T020000
END:STANDARD
END:VTIMEZONE
BEGIN:VEVENT
DTSTART;VALUE=DATE:20150124
DTEND;VALUE=DATE:20180801
DTSTAMP:20260424T173202
CREATED:20230120T221332Z
LAST-MODIFIED:20230120T221934Z
UID:34280-1422057600-1533081599@fadla.org
SUMMARY:Samson Flexor: Traçados e Abstrações
DESCRIPTION:La exposición Samson Flexor: Traçados e Abstrações es una presentación de la producción del artista\, con énfasis en la abstracción geométrica\, con obras de 1948 a 1960. \nLos dibujos indican relaciones evidentes en el propio camino de Flexor y\, por ello\, el título de la exposición nació de la observación de este segmento que\, a través de muchas apariciones de su pensamiento\, multiplicó formas\, planos y espacios en diagramas que se proyectaron en muchos otros.\n \nLas líneas y las abstracciones resultantes constituyen la esencia misma de la estética abstracto-constructiva-expresiva del artista\, especialmente cuando dirigió el “Abstraction Ateliê” a partir de 1951. \nLos dibujos a lápiz grafito y tinta china nos muestran un recorte de la obra en el estudio\, permitiendo el contacto con lo que\, normalmente\, está a la sombra del público. \nSu observación nos lleva a darnos cuenta de que el arte es el resultado de un trabajo minucioso\, de la dedicación al ejercicio de hacer y\, sobre todo\, de una búsqueda constante de un lenguaje que se desarrolla en el tiempo.\n \nFinalmente\, cabe señalar que Samson Flexor: Traçados e Abstractações puede componer\, para los visitantes de la exposición\, un panorama de la obra del artista.  \nWalter Zanini lo definió como “una búsqueda del ordenamiento calculado de formas y colores\, con una atención incesante al movimiento que llega a su clímax en lienzos con múltiples polos de fuga\, con espacios que emergen y retroceden y que\, luego\, abordan de forma gestual pintura para desarrollar una figuración rigurosa y sistemática de su plástica”.                                                                                                                    Carmen S. G. Aranha – Curadora
URL:https://fadla.org/calendario/samson-flexor-tracados-e-abstracoes/
LOCATION:Museu de Arte Contemporânea da Universidade de São Paulo (MAC USP) – MAC Ibirapuera\, Pavilhão Ciccillo Matarazzo\, 3° piso Parque Ibirapuera\, São Paulo\, Brasil
ATTACH;FMTTYPE=image/jpeg:https://fadla.org/wp-content/uploads/2023/01/Samson.jpg
END:VEVENT
BEGIN:VEVENT
DTSTART;VALUE=DATE:20150407
DTEND;VALUE=DATE:20150511
DTSTAMP:20260424T173202
CREATED:20231221T112801Z
LAST-MODIFIED:20231221T112801Z
UID:36546-1428364800-1431302399@fadla.org
SUMMARY:"Escenas de la vida tumultuosa" de Mariano Sapia
DESCRIPTION:La exposición «Escenas de la vida tumultuosa»\, de Mariano Sapia\, que se inaugura el martes 7 de abril a las 19 hs. en el Centro Cultural Borges\, permite acceder a la obra reciente de uno de los pintores argentinos más originales de la actualidad\, cuyas coloridas crónicas visuales de la vida cotidiana componen una excepcional y aguda antología de tipos\, escenarios y costumbres. \nNacido en Buenos Aires\, en el seno de una familia de artistas\, Mariano Sapia comenzó a estudiar dibujo a los 15 años con Ernesto Pesce y\, luego\, pintura con Carlos Gorriarena. Realizó su primera exposición individual en 1984 y desde entonces ha exhibido su obra regularmente en el país y en el exterior. Ha recibido numerosas distinciones\, entre ellas el tercer premio del Dibujo en el Salón Manuel Belgrano\, y su obra integra el patrimonio de importantes instituciones\, como el Museo Metropolitano de Nueva York.\nSus pinturas son un reflejo fiel pero transformado del paisaje suburbano: fábricas y camiones\, auto viejos amontonados\, gente humilde mirando un partido de fútbol por televisión bajo un puente\, parejas besándose o tocándose contra una pared o bajo unos árboles\, chicos jugando a la pelota en potreros y cirujas merodeando el lugar\, se contraponen con las imágenes de siluetas esbeltas de los carteles publicitarios\, que despiden su ideología consumista\, en medio de altos y grises edificios de departamentos.\n\n«Nací y viví 22 años en Lugano y allí está todo mezclado –dice Sapia-. De repente pasás de un barrio ‘barrio’\, a monoblok\, a villa\, a chalets paquetes y todo muy rápidamente\, y cuando uno es chico\, cosas extrañísimas y contrapuestas se las toma con naturalidad. (…) Pero mis pinturas no son una denuncia. ¿Qué estoy denunciando? ¿Cosas que todo el mundo ya sabe? Hay tantos canales de noticia que si la gente no quiere ver las cosas que pasan\, tampoco las va a ver en mi pintura. Siempre se puede hacer una lectura social pero el centro del relato pasa por otro lugar».\n\nLa exposición se puede visitar de lunes a sábados de 10 a 21 hs. y domingos de 12 a 21 hs. en Viamonte 525\, Ciudad Autónoma de Buenos Aires.
URL:https://fadla.org/calendario/escenas-de-la-vida-tumultuosa-de-mariano-sapia/
LOCATION:Centro Cultural Borges\, Viamonte 525\, esquina San Martin\, CABA\, Argentina
ATTACH;FMTTYPE=image/jpeg:https://fadla.org/wp-content/uploads/2023/12/Mariano-Sapia-en-el-Borges-2.jpeg
END:VEVENT
BEGIN:VEVENT
DTSTART;VALUE=DATE:20150415
DTEND;VALUE=DATE:20150601
DTSTAMP:20260424T173202
CREATED:20231130T080406Z
LAST-MODIFIED:20231130T080406Z
UID:36359-1429056000-1433116799@fadla.org
SUMMARY:“La mirada interior”
DESCRIPTION:“La mirada interior”\, la primera muestra integral de Eugenio Cuttica que llega al Museo Nacional de Bellas Artes y reúne pinturas\, esculturas e instalaciones interactivas desde los años ’70 hasta la actualidad\, tuvo el martes 14 de abril una inauguración multitudinaria. \n“Exponer acá es muy emocionante para mí\, porque desde los 14 años visito el Museo para ver obras como las de Fader\, Berni o Seguí. Este edificio siempre fue como un templo\, un lugar sagrado para mí; y esta exposición es una manera de desarrollar el legado que ellos dejaron en mí”\, expresó Cuttica. \nDurante el acto\, el Museo vio colmada la capacidad del pabellón de exposiciones de la planta baja y los visitantes debieron ingresar por tandas. Acompañaron a Cuttica la directora ejecutiva del MNBA\, Marcela Cardillo; el curador de la muestra\, Pablo De Monte; y autoridades y personalidades del arte y la cultura. \n“Esta es una muestra consagratoria”\, definió De Monte y luego detalló: “Armarla nos llevó cerca de siete meses: juntar la obra\, seleccionarla\, hablar con coleccionistas. La exposición funciona como una suerte de retrospectiva\, pero no hicimos foco en la cuestión cronológica\, sino que la armamos de acuerdo con aspectos expresivos o visuales”. \nPor su parte\, Cardillo manifestó: “Es muy importante hacer una retrospectiva como la de Eugenio Cuttica\, en la cual se involucran todas las áreas del Museo; y la excelencia del montaje tiene que ver con cómo trabaja el MNBA”. \nLa exposición cuenta con tres obras de grandes dimensiones elaboradas por el artista especialmente para esta muestra\, y también incluye el cuadro de Fernando Fader “El corral de las cabras”\, de 1926\, perteneciente a la colección del Mueso. De Monte explicó: “Cuando surgió la idea de hacer esta muestra\, le preguntamos a Eugenio sobre los cuadros que él había visto como estudiante y resultó que su obra preferida era esta de Fader”. El curador agregó: “Creemos que el Museo tiene una dimensión formativa para los artistas. Ahora está en el público encontrar las conexiones con la pintura de Cuttica\, pero ahí están”. \nAl respecto\, el artista contó: “La obra de Fader no se sabe si es figurativa o abstracta. Y casualmente ayer\, después de 40 años\, me di cuenta de que lo que yo vengo haciendo deriva también de este concepto”. \nEn la apertura de “La mirada interior”\, que puede visitarse hasta el 31 de mayo\, también hubo tiempo para disfrutar de la música de cámara: la orquesta Capella Pellegrina interpretó “El canto de Luna”\, pieza musical compuesta por el director Gustavo Twardy inspirada en uno de los cuadros del pintor. \nCuttica también se mostró sorprendido por la cantidad de asistentes: “Esta exposición ha sido hecha para la gente. Considero que el artista tiene una función social\, y he trabajado toda mi vida para dejar un mensaje. Espero que vengan a verla muchos más”. \nCardillo agregó en la misma línea: “Esta muestra es una propuesta muy atractiva. Hemos tenido una inauguración exitosa\, con muchísima afluencia de público\, que es lo que pretendemos: que el MNBA sea un museo de puertas abiertas”. \nLa muestra que recorre las obras del pintor desde la década del ’70 hasta el presente\, puede visitarse hasta el 31 de mayo.
URL:https://fadla.org/calendario/la-mirada-interior/
LOCATION:Museo Nacional  de Bellas Artes\, Av. Del Libertador 1473\, Ciudad Autónoma de Buenos Aires\, Argentina
ATTACH;FMTTYPE=image/jpeg:https://fadla.org/wp-content/uploads/2023/11/img_01.jpeg
END:VEVENT
END:VCALENDAR