BEGIN:VCALENDAR
VERSION:2.0
PRODID:-//FADLA - ECPv6.15.20//NONSGML v1.0//EN
CALSCALE:GREGORIAN
METHOD:PUBLISH
X-WR-CALNAME:FADLA
X-ORIGINAL-URL:https://fadla.org
X-WR-CALDESC:Eventos para FADLA
REFRESH-INTERVAL;VALUE=DURATION:PT1H
X-Robots-Tag:noindex
X-PUBLISHED-TTL:PT1H
BEGIN:VTIMEZONE
TZID:America/Sao_Paulo
BEGIN:STANDARD
TZOFFSETFROM:-0200
TZOFFSETTO:-0300
TZNAME:-03
DTSTART:20130217T020000
END:STANDARD
BEGIN:DAYLIGHT
TZOFFSETFROM:-0300
TZOFFSETTO:-0200
TZNAME:-02
DTSTART:20131020T030000
END:DAYLIGHT
BEGIN:STANDARD
TZOFFSETFROM:-0200
TZOFFSETTO:-0300
TZNAME:-03
DTSTART:20140216T020000
END:STANDARD
BEGIN:DAYLIGHT
TZOFFSETFROM:-0300
TZOFFSETTO:-0200
TZNAME:-02
DTSTART:20141019T030000
END:DAYLIGHT
BEGIN:STANDARD
TZOFFSETFROM:-0200
TZOFFSETTO:-0300
TZNAME:-03
DTSTART:20150222T020000
END:STANDARD
BEGIN:DAYLIGHT
TZOFFSETFROM:-0300
TZOFFSETTO:-0200
TZNAME:-02
DTSTART:20151018T030000
END:DAYLIGHT
BEGIN:STANDARD
TZOFFSETFROM:-0200
TZOFFSETTO:-0300
TZNAME:-03
DTSTART:20160221T020000
END:STANDARD
BEGIN:DAYLIGHT
TZOFFSETFROM:-0300
TZOFFSETTO:-0200
TZNAME:-02
DTSTART:20161016T030000
END:DAYLIGHT
BEGIN:STANDARD
TZOFFSETFROM:-0200
TZOFFSETTO:-0300
TZNAME:-03
DTSTART:20170219T020000
END:STANDARD
BEGIN:DAYLIGHT
TZOFFSETFROM:-0300
TZOFFSETTO:-0200
TZNAME:-02
DTSTART:20171015T030000
END:DAYLIGHT
BEGIN:STANDARD
TZOFFSETFROM:-0200
TZOFFSETTO:-0300
TZNAME:-03
DTSTART:20180218T020000
END:STANDARD
BEGIN:DAYLIGHT
TZOFFSETFROM:-0300
TZOFFSETTO:-0200
TZNAME:-02
DTSTART:20181104T030000
END:DAYLIGHT
BEGIN:STANDARD
TZOFFSETFROM:-0200
TZOFFSETTO:-0300
TZNAME:-03
DTSTART:20190217T020000
END:STANDARD
END:VTIMEZONE
BEGIN:VEVENT
DTSTART;VALUE=DATE:20141121
DTEND;VALUE=DATE:20150302
DTSTAMP:20260424T130238
CREATED:20200326T235050Z
LAST-MODIFIED:20200326T235050Z
UID:27285-1416528000-1425254399@fadla.org
SUMMARY:ALFREDO JAAR. ESTUDIOS SOBRE LA FELICIDAD
DESCRIPTION:La exposición que presentamos reúne la casi totalidad de la producción temprana de Alfredo Jaar realizada en Chile entre 1973 y 1981\, y se completa con algunas obras que refieren a Chile y que fueron llevadas a cabo en Nueva York. Estos trabajos\, exhibidos por primera vez en Buenos Aires\, plantean su singular modalidad de abordar el hecho artístico y de construir una poética propia\, pero\, fundamentalmente\, presentan algunas de las estrategias que aún hoy forman parte de su práctica artística: las intervenciones en el espacio público\, la reflexión sobre el modo en que la información es manipulada por los poderes hegemónicos y la reposición poética de las imágenes que son suprimidas por el régimen dominante de la información. \nCuando Chile “se apagó”\, al decir de Patricio Fernández\, Jaar tenía diecisiete años. Así\, sus primeros ejercicios como artista se vinculan con el intento por elaborar\, resistir\, disentir\, en definitiva\, lidiar -poéticamente- con una realidad brutalmente impuesta. De este intento dan cuenta las obras que conforman esta exposición\, que toma su nombre del primer proyecto de largo aliento que el artista realizó en Chile entre 1979 y 1981. \nEstudios sobre la Felicidad es una obra que\, en plena dictadura\, se apropió del espacio público para instalar en la ciudadanía una pregunta aparentemente ingenua pero que\, en ese contexto\, encerraba una profunda dimensión política: “¿Es usted feliz?”. A través de una serie de encuestas\, Jaar solicitaba a los transeúntes que votaran por sí o por no. Los resultados\, dispuestos en paneles y volcados a través de material audiovisual\, conforman un proyecto que conjuga las estrategias propias del arte conceptual pero que\, a la vez\, excede los marcos del arte para convertirse en un espacio de libertad -de expresión\, de ejercer el derecho a votar- e incluso\, un espacio de reflexión personal y existencial que\, al ser desplegado en la vía pública\, activa significativamente su dimensión social. \nHaber dejado Chile para radicarse en Nueva York no implicó para Jaar dejar de ocuparse de Chile\, sino más bien lo contrario. Así\, varias de las obras incluidas en esta exposición y producidas entre 1983 y 2012 dan cuenta de un arco extenso de tiempo en el que\, obstinadamente\, Jaar se empeñó en articular un proyecto que deja ver a las claras lo que todos intuimos o sospechamos desde siempre: el gobierno de Estados Unidos estuvo directamente implicado en los golpes de Estado que varios países latinoamericanos sufrieron cuando intentaban emprender procesos revolucionarios. \nPor supuesto que no es necesario preguntarse el por qué de una exposición de Alfredo Jaar en el Parque de la Memoria. Pero si lo fuera\, una de las tantas respuestas posibles podría buscarse en el carácter “aspiracional” y en la vocación política del arte de Jaar\, un arte que\, al igual que el Parque de la Memoria\, anhela movilizar certidumbres\, deshabituar pensamientos y que\, a pesar del desafío que implica\, asume día tras día la difícil tarea de articular poética y política\, ética y estética. \nFlorencia Battiti\, curadora Parque de la Memoria – Monumentos a las Víctimas del Terrorismo de Estado \nAlfredo Jaar. Punto Ciego \nDentro de este espacio se expone el film de una imagen que apenas sucede. Durante gran parte del día solo veremos un plasma vacío\, con cierto gránulo\, silencio. El escenario de un acontecimiento casi imperceptible. En ciertos momentos se percibe un espacio interior\, inmóvil\, determinado por tres planos que se juntan\, tres líneas unidas en un punto: un ángulo\, la esquina de un vacío. Un punto de fuga\, el punto ciego de la historia. \nLa imagen corresponde a un espacio que existe en algún lugar del Parque de la Memoria\, que sostiene un vínculo con el espacio exterior y que es\, por lo tanto\, sensible a los cambios de la luz del día. El tiempo es real\, lo que vemos es lo que en ese instante está sucediendo. La imagen se impregna de verdad. \nPunto Ciego representa un movimiento reductivo\, radical en su renuncia absoluta a todo efecto seductor. La no-imagen nos empuja dentro de nosotros mismos. Conforma una estructura meditativa. Es\, podríamos pensar\, una respuesta reactiva ante el frenesí por los archivos que invade las expresiones del arte contemporáneo. En lugar de alinear documentos en una operación fetichizante que en ocasiones despolitiza (el empaste de registros que no permite ver\, no permite escuchar\, no permite pensar). Jaar busca aproximarnos a una política de la percepción. La no-imagen\, esa ausencia\, el texto que antes de entrar nos informa y nos predispone: un mecanismo acotado que luego nos deja quietos\, solos. \nToda la obra de Alfredo Jaar podría pensarse como una investigación intensa en torno al poder de las imágenes. Su construcción y su instrumentalización. Los dispositivos que conforman su capacidad de conmover\, que la vuelven ineludible y que activan su fuerza transformadora. Imágenes que en el acto de percepción se vuelven inolvidables. El poder de una imagen de impregnar el acto de verla con una particular emoción que deja una marca\, un recuerdo específico. No el que proviene del espectáculo de la violencia ni de su estetización ni de la acumulación de documentos\, sino el que proviene tanto del tiempo en el que navegamos en nuestros recuerdos del momento al que la obra remite\, como del tiempo real\, verdadero\, con el que se conecta: el tiempo presente en el que transcurre nuestra percepción. \nAndrea Giunta\, Universidad de Buenos Aires \n+ INFO
URL:https://fadla.org/calendario/alfredo-jaar-estudios-sobre-la-felicidad/
LOCATION:Parque de la Memoria\, Av. Costanera Rafael Obligado 6745\, CABA\, Buenos Aires\, Argentina
CATEGORIES:Calendario
ATTACH;FMTTYPE=image/jpeg:https://fadla.org/wp-content/uploads/2020/03/alfredo-jaar-un-logo-para-amc3a9rica.jpg
END:VEVENT
BEGIN:VEVENT
DTSTART;VALUE=DATE:20141212
DTEND;VALUE=DATE:20150223
DTSTAMP:20260424T130238
CREATED:20190115T125445Z
LAST-MODIFIED:20190122T154743Z
UID:24872-1418342400-1424649599@fadla.org
SUMMARY:IV BIENAL ARTE CONTEMPORÁNEO DEL FIN DEL MUNDO: "Contrastes & Utopías".
DESCRIPTION:IV Edición de la Bienal Internacional de Arte Contemporáneo del Fin del Mundo: «Contrastes & Utopías». \nEntre el 12 de diciembre de 2014 y el 22 de febrero de 2015\, más de 150 artistas\, de 35 países de los 5 continentes\, serán los protagonistas de la Bienal Argentina\, a la que se integrará un nuevo Festival de Música Popular Contemporánea. \n\n\nSu sede central será Mar del Plata\, pero tendrá intervenciones especiales en Valparaíso y Punta Arenas\, entre febrero y marzo del 2015\, transformándola en binacional al incorporar a Chile como parte de este fin del mundo regional. \nLa Dirección Artística es de Massimo Scaringella (Italia)\, también a cargo de la dirección del Comité de diez curadores/selectores internacionales. Cuenta también con la colaboración especial del reconocido intelectual chileno Justo Pastor Mellado. \nDesde julio pasado\, la Bienal del Fin del Mundo fue elegida\, en Berlín\, Miembro Pleno de la International Biennial Association (IBA)\, prestigiosa institución con sede en Corea del Sur que nuclea a las principales bienales del mundo. \nEsta 4ta Edición tendrá a Italia como país invitado de honor. Participarán además: Albania\, Australia\, Bélgica\, Bolivia\, Brasil\, Chile\, China\, Costa de Marfil\, Cuba\, Estados Unidos\, España\, Finlandia\, Guatemala\, Macedonia\, Holanda\, India\, Israel\, Méjico\, Perú\, Rusia\, Suiza\, Taiwan\, Turquía\, Uruguay y Venezuela\, entre otros.\nLa propuesta reúne a los artistas: Joan Jonas (EEUU)\, Tracy Moffat (Australia)\, Liliana Porter (Arg)\, Karen Cytter (Israel)\, Regina Galindo (Guatemala)\, Matteo Basilé (Italia)\, Juan Doffo (Arg)\, Toshihiko Kato (Japón)\, Andrés Denegri (Arg) y Marinella Senatore (Italia)\, entre otros. \nLa Bienal explora temas culturales\, ambientales y ecológicos con el objeto de generar espacios interdisciplinarios de reflexión e investigación de los problemas contemporáneos\, propone aportes desde sus diversas temáticas bajo el lema «Pensar en el fin del mundo\, qué otro mundo es posible»\, y forma parte del Proyecto «Polo Austral de las Artes\, la Ciencias\, el Turismo y la Ecología». \n«…La particularidad que distingue a la Bienal del Fin del Mundo es su formato nómade\, que posee una significativa dimensión regional e internacional\, integrando países y ciudades del polo austral y generando valiosas experiencias de desarrollo en el terreno de la intervención social a través de residencias y exhibiciones en distintas disciplinas todas ellas de gran calidad\, produciendo una importante fortificación de las escenas culturales locales…» \nUn nuevo concepto geográfico\nLas versiones anteriores de la Bienal tuvieron a Ushuaia como ciudad anfitriona. La propuesta de renovar el lugar para desarrollar esta exposición internacional\, responde a su crecimiento y consolidación\, abarcando así en forma amplia la región mas austral del planeta e incorporando a Chile como parte insoslayable de ese «fin del mundo»\nHabiendo acordado con la Municipalidad de General Pueyrredón la instalación de su sede permanente principal en Mar del Plata\, realizará también importantes acciones en forma de sedes anexas en el Museo Río Seco y en el Faro San Isidro\, ambos de Punta Arenas y en el reconocido Parque Cultural de Valparaíso con exposiciones\, residencias\, talleres\, performances\, charlas y conferencias. \nParafraseando las palabras del Papa Francisco\, la Bienal confirma su concepto de «fin del mundo» regional e integra y vincula a su propuesta a las dos ciudades con puertos de mar más importantes del cono sur de América. \nAdemás de su Proyecto Central «Contrastes y Utopias»\, la Bienal plantea los siguientes proyectos especiales\, a cargo de importantes curadores: \n• PROSPECTIVA ITALIANA\, curado por Massimo Scaringella\n• AL LIMITE DEL CIELO QUIERO POSAR LA OFERTA DEL BLANCO\, curado por Vittoria Biasi\n• VISIÓN ELECTRÓNICA: Curado por Alessandro Demma\n• GIMNASIA DE LA VISIÓN\, Curado por Paolo Angelosanto\n• BORDERS\, RUPTURAS FORMALESY CONCEPTUALES: curado por Micol Di Veroli\n• EL RITMO DEL ARTE SE ENCUENTRA EN UN LUGAR INTERMEDIO\, curado por Fortunata Calabró\n• RIGOR SENCILLO\, LA PRESENCIA POBRE EN EL ARTE BRASILEÑO ACTUAL\, curado por Daniel Rangel\n• NI TAMBOR\, NI TAMBORINES\, curador Rafael Raddi\n• COMICS\, QUÉ PASIÓN!\, curado por Maurizio Escudero\n• PABELLÓN ESPECIAL DEL TÍBET\, curado por Ruggero Maggi \nACTIVIDADES COLATERALES OFICIALES\n• «MOTOR VEHICLE SUNDOWN» (Performance para autos en la vía pública)\, de George BRECHT\, con la Dirección Artística de Martin Virgili\n• «ESPACIO MAR DEL PLATA»\, (enero 2015)\, Importante presentación de Artistas de Mar del Plata formando parte y en articulación con la muestra internacional de la Bienal del Fin del Mundo\, Curado por Loredana Manca \nLUGARES DE EXPOSICIÓN Y DE INTERVENCIÓN ARTÍSTICA\nHall Central del Palacio Municipal\nEspacio Cultural UNZUÉ\nTorre Tanque\nPlaza del Agua\nVilla Mitre\nCasa del Puente\nHall del Museo MAR\nCentro Cultural Soriano\nTorreón del Monje\nEscuela Pascuala Mugaburu \nEntrada libre y gratuita en todos los lugares donde se exponen las obras de la Bienal \nPATROCINANTES\nPresidencia de la Nación Argentina\, Ministerio de Cultura de la Nación\, Ministerio de Desarrollo Social de la Nación\, Ministerio de Turismo de la Nación\, INPROTUR\, INAMU (Instituto Nacional de la Música)\, Gobierno de la Provincia de Buenos Aires\, Municipalidad de General Pueyrredon \nAUSPICIOS INSTITUCIONALES\nMinisterio de Relaciones Exteriores de Italia – «Cultura Italiana en Sudamérica»\, Ministerio de Bienes y Actividades Culturales y de Turismo\, Ministerio de Cultura/Consejo Nacional de la Cultura y Las Artes (Chile)\, Istituto Nazionale della Musica (ITALIA)Fundación MEMORIAL del Parlamento Latinoamericano (San Pablo\, BRASIL)\, \, Instituto Italiano de Cultura en Buenos Aires\, \, University of Delaware (USA)\, CAS Office of the Dean (USA)\, Office of the Provost (USA)\, Department of Art Office of Undergraduate Research (USA)\, Centro Cultural Coreano de Buenos Aires\, Yokohama College of Art and Design (Japón)\, World Art and Culture Exchange (Tai)\, \, Embajada de Italia en la Argentina\, Embajada de Italia en Chile\, Consulado de Italia en Mar del Plata\, Academia de Bellas Artes de Roma\, IGAV (Instituto Garuzzo para el Arte Contemporáneo\, TORINO\, ICCo (Brasil)\, Venice International University (VIU di VENEZIA)\, Federculture\, Museo de Ciencias Naturales de Mar del Plata. \nOrganiza: FUNDACIÓN BIENAL DEL FIN DEL MUNDO \n\n+ INFO
URL:https://fadla.org/calendario/iv-bienal-arte-contemporaneo-del-fin-del-mundo-contrastes-utopias/
LOCATION:Hall del Museo MAR\, Av. Félix U. Camet 800\, Mar del Plata\, Buenos Aires\, Argentina
CATEGORIES:Calendario
ATTACH;FMTTYPE=image/jpeg:https://fadla.org/wp-content/uploads/2019/01/rosa-800x600.jpg
END:VEVENT
BEGIN:VEVENT
DTSTART;VALUE=DATE:20141212
DTEND;VALUE=DATE:20150302
DTSTAMP:20260424T130238
CREATED:20200413T181345Z
LAST-MODIFIED:20200719T015310Z
UID:27781-1418342400-1425254399@fadla.org
SUMMARY:"Pérez Celis. Medio siglo de pintura 1957-2007"
DESCRIPTION:La muestra «Pérez Celis. Medio siglo de pintura 1957-2007» le propone al público patagónico una impactante retrospectiva\, la más grande realizada en el país desde su muerte\, y que además de la exhibición de sus trabajos recrea su último taller y proyecta un video con el aporte de varias personalidades de la cultura sobre su vida y obra. \nLa exposición «Pérez Celis. Medio siglo de pintura 1957-2007» se podrá visitar durante todo el verano\, con entrada gratuita\, en el Museo Nacional Bellas Artes de Neuquén\, ubicado en calle Mitre y Santa Cruz\, Parque Central\, Neuquén Capital. \n+ INFO
URL:https://fadla.org/calendario/perez-celis-medio-siglo-de-pintura-1957-2007/
LOCATION:Museo Nacional de Bellas Artes Neuquén\, Mitre y Santa Cruz\, Parque Central\, Neuquén Capital\, Neuquén\, Argentina
CATEGORIES:Calendario
ATTACH;FMTTYPE=image/jpeg:https://fadla.org/wp-content/uploads/2020/04/Perez-Celis-Vuelo-al-Sol-1980.jpg
END:VEVENT
BEGIN:VEVENT
DTSTART;VALUE=DATE:20150108
DTEND;VALUE=DATE:20150301
DTSTAMP:20260424T130238
CREATED:20190204T203159Z
LAST-MODIFIED:20190204T203542Z
UID:25468-1420675200-1425167999@fadla.org
SUMMARY:ROBERTO TABBUSH   en Playas Blancas
DESCRIPTION:Tabbush indaga en las exploraciones cromáticas a partir de el uso del óleo\, la acuarela y el pastel. Así construye sus paisajes en donde pareciera que predomina una abstracción de la que emergen figuras. \nActualmente presenta en Punta del Este una serie de paisajes en donde sedimentan los viajes y experiencias transitadas por el artista uruguayo. \n+ INFO
URL:https://fadla.org/calendario/roberto-tabbush-en-playas-blancas/
LOCATION:Puerto de Arte-Espacio Cultural\, Gorlero 535\, Esquina Calle 11\, Punta del Este\, Maldonado\, Uruguay
CATEGORIES:Calendario
ATTACH;FMTTYPE=image/jpeg:https://fadla.org/wp-content/uploads/2019/02/Roberto_Tabbush_obra.jpg
END:VEVENT
BEGIN:VEVENT
DTSTART;VALUE=DATE:20150124
DTEND;VALUE=DATE:20180801
DTSTAMP:20260424T130238
CREATED:20230120T221332Z
LAST-MODIFIED:20230120T221934Z
UID:34280-1422057600-1533081599@fadla.org
SUMMARY:Samson Flexor: Traçados e Abstrações
DESCRIPTION:La exposición Samson Flexor: Traçados e Abstrações es una presentación de la producción del artista\, con énfasis en la abstracción geométrica\, con obras de 1948 a 1960. \nLos dibujos indican relaciones evidentes en el propio camino de Flexor y\, por ello\, el título de la exposición nació de la observación de este segmento que\, a través de muchas apariciones de su pensamiento\, multiplicó formas\, planos y espacios en diagramas que se proyectaron en muchos otros.\n \nLas líneas y las abstracciones resultantes constituyen la esencia misma de la estética abstracto-constructiva-expresiva del artista\, especialmente cuando dirigió el “Abstraction Ateliê” a partir de 1951. \nLos dibujos a lápiz grafito y tinta china nos muestran un recorte de la obra en el estudio\, permitiendo el contacto con lo que\, normalmente\, está a la sombra del público. \nSu observación nos lleva a darnos cuenta de que el arte es el resultado de un trabajo minucioso\, de la dedicación al ejercicio de hacer y\, sobre todo\, de una búsqueda constante de un lenguaje que se desarrolla en el tiempo.\n \nFinalmente\, cabe señalar que Samson Flexor: Traçados e Abstractações puede componer\, para los visitantes de la exposición\, un panorama de la obra del artista.  \nWalter Zanini lo definió como “una búsqueda del ordenamiento calculado de formas y colores\, con una atención incesante al movimiento que llega a su clímax en lienzos con múltiples polos de fuga\, con espacios que emergen y retroceden y que\, luego\, abordan de forma gestual pintura para desarrollar una figuración rigurosa y sistemática de su plástica”.                                                                                                                    Carmen S. G. Aranha – Curadora
URL:https://fadla.org/calendario/samson-flexor-tracados-e-abstracoes/
LOCATION:Museu de Arte Contemporânea da Universidade de São Paulo (MAC USP) – MAC Ibirapuera\, Pavilhão Ciccillo Matarazzo\, 3° piso Parque Ibirapuera\, São Paulo\, Brasil
ATTACH;FMTTYPE=image/jpeg:https://fadla.org/wp-content/uploads/2023/01/Samson.jpg
END:VEVENT
END:VCALENDAR