BEGIN:VCALENDAR
VERSION:2.0
PRODID:-//FADLA - ECPv6.15.20//NONSGML v1.0//EN
CALSCALE:GREGORIAN
METHOD:PUBLISH
X-ORIGINAL-URL:https://fadla.org
X-WR-CALDESC:Eventos para FADLA
REFRESH-INTERVAL;VALUE=DURATION:PT1H
X-Robots-Tag:noindex
X-PUBLISHED-TTL:PT1H
BEGIN:VTIMEZONE
TZID:America/Sao_Paulo
BEGIN:STANDARD
TZOFFSETFROM:-0200
TZOFFSETTO:-0300
TZNAME:-03
DTSTART:20130217T020000
END:STANDARD
BEGIN:DAYLIGHT
TZOFFSETFROM:-0300
TZOFFSETTO:-0200
TZNAME:-02
DTSTART:20131020T030000
END:DAYLIGHT
BEGIN:STANDARD
TZOFFSETFROM:-0200
TZOFFSETTO:-0300
TZNAME:-03
DTSTART:20140216T020000
END:STANDARD
BEGIN:DAYLIGHT
TZOFFSETFROM:-0300
TZOFFSETTO:-0200
TZNAME:-02
DTSTART:20141019T030000
END:DAYLIGHT
BEGIN:STANDARD
TZOFFSETFROM:-0200
TZOFFSETTO:-0300
TZNAME:-03
DTSTART:20150222T020000
END:STANDARD
BEGIN:DAYLIGHT
TZOFFSETFROM:-0300
TZOFFSETTO:-0200
TZNAME:-02
DTSTART:20151018T030000
END:DAYLIGHT
END:VTIMEZONE
BEGIN:VEVENT
DTSTART;VALUE=DATE:20140102
DTEND;VALUE=DATE:20150101
DTSTAMP:20260424T084640
CREATED:20200611T143449Z
LAST-MODIFIED:20200611T143449Z
UID:28550-1388620800-1420070399@fadla.org
SUMMARY:Homenaje a Litania Prado.
DESCRIPTION:LITANIA PRADO \nLitania\, de 46 años\, ha sido discapacitada seriamente por una artritis reumatoide desde que tenía 15 años. Debido a esta grave enfermedad\, también quedo ciega hasta que mediante una operación pudo milagrosamente ver otra vez. En ese ir y venir a los hospitales y en las charlas de viaje le ofrecimos si le interesaba capacitarse en pintura como una actividad para generar ingresos. Por supuesto dijo que sí. Es así como el reconocido pintor salteño Jorge Marino\, le dio las primeras instrucciones de cómo preparar la base y luego pintar. A partir de ahí (1995) no ha cesado en este oficio y ha demostrado que hay un lugar para estos pintores en el espectro de pintura Argentina. La pintura la muestra tal cual es: feliz\, optimista y llena de vida. La pintura le ha cambiado la vida dándole independencia y dignidad. Detrás de sus obras hay una explicación en idioma Wichi y en castellano de lo que se ve en el cuadro. \nREINALDO PRADO \nSu verdadero nombre en Wichi \, es Ilhintes. Nacido en Misión Chaqueña en el año 1966. Hijo de Juan Prado\, pero fue criado huérfano por los misioneros debido a que su padre mato a su madre justo al nacer\, escapo al monte por temor a represalias y nunca más volvió. Reinaldo comenzó su trabajo creativo como artesano de la madera haciendo delicados pájaros en miniaturas. Hace unos 8 años se inicio con la pintura debido a que su hermana Litania \,se había largado con este oficio unos años antes. Es una persona muy callada\, respetuosa y observadora\, características todas estas de los Wichi. Su pintura describe con asombro detalle de las costumbres tradicionales de su pueblo y de su entorno. El monte y la relación de la gente con el monte están documentados en sus pinturas y será para las generaciones futuras un registro de su cultura y tradiciones. Todas las pintura tienen detrás una explicación de lo que se ve. En idioma Wichi y en castellano. \nHomenaje a “Litania Prado” los Wichi pintan su mundo. La muestra se podrá visitar en el horario de 9:00 a 19:30 hs. \nMuseo Casa Arias Rengel\, Sala Nº 2\, planta baja. \nPeatonal La Florida 20\, Ciudad de Salta \n+ INFO
URL:https://fadla.org/calendario/homenaje-a-litania-prado/
LOCATION:Museo Casa Arias Rengel.\, Peatonal La Florida 20\, Ciudad de Salta\, Salta\, Argentina
CATEGORIES:Calendario
ATTACH;FMTTYPE=image/jpeg:https://fadla.org/wp-content/uploads/2020/06/Litania-Prado-Tierra-wichi.jpg
END:VEVENT
BEGIN:VEVENT
DTSTART;VALUE=DATE:20140628
DTEND;VALUE=DATE:20141020
DTSTAMP:20260424T084640
CREATED:20201114T105458Z
LAST-MODIFIED:20201114T105458Z
UID:31515-1403913600-1413763199@fadla.org
SUMMARY:Víctor Grippo. Transformación
DESCRIPTION:Esta exposición comisariada por la española Alicia Chillida pretende ofrecer una amplia visión del trabajo de Víctor Grippo desde el inicio de su producción artística en los años sesenta hasta el 2002 tomando como referencia la idea de la transformación\, uno de los principios que fundamentan su práctica artística: transformación de la ciencia en arte\, de la materia en energía\, de la energía en conciencia\, de la muerte en vida. \nOriginalmente formado como químico\, Víctor Grippo comienza su trabajo como pintor en el cargado clima político de los años sesenta. A lo largo de su vida mantendrá un interés constante por las relaciones entre arte\, ciencia y vida cotidiana. Su fascinación por la transformación y la regeneración inherentes a la naturaleza\, por su poder alquímico\, impregna ya sus primeras esculturas e instalaciones en la década de los setenta. Ética y estética son cuestiones prioritarias para este artista que no concibe disociar el arte de la vida. La obra de Víctor Grippo\, en apariencia hermética\, nos expone a una poética cargada de utopía y humanismo. La revolución es en él silenciosa\, lenta pero continua. El objetivo crucial de su trabajo es provocar mayor conciencia en el hombre\, en la comunidad. \nLa exposición ha sido coproducida por el MUAC de México D.F y el Centro Galego de Arte Contemporáneo de Santiago de Compostela\, cuenta con la colaboración de AC/E a través de su programa PICE para la internacionalización de la cultura española e itinerará posteriormente a la Biblioteca Luis Ángel Arango de Bogotá.
URL:https://fadla.org/calendario/victor-grippo-transformacion/
LOCATION:MUAC. Museo Universitario de Arte Contemporáneo de México\, Av. Insurgentes Sur 3000\, C.U.\, Coyoacán\, 04510\, Mëxico D.F
ATTACH;FMTTYPE=image/jpeg:https://fadla.org/wp-content/uploads/2020/11/victor-Grippo-Transformación.jpg
END:VEVENT
BEGIN:VEVENT
DTSTART;VALUE=DATE:20140930
DTEND;VALUE=DATE:20141027
DTSTAMP:20260424T084640
CREATED:20220421T194226Z
LAST-MODIFIED:20220421T194652Z
UID:33782-1412035200-1414367999@fadla.org
SUMMARY:Carlos Cañás Del suelo y la distancia.
DESCRIPTION:Nacido en 1928\, comenzó su camino artístico desde muy joven. Enérgico\, emprendedor\, pasional y a la vez reflexivo Carlos Cañás no cesa jamás de crear. A principios de la década del ‘50 comenzaba con sus primeros envíos a los salones y a exponer su obra con más asiduidad\, siendo reconocido y premiado en varias oportunidades hasta hoy. \nEn ésta ocasión\, y fiel a su espíritu siempre renovador presenta sus pinturas más recientes. \nHace algunos años atrás dijo en una entrevista: “siento mucho el color\, con todas las variantes\, por ahí aterrizó en tonos bajos\, pardos o en grises y de pronto en una exaltación polícroma. El uso del color está ligado al estado de ánimo o a una decisión totalmente deliberada de estar observando.” Y que mejor lugar\, el Museo que creara Benito Quinquela Martín\, para exponer las obras de éste gran artista. \nSabrina Díaz Potenza Curadora MBQM \nCarlos Cañás \nNació en Buenos Aires\, Argentina\, en 1928. Se formó en las Escuelas Nacionales de Bellas Artes “Manuel Belgrano”\, “Prilidiano Pueyrredón” y “Ernesto De La Cárcova”. \nComenzó sus envíos a salones en 1953. En 1961 viajó a Europa becado por el Fondo Nacional de las Artes y luego a Brasil\, invitado por la Embajada Argentina. En 1962 realizó su primera muestra individual y hasta la actualidad desarrolla su obra artística en forma ininterrumpida. Presentó más de 140 exposiciones individuales en Argentina y el exterior. Participó de numerosas muestras colectivas junto a destacados artistas. \nObtuvo importantes distinciones\, entre ellas destacándose el “Primer Premio del Salón Nacional de Córdoba” en 1966\, el “Primer Premio del Salón Nacional de Tucumán” en 1969 y el “Gran Premio de Honor del LXVI Salón Nacional de Artes Plásticas” en 1977. Sus obras se encuentran en colecciones de Argentina\, Chile\, Paraguay\, Uruguay\, Brasil\, EE.UU.\, Francia\, Italia\, España\, Japón e Israel.
URL:https://fadla.org/calendario/carlos-canas-del-suelo-y-la-distancia/
LOCATION:Museo Benito Quinquela Martín\, Av. Don Pedro de Mendoza 1835\, CABA\, Argentina
ATTACH;FMTTYPE=image/jpeg:https://fadla.org/wp-content/uploads/2022/04/carlos-canas-de-la-serie-del-suelo-y-la-distancia-acr-120-x-120-cm-2013_resize-1024x1024-1.jpeg
END:VEVENT
BEGIN:VEVENT
DTSTART;VALUE=DATE:20141011
DTEND;VALUE=DATE:20141208
DTSTAMP:20260424T084640
CREATED:20220817T091426Z
LAST-MODIFIED:20220817T092231Z
UID:34009-1412985600-1417996799@fadla.org
SUMMARY:Miguel Carlos Victorica: Un príncipe en la República de la Boca.
DESCRIPTION:Atractiva propuesta\, que invita a visitar un recorrido por las obras del reconocido artista como también dibujos\, documentos y objetos personales que se presentan por primera vez al público. \nHuellas muy signiﬁcativas de su mundo íntimo\, objetos y documentación\, generosamente donados al Museo por el Dr. Oscar Cavarra\, que nos aproximan tanto a datos de alto valor documental\, como a pintorescas anotaciones domésticas. Objetos que formaron parte de sus naturalezas muertas\, libros de cabecera e imágenes de santos que reﬂejan el fervor religioso de Miguel Carlos Victorica. \nAsí como los sumarios apuntes realizados a lápiz o carbón\, conﬁguran un conjunto de “instantáneas” capaces de graﬁcar la biografía del artista\, y las íntimas pulsiones a partir de las cuales construía su tan particular modo de ver el mundo\, es decir\, su obra. \nVictorica fue un artista de gran oﬁcio\, que comenzó a recibir lecciones de pintura a edad muy temprana. Más adelante estudió en la Academia de la Asociación Estímulo de Bellas Artes\, donde tuvo como mentores a De la Cárcova\, Sívori\, Della Valle\, Giudice\, entre otros. Gracias a una beca\, continuó sus estudios en Europa y allí completó su formación\, alternando las lecciones en el taller de Desiré Lucas con visitas a los grandes museos. \nComo explica Victor G. Fernández\, Director del Museo\, “Una vez de regreso a la Argentina iba a seguir sus propios caminos. Ya no habría huellas para continuar sino horizontes por explorar”. Su producción\, siempre ﬁgurativa\, se ajustará a los géneros tradicionales: retratos\, paisajes\, naturalezas muertas\, desnudos y temas religiosos. Su originalidad radicará menos en el “qué” pinta\, que en el “cómo” lo pinta. No habrá soluciones o recetas uniformes; era su inspiración\, pero siempre acompañada por su oﬁcio\, que le permitía abordar con igual eﬁcacia los rumbos que sus búsquedas le dictaban. \n\n\n\n\n\nMiguel Carlos Victorica \nNace en Buenos Aires el 4 de enero de 1884. Tempranamente\, inicia sus estudios artísticos e ingresa a la escuela de la Asociación Estímulo de Bellas Artes\, donde tiene por maestros a Ángel Della Valle\, Eduardo Sívori\, Reinaldo Giudici\, y Ernesto de la Cárcova\, entre otros. En 1911 viaja a París y obtiene una beca del Gobierno para continuar allí sus estudios. A su vuelta\, en 1922 instala su taller en la Vuelta de Rocha y se dedica a la vida de artista bohemio en el barrio de la Boca. En 1931 realiza su primera exposición individual en la Asociación Amigos del Arte. \nObtiene varios premios\, entre ellos\, le otorgan el Gran Premio Adquisición del Salón Nacional en 1941. Sus obras son enviadas a la Bienal de Venecia en 1952. Es homenajeado en la Sociedad Argentina de Artistas Plásticos y obtiene tres años antes de su muerte\, el Gran Premio de Honor en el Salón Anual de Santa Fe. Fallece en Buenos Aires a los 71 años de edad y es velado en el Museo de Bellas Artes Quinquela Martín. \n\n\n\n\n\nMiguel Carlos Victorica\nUn príncipe en la República de La Boca \nLugar: Museo Benito Quinquela Martín\, Av. Pedro de Mendoza 1843.\nFecha: hasta el 7 de diciembre.\nHorario: mar a vier\, 10 a 18; sáb y dom\, 11 a 18.  Inaugura: 13hs\nEntrada: Bono contribución $10.-
URL:https://fadla.org/calendario/miguel-carlos-victorica-un-principe-en-la-republica-de-la-boca-2/
LOCATION:MUSEO DE BELLAS ARTES BENITO QUINQUELA MARTÍN\, Av. Pedro de Mendoza 1835 - La Boca\, CABA\, Argentina
ATTACH;FMTTYPE=image/jpeg:https://fadla.org/wp-content/uploads/2020/11/Miguel-Carlos-Victorica-La-barrerita-sobre-la-calle-Parker.jpg
END:VEVENT
END:VCALENDAR