BEGIN:VCALENDAR
VERSION:2.0
PRODID:-//FADLA - ECPv6.15.20//NONSGML v1.0//EN
CALSCALE:GREGORIAN
METHOD:PUBLISH
X-WR-CALNAME:FADLA
X-ORIGINAL-URL:https://fadla.org
X-WR-CALDESC:Eventos para FADLA
REFRESH-INTERVAL;VALUE=DURATION:PT1H
X-Robots-Tag:noindex
X-PUBLISHED-TTL:PT1H
BEGIN:VTIMEZONE
TZID:America/Sao_Paulo
BEGIN:STANDARD
TZOFFSETFROM:-0200
TZOFFSETTO:-0300
TZNAME:-03
DTSTART:20120226T020000
END:STANDARD
BEGIN:DAYLIGHT
TZOFFSETFROM:-0300
TZOFFSETTO:-0200
TZNAME:-02
DTSTART:20121021T030000
END:DAYLIGHT
BEGIN:STANDARD
TZOFFSETFROM:-0200
TZOFFSETTO:-0300
TZNAME:-03
DTSTART:20130217T020000
END:STANDARD
BEGIN:DAYLIGHT
TZOFFSETFROM:-0300
TZOFFSETTO:-0200
TZNAME:-02
DTSTART:20131020T030000
END:DAYLIGHT
BEGIN:STANDARD
TZOFFSETFROM:-0200
TZOFFSETTO:-0300
TZNAME:-03
DTSTART:20140216T020000
END:STANDARD
BEGIN:DAYLIGHT
TZOFFSETFROM:-0300
TZOFFSETTO:-0200
TZNAME:-02
DTSTART:20141019T030000
END:DAYLIGHT
END:VTIMEZONE
BEGIN:VEVENT
DTSTART;VALUE=DATE:20130509
DTEND;VALUE=DATE:20130602
DTSTAMP:20260423T205723
CREATED:20190122T190348Z
LAST-MODIFIED:20190122T190348Z
UID:25023-1368057600-1370131199@fadla.org
SUMMARY:Mónica Rojas: Circunvalación del Olvido
DESCRIPTION:Fenómeno fundamental entre fines del Siglo XX e inicios del XXI\, la fotografía no es una simple corriente del arte contemporáneo. \nLa misma llega en realidad a abrazar la categoría general de la imagen\, las investigaciones experimentales posibles del universo virtual\, las formas alternativas de la comunicación en la era de los nuevos medios\, la historia del fin de los modernismos en el momento en el cual entra en crisis el estatuto de la obra de arte\, la problemática característica del documento\, en un contexto en el cual el arte no es más el único horizonte de la creación y además\, el montaje de las imagenes en la época en la cual se duda de la experiencia que nos ofrecen las representaciones. \nLa acción fotográfica consiste en un proceso más complejo del técnico elemental. La fotografía artística es el resultado de una proyectualidad visual y psíquica que se precisa aún antes del obturador con el cual el fotógrafo toma la decisión definitiva de ejecutar la imagen. \nHenos aquí en el acto de remodelar los confines entre la fotograña en sí misma y la pintura. Henos aquí en la propuesta de imagen de Mónica Rojas. \nCon la particularidad de poner en ejecución la captura de momentos de tiempos disyuntivos\, entre falsas pistas y lo onírico como brutal gentileza\, transpone y vela al unísono el disimulo y la desaparición de espacios y personajes que revitalizan lugares y voces sin narración alguna\, que como característica de las estéticas posmodernistas\, finaliza colocando en la falacia entre la representación y la recreación . Vestir ruinas pareciera ser su cometido\, otorgarles hábito y por lo tanto volver a habitarlas pareciera ser su objeto. \nLos trayectos de la relación entre olvido y memoria son múltiples e insondables del mismo modo que lo son las vias que las creencias atribuyen a los dioses. Carece de sentido preguntarse acerca del despojo espacial\, los escombros y el abandono de los espacios y construcciones ante los cuales nos pone\, más bien nos propone la insidiosa estaca acerca de su sobrevivencia\, de su permanencia en el tiempo y de aquello que aún habita sus cimientos. \nAtesoramiento de restos\, arequeología de lo vivido\, perdurabilidad de huellas y rastros y una notable voluntad de rechazar el olvido\, pareciera ser su meta\, sin pretensión de documentar sino de elevar a protogonistas aquellas marcas y grietas en los viejos muros desgarrados donde fue albergada alguna vivencia. \nMarcas y escisiones de supuestos mundos paralelos que conviven\, edificios abandonados y paisajes desgarrados pero con grietas florecidas. Construcciones- testimonios\, que parecieran especializarse en el hallazgo de brotes donde la mirada de Mónica Rojas sabe leer las imagenes de los cementos\, ladrillos\, pisos\, tierras\, despojos y deshechos\, y los cuerpos que insisten en seguir presentes en un espacio que simularía ya no querer de ellos\, entre la clandestinidad\, la historia y la perseverancia de sus propias emociones. \nEntre luces y sombras\, el hábito de penetrar el mundo material e imponerle la vida se dirige hacia el testimonio y su diálogo para con un paisaje constituido por el abandono y su recuperación\, donde la huella y trazo de lo vivenciado hacen a la excedencia del mero registro. \nInterpelación doble\, ya que nos da la posibilidad de una otra mirada sobre lugares y sitios localizables geográfica e históricamente abriendo al recuerdo y su presencia\, pero al mismo tiempo imaginar y trasladarnos en la experiencia\, paso y tránsito de otros\, que todavía hoy\, de alguna manera conviven entre nosotros. \nLa artista nos pone de lleno en el seno de la problemática de una estética contemporánea que diferencia el espacio del sitio y a éste del lugar. \nSi es cierto que lo humano no le habla a las cosas sino que nosotros somos hablados por ellas\, entonces podríamos comprender y comprendernos a través de estas imagenes en algo del lamento de ciertas ruinas vestidas\, sus emplazamientos y vestigios\, a los que muy paulatinamente podríamos extirparles una nueva vida que sigue queriendo de sí. \nUna manera implícita de estar dispuestos a la nueva tarea del por-venir. \nPor Claudio Ongaro Haelterman
URL:https://fadla.org/calendario/monica-rojas-circunvalacion-del-olvido/
LOCATION:Museo Municipal Bellas Artes Timoteo Navarro\, 9 de Julio 44\, S. M. de Tucumán\, Tucumán\, Argentina
CATEGORIES:Calendario
ATTACH;FMTTYPE=image/jpeg:https://fadla.org/wp-content/uploads/2019/01/mr.jpg
END:VEVENT
BEGIN:VEVENT
DTSTART;VALUE=DATE:20130515
DTEND;VALUE=DATE:20130701
DTSTAMP:20260423T205723
CREATED:20190123T104959Z
LAST-MODIFIED:20190123T104959Z
UID:25053-1368576000-1372636799@fadla.org
SUMMARY:Arpegio de Colores
DESCRIPTION:Arpegio de Colores. Colectiva en el Art Hall Howard Johnson \nEl miércoles 15 de mayo el Art Hall del Hotel Howard Johnson La Cañada dió inicio a su primera exposición colectiva. El arte nos ofrece distintas rutas. En este caso esas rutas tienen cruces y un punto de encuentro llamado “Arpegio de Colores”. Fabiana Rossi\, Mariquita Quiroga\, María Jimena Cambas Vaca y Luciana Bonavía\, cada una con su impronta\, exponen sus producciones artísticas en el ya legitimado muro de arte del hotel. \nEl hall del hotel como un paisaje calmo\, placentero\, de disfrute…. y estos cuatro caminos con sus ritmos\, acentos\, climas… con su propia fuerza y carácter. \nLa obra de Fabiana Rossi invita a buscar “las palabras escondidas en la tierra y el misterio absoluto e infinito del cielo”.\n[Hombre que busca distraído las palabras escondidas en la tierra y el misterio absoluto e infinito del cielo\, Hombre que busca en un complejo archivo de mil palabras \, en oscuras profundidades y tal vez su respuesta se encuentre simple y pura en la Piedra\, la Tormenta\, la Nube y la mirada eterna hacia el Mañana.]\n// Fabiana Rossi \nMariquita Quiroga nos sitúa simultáneamente en un mundo de sueños y realidades\, de habitantes del futuro y del pasado… “más allá de la naturaleza”.\n[“Alicia: ¿Cuánto tiempo es para siempre?\nConejo Blanco: A veces\, solo un segundo”\nLewis Carol\nEncuentro a estos seres\, en un papel en blanco\, en manchas de humedad\, en las caras de amigos\, en las manchas de las plantas\, en las nubes\, en los sueños\, en las realidades… salen naturalmente\, se presentan y quedan intactas por un segundo.\nTengo la sensación cuando las miro que desean contarme un presagio\, del futuro o del pasado.\nAmaso la pasta de pigmentos creando un mundo de sintonías apropiadas al espacio del habitante que reclama su color.\nAhí mismo\, congelado en el tiempo\, te llama\, te busca\, te indica que mirar.]\n// Mariquita Quiroga \nMaría Jimena Cambas Vaca a través de su obra expresa: “…vengo de un espacio donde cotidianamente me reinvento a través del color. El último bastión donde uno se refugia. El último bastión de resistencia.”\n[“A veces\, no siempre\, sin querer queriendo el sol quema mas de lo expuesto.\nVengo de una tierra árida\,\nVengo de una tierra donde la lluvia se desea\,\nDonde las espinas en un tiempo fueron hojas\,\nVengo de un espacio donde cotidianamente me reinvento a través del color.\nEl último bastión donde uno se refugia.\nEl último bastión de resistencia.”]\n// Jimena Cambas Vaca \nCon “Ecos del Vacío” Luciana Bonavía mostrará un mundo informal y abstracto. Oscuridad\, silencio\, tensiones… el todo y la nada.\n“… (Nada\, dónde estás tú en medio de esta nada?)\ny de la nada se sugirió su impulso\nque incumbía a todo lo inexistente. \nY desde ese mismo estado inatómico\nescapó como gimiendo por el desahogo\ncomo estirándose\ntodo lo infinitamente misterioso\nde nuestra respiración.”\n(“Guitarra Negra”\, V; Luis Alberto Spinetta)\nCon “Ecos del Vacío” renace el espacio de un mundo informal abstracto. Se muestra su interioridad y permite ver la oscuridad\, no como algo sublime que nos supera si no que nos invita a reconocernos en ella. La ausencia es liberada por el pensamiento de la espontaneidad y a partir del silencio se estructura lo entrañable de la obra.\nPrecipicios que alertan fuerzas y direcciones; cromas de materias que instalan sitios. El todo\, la nada y una incógnita… ¿dónde estás vos?\n// Luciana Bonavía \nAdemás el día de la inauguración Mariquita Quiroga y Luciana Bonavía realizarán un dibujo digital conjunto en vivo.\nSon cuatro rutas\, entre tantas otras\, en un mismo espacio. Rutas sensibles e intensas para transitar\, atravesar\, indagar y descubrir..\nTexto: Andrea Rugnone \nPerformance: “Cronología del Silencio”\nMariquita Quiroga & Luciana Bonavía\n[ dj: Cristian Efe] \nArt Hall Howard Johnson\nLa moderna arquitectura del Hotel Howard Johnson ubicado sobre la mística Cañada\, auténtico punto de referencia del centro histórico\, cultural\, económico y financiero de nuestra Ciudad\, dispone sus espacios comunes para que BIEDERMEIER exponga pinturas y esculturas de artistas cordobeses con características contemporáneas. \nArpegio de Colores\nFabiana Rossi\, Mariquita Quiroga\, Jimena Cambas Vaca y Luciana Bonavia\nDel 15 de mayo al 30 de junio de 2013 \nProducción Artística:\nBiedermeier Galería de Arte \nArt Hall Howard Johnson La Cañada\nFigueroa Alcorta 20 – Córdoba \nPrensa Carlos M Díaz \n\n\n\n\n\n+ INFO
URL:https://fadla.org/calendario/arpegio-de-colores/
LOCATION:Art Hall del Hotel Howard Johnson La Cañada\, Figueroa Alcorta 20\, La Cañada\, Córdoba\, Argentina
CATEGORIES:Calendario
ATTACH;FMTTYPE=image/jpeg:https://fadla.org/wp-content/uploads/2019/01/arpegio-.jpg
END:VEVENT
BEGIN:VEVENT
DTSTART;VALUE=DATE:20130516
DTEND;VALUE=DATE:20130610
DTSTAMP:20260423T205723
CREATED:20190121T003929Z
LAST-MODIFIED:20190122T154743Z
UID:25015-1368662400-1370822399@fadla.org
SUMMARY:ExtremoSUR
DESCRIPTION:ExtremoSUR propone un viaje de iniciación por los campos blancos del extremo sur del planeta\, lugares etéreos de silencio y soledad pero diversos y llenos de vida. En la muestra se exhibe a la Antártida como un espacio donde las sutilezas y los matices del blanco interpelan la propia construcción de la forma y el color. La belleza salvaje del continente\, antiguamente habitado por pioneros\, cazadores de focas y ballenas\, tierra de narraciones fantásticas\, mitológicas y científicas\, hoy se presenta como un espacio de paz y reflexión profunda. \nMarcela García\, ha sabido retratar los paisajes y las texturas de los páramos y de las nieves eternas del volcán Chimborazo de su Ecuador natal. Con esa experiencia ha recorrido un largo viaje hasta el llamado fin del mundo impulsada por la aventura\, por la búsqueda del misterio que constituye ese punto extremo. \nSegún Milagros Aguirre la muestra “se acerca a la introspección\, al silencio profundo\, desde donde Marcela García contempla el paisaje intocado. Lo hace a través del lente de su cámara y se deja seducir por las sensuales curvas de los hielos\, por los blancos y grises\, por el vértigo\, por el asombro que producen los matices y el reflejo del paisaje montañoso en las profundidades de las aguas trocado en un cuadro abstracto. Aquí el paisaje se convierte en obra de arte\, las líneas y la luz juegan en la composición de la forma para que de estos espacios gélidos cobren la vida anímica que contienen en sí. La muestra es un viaje de aprendizaje\, un viaje interior que es también\, una aventura\, porque de eso también se trata Extremo Sur”. \nMarcela García\nExtremoSUR\nInauguración: jueves 16 de mayo a las 18 hs\nCierre: domingo 9 de junio\nSala 12 \nCentro Cultural Recoleta\nJunín 1930\nBuenos Aires – Argentina \n 
URL:https://fadla.org/calendario/extremosur/
LOCATION:Centro Cultural Recoleta\, Junín 1930\, CABA\, Argentina
CATEGORIES:Calendario
ATTACH;FMTTYPE=image/jpeg:https://fadla.org/wp-content/uploads/2019/01/ExtremoSur.jpg
END:VEVENT
BEGIN:VEVENT
DTSTART;VALUE=DATE:20130517
DTEND;VALUE=DATE:20130615
DTSTAMP:20260423T205723
CREATED:20190123T112901Z
LAST-MODIFIED:20190123T112901Z
UID:25058-1368748800-1371254399@fadla.org
SUMMARY:Lo exotérico del símbolo
DESCRIPTION:Para la artista plástica Elisa Legorreta Hernández un símbolo es la forma de expresar diversas realidades de la vida humana: ideas\, amores y desamores\, fracasos y triunfos\, historias reales e imaginarias\, bromas\, sueños\, lo natural y sobrenatural\, los recuerdos\, lo cotidiano y lo extraordinario\, es decir\, todo. \n¿Qué es un símbolo? La representación de una idea; un signo sin semejanza; pictografías con significado\, o posiblemente\, un medio de expresión al que se le atribuye un significado convencional. \nElisa Legorreta Hernández ha construido cada una de las 20 piezas que integran la muestra Lo exotérico del símbolo\, una reflexión en torno al símbolo “como un medio que permite la unión y comunicación entre las personas de diferentes épocas y razas\, un elemento que tiene una belleza tal que nos cautiva seamos de la cultura que seamos”\, detalló en entrevista con Conaculta la artista plástica. \nLa artista plástica cuenta con más de 30 años de trayectoria durante los cuales ha realizado más de 700 cuadros\, muebles y objetos pintados\, diseño de vitrales\, esculturas\, instalaciones\, objetos de arte\, murales e intervenciones fotográficas creadas para varios espacios públicos y privados de la ciudad de Monterrey\, Guadalajara\, Montreal\, Chicago\, Dallas\, Houston\, Miami\, Nueva York\, San Francisco\, Vail\, Santiago\, Sao Paulo y Zürich. \nAhora\, por quinta ocasión\, el trabajo de la también escultora –realizado entre 2011 y 2013– llega a la Ciudad de México para mostrar obras que destacan por dos elementos: un fuerte manejo del color y una técnica impecable en donde es notable el toque personal de la artista en encáustica con cera de abeja y pigmentos\, madera y encáustica\, grabado y repujado con relieve\, pintura sobre arena\, pigmentos con volumen y textiles. \nAsí el público encontrará en esta muestra diversas piezas que destacan por esos elementos y por expresar “la universalidad de los signos que permite unir a los seres humanos y mostrar cómo el arte también es una forma de asociación entre las personas mediante los signos que emplea”\, relató la artista quien complementa su labor artística como profesora. \nEntre las obras que se pueden ver en esta muestra se encuentran: Mano que expresa\, una pintura en color rojo que retrata el símbolo de paz hecho con la mano\, cuyo fondo es una serie de palabras negras que muestran el significado de paz en diferentes idiomas. \nContraste unido\, obra que plasma figuras de animales\, flores\, caras y figuras geométricas\, “arte figurativo como una forma de expresión antiquísima que toca la raíz sensible de cada persona y además muestra cómo se siguen usando las figuras para expresar la necesidad de comunicarse”\, refirió Elisa Legorreta Hernández. \nBúsqueda del valor\, pieza monocromática que aparenta ser un laberinto verde\, pero que en realidad es un laberinto de pigmento amarillo resultado de la mezcla de seis colores diferentes\, exclusivos de la artista. \nLa perfección de la vida es una obra tejida en lana que da forma a un círculo -detalló la artista- es el símbolo de perfección y de la vida “que remite a sus momentos fuertes\, sean buenos o no\, pero que nos llevan a un progreso ya que a pesar de todo la vida es siempre perfecta”. \nLas obras que se exhiben en Lo exotérico del símbolo se basan en una investigación teórica y están inspiradas en la historia de los símbolos\, principalmente de la cultura celta. Además de la iconografía de las letras griegas y latinas\, a las que se suma un poema de Pablo Neruda y una traducción en latín de la primera parte del Evangelio de San Juan. \n“Me interesé por el griego y latín porque creo que las palabras de ese idioma son gráficamente preciosas. También recurrí al diseño del calendario maya para reflejar en la pieza Tiempo plasmado la tendencia del hombre de siempre medir el tiempo\, de cuantificar su acontecer”\, destacó la también escritora. \nPara Elisa Legorreta Lo exotérico del símbolo es la oportunidad ideal para mostrar que el arte es belleza\, un producto agradable para el espectador\, quien al admirarlo será feliz y sentirá como las emociones lo invaden e invitan a conocer\, acercarse y comunicarse con otras personas. \n“Con esta muestra voy a reflejar cómo el arte contemporáneo es la esencia de la belleza\, elemento que para mí da vida a una obra. Con ella voy a ir más allá de lo convencional y trataré de que mis obras toquen los sentidos\, inteligencia y principalmente el espíritu de cada una de las personas que vengan a verla”\, añadió la artista. \nLa creadora expresó que con esta exposición espera despertar en el público su interés por el arte mexicano que no es exclusivo para un crítico de arte o un coleccionista\, sino que puede ser apreciado por cualquier persona\, “ya que el arte es accesible a todos porque es parte de nuestra naturaleza y esencia”. \nLo exotérico del símbolo podrá visitarse a partir de este viernes 17 de mayo y hasta el 14 de junio de 9:00 a 18:00 horas en el mezzanine de la Bolsa Mexicana de Valores\, Paseo de la Reforma 255\, colonia Cuauhtémoc. \nLo exotérico del símbolo\nDel 17 de mayo al 14 de junio de 2013 \nBolsa Mexicana de Valores\nPaseo de la Reforma 255\, Colonia Cuauhtémoc\nMéxico \nLCL\nMéxico / Distrito Federal\nPrensa Conaculta \n+ INFO
URL:https://fadla.org/calendario/lo-exoterico-del-simbolo/
LOCATION:Bolsa Mexicana de Valores\, Paseo de la Reforma 255\, Colonia Cuauhtémoc\, Ciudad de México\, Mexico
CATEGORIES:Calendario
ATTACH;FMTTYPE=image/png:https://fadla.org/wp-content/uploads/2019/01/elisa.png
END:VEVENT
BEGIN:VEVENT
DTSTART;VALUE=DATE:20130518
DTEND;VALUE=DATE:20130615
DTSTAMP:20260423T205723
CREATED:20190123T031934Z
LAST-MODIFIED:20190123T032000Z
UID:25035-1368835200-1371254399@fadla.org
SUMMARY:Anthony Arrobo - Tú y Yo
DESCRIPTION:Tú y Yo da cabida a las dos líneas de investigación desarrolladas paralelamente por Anthony Arrobo en los últimos tres años y la contradicción aparente que suponen entre sí. \nArrobo se ha posicionado en la escena local e internacional con obras de una sobriedad impactante\, en donde la sencillez del gesto converge con la pureza formal. \nEn Do not touch (2010)\, su primera muestra individual\, reflexiona mediante  juegos estéticos sobre el sentido que la Historia del Arte ha concedido a ciertos  materiales “tradicionales”. En obras como Red Curtain\, telón de teatro hecho íntegramente de láminas de pintura roja\, aborda la relación –tradicionalmente pasiva– del espectador con el género pictórico. De igual manera ocurre en Nudes\, en la que telas hechas de pintura blanca visten parcialmente un conjunto de bastidores\, dejando desnudas ciertas partes de la madera\, en clara alusión al desnudo como género protagónico en la Historia del Arte que fijó los ideales de belleza. \nNudes replantea el lugar de la pintura como medio y\, de la misma forma que Red Curtain\,White Fabrics o Ghosts\, cuestiona el comportamiento convencional del material\, desplazándolo de su rol de medio para convertirlo en el objeto en sí. Estas estrategias remiten al impulso modernista de explorar los medios que definen la práctica artística desde un acercamiento a cierta estética formalista de los cincuentas y sesentas\, a su vez que generan una aproximación actual del recurso del trompe d’oeil\, caractéristico de la pintura tradicional. \nEste recurso se encuentra también en Twins donde persiste la intención de jugar con los materiales y componentes de aquello que la tradición definió como “obra de arte”. La pieza\, consistente de dos esferas gemelas de grafito\, remite a la búsqueda de la mímesis como compromiso y justificación del arte\, a través del rol fundamental que tuvo el dibujo\, antes de la aparición de las nuevas tecnologías. \nEn estas obras el espectador es seducido no solo por el trastoque de la función tradicional del material\, sino por la apelación del rol convencional de la obra frente a la Historia del Arte e\, inclusive\, del papel que ha desempeñado el espectador en esa Historia. \nComo en Twins\, en la serie Papers el medio es redefinido\, ahora con minas de grafito que se convierten en soporte y protagonista de la obra. \nA partir de coquetos guiños al formalismo y a determinadas manifestaciones artísticas como el posminimalismo\, Arrobo usa convenciones visuales preexistentes de la conciencia estética culta. En su segunda muestra individual\, titulada Liliput (2011)\, estas referencias empiezan a desvanecerse. Las obras que la componen apuntan a la capacidad metafórica de los gestos. Layersland es un mundo de pequeñas torres de colores\, en el que Arrobo traslada el lugar natural del acto pictórico al margen del papel\, en un acto “menor” a través del cual\, según Lupe Álvarez\, curadora de la muestra\, el autor proponía con sutileza “el repliegue hacia lo primordial\, la necesidad de desandar el espacio sobrecodificado para ir hacia ese campo sin ‘ley’”. \nHeartbeats es una fotografía donde aparecen en el firmamento 112\,320 estrellas correspondientes al número de latidos del corazón del artista durante un día; ésta es\, quizá\, la obra que mejor muestra el quiebre entre su primera producción y una obra en la que el artista se coloca a sí mismo como sujeto de experimentación. \nSe revela\, entonces\, una carga poética mucho más íntima pues\, alejándose de la preocupación por lo objetual de sus búsquedas primigenias\, Arrobo se posiciona como centro. Tal es el caso de la reciente pieza Radio\, un dibujo sobre pared\, en la que el artista traza la medida de su radio. Una alusión minimal al hombre de Vitrubio de Da Vinci\, que se aparta del propósito de universalidad que intentaba aquél para privilegiar el gesto íntimo desde lo biográfico. \nEn obras como Horizonte Invisible\, recrea un horizonte utilizando la sombra de un hilo nylon pintado de blanco\, del cual\, a cierta distancia\, solo es perceptible su sombra. Aquí\, el artista vuelve a hablar del dibujo y la pintura como medio\, de la línea como aquello que fija\, marca\, divide\, y que es\, además\, esqueleto de la pintura y del lugar del espectador\, pero esta vez desde un sutil gesto que ha renunciado a aquella  grandiosidad de sus primeros trabajos. Por su parte\, Confeti\, forma parte de la bienvenida de la exposición Tú y Yo\, donde Anthony Arrobo recibe a los espectadores con un estallido de diminutos papeles de colores\, en los que\, como ofrenda efímera\, dedica poemas de amor impresos en ellos. \nDe estas últimas obras es posible intuir el anuncio entusiasta del lugar de las nuevas exploraciones del artista.
URL:https://fadla.org/calendario/anthony-arrobo-tu-y-yo/
LOCATION:Fundación Teatro Odeón\, Carrera 5 # 12C - 85\, Bogotá\, Bogotá\, Colombia
CATEGORIES:Calendario
ATTACH;FMTTYPE=image/jpeg:https://fadla.org/wp-content/uploads/2019/01/inv_mayo.jpg
END:VEVENT
BEGIN:VEVENT
DTSTART;VALUE=DATE:20130529
DTEND;VALUE=DATE:20130608
DTSTAMP:20260423T205723
CREATED:20190123T093445Z
LAST-MODIFIED:20190123T094012Z
UID:25039-1369785600-1370649599@fadla.org
SUMMARY:Veladas surrealistas
DESCRIPTION:Entre el 29 de mayo y el 7 de junio se realizarán cuatro jornadas en que personalidades relacionadas al movimiento surrealista chileno\, participarán en instancias de diálogo e intercambio a través de sus propias miradas\, tal como lo hicieran en su momento\, artistas como André Breton\, Jean Arp o René Magritte. \nLa idea de realizar estas veladas surge de una alianza de trabajo entre la DIBAM\, la Biblioteca Nacional de Chile y el Museo Nacional de Bellas Artes a partir de la exposición Papeles Surrealistas. Dibujos y pinturas del surrealismo en las Colecciones del MNBA y la mesa redonda que acompañaría la muestra. Soledad Novoa\, curadora del Museo Nacional de Bellas Artes\, explica que debido a que la exposición tiene un enfoque histórico es significativo poder contar con la presencia de testigos privilegiados y protagonistas de algunas de las acciones asociadas al surrealismo y a una serie de «espacios de libertad creativa» que se generaron en Santiago a fines de los años 60. De ahí la invitación a Ludwig Zeller y Susana Wald\, actualmente residentes en México\, quienes viajarán para participar en las actividades. \nPara Daniela Correa\, Jefa del Departamento de Cultura y Comunicaciones de la Biblioteca Nacional\, el movimiento surrealista chileno ha sido incorporado a las celebraciones de los 200 años de la Biblioteca por sus características tanto artísticas como literarias y ha permitido el trabajo en conjunto con el MNBA. Ludwig Zeller y Susana Wald conversarán con Alfredo Lewin en el ciclo Libro Abierto y revivirán el espíritu surrealista con una tarde de lectura poética junto al artista Samuel Ibarra\, en actividades que se realizarán en sus dependencias. \n«Veladas Surrealistas no sólo nos permite hacer un guiño al movimiento y al surrealismo chileno encarnado por el grupo La Mandrágora\, sino también transmitir al público que esta serie de actividades están vinculadas entre sí\, dando cuenta de un estado de ánimo\, un pulso\, una disposición que no da cosas por sentadas sino que busca la participación y la discusión» explica Soledad Novoa. \nPROGRAMA:\nMIÉRCOLES 29 de mayo: Presentación del catálogo de la exposición y Mesa Redonda Papeles Surrealistas \nParticipantes: Ludwig Zeller\, Susana Wald\, Luis de Mussy\, Grupo Derrame (Enrique de Santiago y Rodrigo Hernández Piceros) y Soledad Novoa. \n18:30 – 21:30 | Salón José Miguel Blanco | MNBA \nMIÉRCOLES 5 de junio: Libro abierto; entrevista pública con Alfredo Lewin \nParticipantes: Ludwig Zeller y Susana Wald. \n19.30 | Sala América | Biblioteca Nacional \nJUEVES 6 de junio: Lectura poética Ludwig Zeller \nParticipantes: Ludwig Zeller y Samuel Ibarra. \n19.30 | Sala América | Biblioteca Nacional \nVIERNES 7 de junio: Lanzamiento del libro «El espectro de René Magritte»\, poemas de Enrique Gómez-Correa y dibujos de René Magritte. Publicado por Mandrágora Ediciones. \nParticipantes: Ludwig Zeller\, Cristián Warnken\, Oscar Ríos\, Xavier Gómez y Marcelo Mendoza. \nOriginalmente programado en el Salón José Miguel Blanco se cambió a la Sala América de la Biblioteca Nacional\, a las 18:00 horas \nTodas las actividades son gratuitas y abiertas al público. \n+ INFO
URL:https://fadla.org/calendario/veladas-surrealistas/
LOCATION:Museo Nacional de Bellas Artes\, Parque Forestal s/n\, Santiago\, Santiago\, Chile
CATEGORIES:Calendario
ATTACH;FMTTYPE=image/jpeg:https://fadla.org/wp-content/uploads/2019/01/art-archivo_01.jpg
END:VEVENT
BEGIN:VEVENT
DTSTART;VALUE=DATE:20130529
DTEND;VALUE=DATE:20130706
DTSTAMP:20260423T205723
CREATED:20190219T165947Z
LAST-MODIFIED:20190219T171119Z
UID:25789-1369785600-1373068799@fadla.org
SUMMARY:Epifanías en claves diversas
DESCRIPTION:EPIFANÍAS EN CLAVES DIVERSAS\ndibujos\, tintas\, gouaches y acuarelas \nInaugura Miércoles 29 a las 19hs. \nSusana Raffo nos presenta una serie de Dibujos en pequeño formato: tintas\, gouaches\, acuarelas  y técnicas combinadas\, realizados en los últimos años. El fluido tratamiento de las texturas y materiales\, junto a una sólida composición formal generan imágenes de tónica surreal y una atmósfera que nos hace pensar a través de las sensaciones. \n\n..los personales dibujos de Susana Raffo\, de impecable realización\, nos muestra una imagen muy singular de hermética  poesía y fervorosa imaginación.                                                                      \n\nEntrada libre y gratuita.
URL:https://fadla.org/calendario/epifanias-en-claves-diversas/
LOCATION:Galería del lRestó\, Montevideo 938\, CABA\, Buenos Aires\, Argentina
CATEGORIES:Calendario
ATTACH;FMTTYPE=image/jpeg:https://fadla.org/wp-content/uploads/2019/02/Raffo-1-800x600.jpg
END:VEVENT
END:VCALENDAR