BEGIN:VCALENDAR
VERSION:2.0
PRODID:-//FADLA - ECPv6.15.20//NONSGML v1.0//EN
CALSCALE:GREGORIAN
METHOD:PUBLISH
X-ORIGINAL-URL:https://fadla.org
X-WR-CALDESC:Eventos para FADLA
REFRESH-INTERVAL;VALUE=DURATION:PT1H
X-Robots-Tag:noindex
X-PUBLISHED-TTL:PT1H
BEGIN:VTIMEZONE
TZID:America/Sao_Paulo
BEGIN:STANDARD
TZOFFSETFROM:-0200
TZOFFSETTO:-0300
TZNAME:-03
DTSTART:20110220T020000
END:STANDARD
BEGIN:DAYLIGHT
TZOFFSETFROM:-0300
TZOFFSETTO:-0200
TZNAME:-02
DTSTART:20111016T030000
END:DAYLIGHT
BEGIN:STANDARD
TZOFFSETFROM:-0200
TZOFFSETTO:-0300
TZNAME:-03
DTSTART:20120226T020000
END:STANDARD
BEGIN:DAYLIGHT
TZOFFSETFROM:-0300
TZOFFSETTO:-0200
TZNAME:-02
DTSTART:20121021T030000
END:DAYLIGHT
BEGIN:STANDARD
TZOFFSETFROM:-0200
TZOFFSETTO:-0300
TZNAME:-03
DTSTART:20130217T020000
END:STANDARD
BEGIN:DAYLIGHT
TZOFFSETFROM:-0300
TZOFFSETTO:-0200
TZNAME:-02
DTSTART:20131020T030000
END:DAYLIGHT
BEGIN:STANDARD
TZOFFSETFROM:-0200
TZOFFSETTO:-0300
TZNAME:-03
DTSTART:20140216T020000
END:STANDARD
BEGIN:DAYLIGHT
TZOFFSETFROM:-0300
TZOFFSETTO:-0200
TZNAME:-02
DTSTART:20141019T030000
END:DAYLIGHT
END:VTIMEZONE
BEGIN:VEVENT
DTSTART;VALUE=DATE:20121209
DTEND;VALUE=DATE:20130318
DTSTAMP:20260424T024734
CREATED:20190716T131149Z
LAST-MODIFIED:20190716T131149Z
UID:26634-1355011200-1363564799@fadla.org
SUMMARY:CONTRALUZ
DESCRIPTION:La exposición reúne 40 fotografías inéditas de la serie “Contraluz” y una antología de sus 30 años de trabajo\, que suman un total de 350 obras de diferentes formatos y técnicas.\nEste artista ha jugado un papel esencial en la definición de los estilos e imagen de algunos de los más importantes creadores madrileños: Pedro Almodovar\, Alaska\, Sybilla\, Alex de la Iglesia\, Jesús del Pozo.\nÉsta es la primera ocasión que el trabajo de Juan Gatti va a poder contemplarse y estudiarse de una manera autónoma de dos formas distintas: una retrospectiva de su trabajo aplicado al trabajo de otros creadores y en segundo lugar a través de Contraluz\, su proyecto personal en el que por primera vez muestra un trabajo artístico absolutamente personal como obra no aplicada a otro trabajo ajeno.\nJuan Gatti ha recibido en España el Premio Nacional de Diseño 2004 y la Medalla de Oro al Mérito de las Bellas Artes en 2010. \nLa exposición \nContraluz supone la primera gran muestra de este artista argentino que desde 1980 fija su residencia en Madrid y deja así atrás una extensa trayectoria de su trabajo durante la década del setenta en la Argentina\, donde se lo recuerda especialmente por sus tapas de Rock.\nA lo largo de esas tres décadas y hasta la actualidad\, Juan Gatti ha sido y es una de las figuras clave en la configuración de la imagen de la cultura en España a través de los diversos ámbitos de la creación artística en los que ha participado: la música\, el cine\, la moda y\, sobre todo\, el diseño gráfico y la fotografía.\nEl montaje que se puede ver en la sala está concebido de forma dual: una parte introductoria al trabajo de los últimos treinta años en todas sus disciplinas posibles y una segunda parte dedicada a Contraluz\, un trabajo personal que\, por primera vez en su trayectoria\, se concibe exento de la aplicación a otro medio.\nLa parte antológica tiene como objetivo hacer un repaso por el rico universo del diseñador a través de los diferentes campos en los que ha trabajado\, desde la fotografía de moda\, la fotografía editorial\, el diseño aplicado a objetos\, el diseño gráfico\, el diseño de carteles para cine\, las piezas de títulos de crédito de cine\, la dirección de arte de las revistas de moda y otro tipo de ámbitos donde se ha desarrollado el trabajo creativo de este autor. Se podrán ver imágenes de las campañas como las que realizó para Sybilla\, Jesús del Pozo\, Zara\, Loewe y Purificación García y los carteles que ha desarrollado\, a partir de 1988\, para las películas de Pedro Almodóvar: Mujeres al borde de un ataque de nervios\, Átame\, Tacones lejanos\, Hablé con ella\, La mala educación\, Volver\, Los abrazos rotos y La piel que habito\, entre otras. \nLa otra parte\, que da título a la exposición\, Contraluz\, es su trabajo más personal\, que aparece de una manera compacta. Utilizando la estética del fotograma\, las imágenes aparecen nítidamente recortadas sobre un fondo negro configurando un universo unitario en el que la luz aparece y da sentido a las formas. Aquí\, la iconografía de Juan Gatti\, que normalmente ha estado asociada a la que propiamente él mismo ha usado en trabajos editoriales\, se amplía y los objetos logran tener la misma entidad que el propio ser humano pues a ambos es la luz la que les da sentido como forma visual.\nContraluz hay que entenderla como una obra absoluta compuesta por diferentes golpes visuales\, por diferentes imágenes que logran crear una galaxia propia que es la que conforma el universo visual de Juan Gatti.\nEsta obra se complementa y culmina con el trabajo audiovisual que se podrá ver en el Planetario con el título de “Contraluz\, Sound + Vision”. \nMuseo Sívori\, avenida Infanta Infanta Isabel 555\, frente al puente del Rosedal\, Parque Tres de Febrero.\nHorario de la muestra Contraluz: martes a viernes de 12 a 20. Sábados\, domingos y feriados de 10 a 20. Entrada: $1 (excepto los días miércoles y sábado que es gratuita).\nPlanetario “Galileo Galilei”\, avenida Sarmiento y Belisario Roldán.\nHorario de exhibición de Contraluz\, Sound + Vision: sábados y domingos a las 20. Entrada: $20.\nLa presencia de Juan Gatti en Buenos Aires se completa con la muestra Ciencias Naturales en el Centro Cultural de España de España en Buenos Aires\, Paraná 1159\, desde el 28 de noviembre hasta inicios del 2013. \n+ INFO
URL:https://fadla.org/calendario/contraluz/
LOCATION:Museo de Artes Plásticas Eduardo Sívori\, Av. Infanta Isabel 555\, CABA\, Buenos Aires\, Argentina
CATEGORIES:Calendario
ATTACH;FMTTYPE=image/jpeg:https://fadla.org/wp-content/uploads/2019/07/Juan-Gatti-Caballo-800x6001.jpg
END:VEVENT
END:VCALENDAR