BEGIN:VCALENDAR
VERSION:2.0
PRODID:-//FADLA - ECPv6.15.20//NONSGML v1.0//EN
CALSCALE:GREGORIAN
METHOD:PUBLISH
X-ORIGINAL-URL:https://fadla.org
X-WR-CALDESC:Eventos para FADLA
REFRESH-INTERVAL;VALUE=DURATION:PT1H
X-Robots-Tag:noindex
X-PUBLISHED-TTL:PT1H
BEGIN:VTIMEZONE
TZID:America/Sao_Paulo
BEGIN:STANDARD
TZOFFSETFROM:-0200
TZOFFSETTO:-0300
TZNAME:-03
DTSTART:20110220T020000
END:STANDARD
BEGIN:DAYLIGHT
TZOFFSETFROM:-0300
TZOFFSETTO:-0200
TZNAME:-02
DTSTART:20111016T030000
END:DAYLIGHT
BEGIN:STANDARD
TZOFFSETFROM:-0200
TZOFFSETTO:-0300
TZNAME:-03
DTSTART:20120226T020000
END:STANDARD
BEGIN:DAYLIGHT
TZOFFSETFROM:-0300
TZOFFSETTO:-0200
TZNAME:-02
DTSTART:20121021T030000
END:DAYLIGHT
BEGIN:STANDARD
TZOFFSETFROM:-0200
TZOFFSETTO:-0300
TZNAME:-03
DTSTART:20130217T020000
END:STANDARD
BEGIN:DAYLIGHT
TZOFFSETFROM:-0300
TZOFFSETTO:-0200
TZNAME:-02
DTSTART:20131020T030000
END:DAYLIGHT
END:VTIMEZONE
BEGIN:VEVENT
DTSTART;VALUE=DATE:20120824
DTEND;VALUE=DATE:20121016
DTSTAMP:20260424T101600
CREATED:20200403T220311Z
LAST-MODIFIED:20200403T221031Z
UID:27518-1345766400-1350345599@fadla.org
SUMMARY:SILENCIO LINEAL
DESCRIPTION:Integrante del GRUPO POSITION\, creado en París en 1971\, junto a los maestros Asís\, Demarco\, Durante\, García Rossi\, y Fabra -Pertenecientes al GROUPE DE RECHERCHE D’ART VISUEL dedicados a la experimentación sinética-; y también uno de los principales exponentes del movimiento de ARTISTES LATINO-AMERICAINS DE PARIS -Junto a los maestros Cruz Diez\, Demarco\, Paternosto\, Jesús-Raphaël Soto\, Segui\, Silva\, Sobrino\, Tomasello\, Vanarsky\, Vardanega\, y otros de reconocida trayectoria-; hoy\, LEOPOLDO TORRES AGÜERO (1924/1995) nos deslumbra con su ARTE GEOMÉTRICO SENSIBLE (‘Único en su técnica de chorreadura lineal por gravitación’\, lograda en estados de meditación Zen)\, en el fastuoso y silencioso marco del Paseo de las Artes del Palacio Duhau. \nLa selección de diez y ocho obras que se exponen\, realizadas en acrílico sobre tela\, incluye: ‘Unión del Cielo y de la Tierra’ -en homenaje al maestro Torres García- ; dos premios Morel\, ‘Disco Solar Diaguita’ y ‘Azul con línea amarilla’; ‘Tálamo Uyuna’ -premio Palanza 1985-; dos trípticos de 200×390 ‘Cuerdas para Norma Sánchez’ y ‘Trilogía’; y su paradigmática obra póstuma ‘El Templo’\, -tríptico de 300×300 realizado en 1995 un mes antes de su muerte- y cuya ‘única’ exhibición fuera en el Museo Nacional de Bellas Artes de Buenos Aires en 1997. \nLa Sra. Monique Rozanes de Torres Agüero\, ha hecho posible hacer pública esta valiosa selección retrospectiva geométrica ‘inédita’; y también nos deleita integrando la muestra ‘Silencio Lineal’\, con siete de sus esculturas en Altuglas. Dos imponentes ‘Gigantes Samuráis’ de dos metros cincuenta de altura\, y otras cinco obras realizadas en París gravitan y orbitan geométricamente en absoluto diálogo con la obra del Maestro Leopoldo Torres Agüero\, a quién ella acompañara hasta sus últimos momentos… \nDesde el próximo Viernes 24 y hasta el 15 de octubre\, en el Palacio Duhau Hyatt Park Buenos Aires\, se podrá visitar la muestra de pinturas «Silencio Lineal» del maestro Leopoldo Torres Agüero. Con curaduría de la Fundación Torres Agüero Rozanes\, La entrada es libre y gratuita y el ingreso es por Avenida Alvear 1661. Buenos Aires. \n+ INFO
URL:https://fadla.org/calendario/silencio-lineal/
LOCATION:Palacio Duhau – Park Hyatt Buenos Aires\, Avda. Alvear\, 1661\, CABA\, Buenso Aires\, Argentina
CATEGORIES:Calendario
ATTACH;FMTTYPE=image/jpeg:https://fadla.org/wp-content/uploads/2020/04/Leopoldo_Torres_Agueero_en_el_Palacio_Duhau_nota.jpg
END:VEVENT
BEGIN:VEVENT
DTSTART;VALUE=DATE:20120906
DTEND;VALUE=DATE:20121015
DTSTAMP:20260424T101600
CREATED:20210425T202411Z
LAST-MODIFIED:20210425T202411Z
UID:32434-1346889600-1350259199@fadla.org
SUMMARY:JOSEFINA ROBIROSA
DESCRIPTION:Sorprendente. Así podemos definir la actual muestra de Josefina Robirosa en la sala Cronopios del Centro Cultural Recoleta; una explosión de alegría y libertad que transmite la esencia misma de la artista. \nRobirosa es hoy por hoy una de las referencias ineludibles del patrimonio de las artes visuales en nuestro país. Sus pinturas la representan de un modo indivisible tanto a ella como a nuestro arte contemporáneo. Su trayectoria se remonta hacia la década de los 50\, momento de convulsiones e inquietudes en todas las disciplinas encaradas por el hombre. Hija de este momento creativo\, Robirosa muestra a temprana edad su carácter poiético. No obstante\, su búsqueda particular la ha llevado a no estar inscripta en ningún movimiento artístico\, ella siempre ha buscando un camino propio\, un territorio sin mapa recorrido a tientas y a fuerza de experimentación. \nSus pinturas abstractas nos interpelan y nos provocan\, desde el lirismo\, a encarar un trabajo personal donde cada uno debe sumergirse en las formas\, en su propia sensibilidad\, en un confuso y productivo paisaje dado por los nudos del revés de la trama y de las significaciones. El misterio de la forma y el enigma de las líneas emergen constantemente de la obra de la artista. La figura y el fondo se intercambian en un juego cromático donde los estímulos visuales nos llevan por paseos oníricos. La obra reciente de la artista sigue encontrando espacios de expansión y transfiguración en un diálogo constante con la forma y el volumen. \nRobirosa ha expuesto en los espacios más importantes de la vanguardia artística\, se ha destacado en su paso por el Instituto Di Tella\, su obra está presente en diversos espacios públicos como el subterráneo de Buenos Aires o la Estación Argentina del metro de París. En esta oportunidad la sala Cronopios contará nuevamente con su presencia\, pero en este caso con un segmento dedicado a una retrospectiva revisitada de su obra donde se podrán observar 26 pinturas de la serie ‘Bosques’\, cuatro obras circulares\, cuatro artefactos esféricos y la obra ‘Dos hombres en chapa’ realizada en dos láminas de metal de 2 x 2 m. Por otro lado se expondrá lo más destacado de su obra reciente compuesta por diez obras de la serie ‘Polípticos’\, y una instalación especialmente pensada para esta muestra donde 57 pájaros tridimensionales estarán dispuestos en el espacio aéreo de la sala provocando una expansión simbólica extramuros.
URL:https://fadla.org/calendario/josefina-robirosa/
LOCATION:Centro Cultural Recoleta\, Junín 1930\, CABA\, Buenos Aires\, Argentina
ATTACH;FMTTYPE=image/jpeg:https://fadla.org/wp-content/uploads/2021/04/josefina-robirosa-2.jpeg
END:VEVENT
END:VCALENDAR