BEGIN:VCALENDAR
VERSION:2.0
PRODID:-//FADLA - ECPv6.15.20//NONSGML v1.0//EN
CALSCALE:GREGORIAN
METHOD:PUBLISH
X-ORIGINAL-URL:https://fadla.org
X-WR-CALDESC:Eventos para FADLA
REFRESH-INTERVAL;VALUE=DURATION:PT1H
X-Robots-Tag:noindex
X-PUBLISHED-TTL:PT1H
BEGIN:VTIMEZONE
TZID:America/Sao_Paulo
BEGIN:STANDARD
TZOFFSETFROM:-0200
TZOFFSETTO:-0300
TZNAME:-03
DTSTART:20110220T020000
END:STANDARD
BEGIN:DAYLIGHT
TZOFFSETFROM:-0300
TZOFFSETTO:-0200
TZNAME:-02
DTSTART:20111016T030000
END:DAYLIGHT
BEGIN:STANDARD
TZOFFSETFROM:-0200
TZOFFSETTO:-0300
TZNAME:-03
DTSTART:20120226T020000
END:STANDARD
BEGIN:DAYLIGHT
TZOFFSETFROM:-0300
TZOFFSETTO:-0200
TZNAME:-02
DTSTART:20121021T030000
END:DAYLIGHT
BEGIN:STANDARD
TZOFFSETFROM:-0200
TZOFFSETTO:-0300
TZNAME:-03
DTSTART:20130217T020000
END:STANDARD
BEGIN:DAYLIGHT
TZOFFSETFROM:-0300
TZOFFSETTO:-0200
TZNAME:-02
DTSTART:20131020T030000
END:DAYLIGHT
END:VTIMEZONE
BEGIN:VEVENT
DTSTART;VALUE=DATE:20120720
DTEND;VALUE=DATE:20120806
DTSTAMP:20260424T132514
CREATED:20190201T034805Z
LAST-MODIFIED:20190201T034805Z
UID:25343-1342742400-1344211199@fadla.org
SUMMARY:“Norberto Onofrio\, Protectores y otras yerbas”
DESCRIPTION:“Protectores y otras yerbas” presenta obras realizadas entre 1970 y 2007 y cuyos temas centrales giran entorno a la representación de la violencia durante los años de plomo y sobre escenas de la vida cotidiana del hampa. \nLos gánsteres de la serie “Protectores…” son arquetipos: sus rasgos físicos\, trajes impecables y venganzas implacables. Parecen salidos directamente de la película El Padrino o de algún tango malevo. Las pinturas de Georges Grosz y de su decadente Weimar se nos vienen a la mente\, y por ahí también asoma “Tango”\, la única aventura del Corto Maltes de Hugo Pratt en tierras porteñas. \nAutodidacta\, Onofrio se dedicó al gravado entre 1951 y 1979\, fecha en la que se inicia a la escritura\, el dibujo\, la escultura y la decoración. El blanco y negro de sus ilustraciones recuerda al historietista francés Tardi con una pizca de “Rebelión en la granja” de Georges Orwell. Los represores tienen cara de cerdo\, el recurso de la animalización de los rostros funciona como metáfora de la violencia política de los años 70.  Se exponen asimismo plantillas de estarcir (ancestro del esténcil urbano) y unos minuciosos xilograbados dignos de un artista orfebre.
URL:https://fadla.org/calendario/norberto-onofrio-protectores-y-otras-yerbas/
LOCATION:Museo Sívori\, Paseo de la Infanta Isabel – Palermo\, CABA\, CABA\, Argentina
CATEGORIES:Calendario
ATTACH;FMTTYPE=image/jpeg:https://fadla.org/wp-content/uploads/2019/01/Los-protectores-y-otras-yerbas-59134.jpg
END:VEVENT
END:VCALENDAR