BEGIN:VCALENDAR
VERSION:2.0
PRODID:-//FADLA - ECPv6.15.20//NONSGML v1.0//EN
CALSCALE:GREGORIAN
METHOD:PUBLISH
X-ORIGINAL-URL:https://fadla.org
X-WR-CALDESC:Eventos para FADLA
REFRESH-INTERVAL;VALUE=DURATION:PT1H
X-Robots-Tag:noindex
X-PUBLISHED-TTL:PT1H
BEGIN:VTIMEZONE
TZID:America/Sao_Paulo
BEGIN:STANDARD
TZOFFSETFROM:-0200
TZOFFSETTO:-0300
TZNAME:-03
DTSTART:20110220T020000
END:STANDARD
BEGIN:DAYLIGHT
TZOFFSETFROM:-0300
TZOFFSETTO:-0200
TZNAME:-02
DTSTART:20111016T030000
END:DAYLIGHT
BEGIN:STANDARD
TZOFFSETFROM:-0200
TZOFFSETTO:-0300
TZNAME:-03
DTSTART:20120226T020000
END:STANDARD
BEGIN:DAYLIGHT
TZOFFSETFROM:-0300
TZOFFSETTO:-0200
TZNAME:-02
DTSTART:20121021T030000
END:DAYLIGHT
BEGIN:STANDARD
TZOFFSETFROM:-0200
TZOFFSETTO:-0300
TZNAME:-03
DTSTART:20130217T020000
END:STANDARD
BEGIN:DAYLIGHT
TZOFFSETFROM:-0300
TZOFFSETTO:-0200
TZNAME:-02
DTSTART:20131020T030000
END:DAYLIGHT
END:VTIMEZONE
BEGIN:VEVENT
DTSTART;VALUE=DATE:20120309
DTEND;VALUE=DATE:20120409
DTSTAMP:20260424T193014
CREATED:20210911T231441Z
LAST-MODIFIED:20210911T231503Z
UID:33320-1331251200-1333929599@fadla.org
SUMMARY:Mario Gurfein - Los 365…
DESCRIPTION:Hasta el 8 de abril se puede visitar la muestra Los 365… de Mario Gurfein\, artista argentino radicado en París. Hoy visita su ciudad natal para presentar en la sala J del Centro Cultural Recoleta una excepcional muestra que fue exhibida durante el 2011 en la Galería Argentina de París. Gracias a el apoyo de la Embajada de Francia y el Gobierno de la Ciudad de Buenos Aires hoy la recibimos en nuestra ciudad porteña. \nLa misma consiste en 365 cuadros de pequeño formato (10×10 cm.)\, uno por cada día del año\, pintadas con la misma técnica con la que Gurfein pinta sus grandes telas\, óleo y tempera caseína. La creación de esta agenda visual significó para el artista un gran desafío que consistió en un intenso y meticuloso trabajo. \nMario Gurfein tras su largo recorrido ha logrado una gran trayectoria tanto en Europa como aquí en Argentina. En 1997 el Centro Cultural Recoleta le dedicó una retrospectiva montada en la sala Cronopios “Itinerarios”\, y en 2004 expuso en el Museo Nacional de Bellas Artes una muestra antológica “Como en los sueños”. \nGurfein utiliza la técnica italiana del Renacimiento: tempera\, caseína y óleo; lo que da una luminosidad particular a sus trabajos. Por lo general\, sus obras consisten en pinturas de grandes formatos\, además de esculturas y objetos. En esta oportunidad\, el artista presenta 365 obras que conforman un calendario visual\, días manifestados en obra pictórica que permiten un lúdico recorrido para el visitante. \nMás info: \nCentro Cultural Recoleta – Sala J \nLunes a viernes de 14 a 21 hs. \nSábados\, domingos y feriados de 10 a 21 hs.
URL:https://fadla.org/calendario/mario-gurfein-los-365/
LOCATION:CCR | Centro Cultural Recoleta\, Junín 1930\, Ciudad Autónoma de Buenos Aires\, Argentina
ATTACH;FMTTYPE=image/jpeg:https://fadla.org/wp-content/uploads/2021/09/Mario_Gurfein_nota.jpeg
END:VEVENT
END:VCALENDAR